{"text_format":"1","workbook":"xlsx","n_sheets":20,"sheets":["ID-Nummern","Importtabelle","Profiltabelle","Kurs1","Kurs2","Kurs3","Kurs4","Kurs5","Kurs6","Kurstabelle","Liste 1","Liste 2","Liste 3","Liste 4","Liste 5","Liste 6","Kurse","Export","Ergebnis","Unterrichtsliste"],"not_rendered":{"charts":8,"images":0,"macros":1,"external_links":0,"defined_names":8,"comments":0,"pivot_tables":0},"unopened":[],"bounds":{"document_bytes":16777216,"sheet_cells":100000,"rows_first":2000,"rows_last":500,"rows_between":2000,"halvings":0,"cell_chars":16384,"cell_head_chars":4096},"cells_cut":0,"cells_raw":0,"read":"whole","date_system":"1900"}

{"sheet":"ID-Nummern","index":0,"n_rows":151,"n_cols":16,"rows_kept":151,"cut":false,"hidden":false,"merged":[]}
[{"$f":"INT(RAND()*10000)+1","v":5166},{"$f":"MIN(A1:A150)","v":46},null,null,"Zusammengesetzter Name","Untis-Name","Vorname","Name","Klasse","Id-Nummer"]
[{"$f":"INT(RAND()*10000)+1","v":46},{"$f":"IF(SMALL(A$1:A$150,ROW())<=B1,B1+1,SMALL(A$1:A$150,ROW()))","v":149},null,1,null,null,null,null,null,null,{"$f":"H2","v":0}]
[9579,{"$f":"IF(SMALL(A$1:A$150,ROW())<=B2,B2+1,SMALL(A$1:A$150,ROW()))","v":185},null,2,null,null,null,null,null,null,{"$f":"H3","v":0}]
[9970,186,null,3,null,null,null,null,null,null,0,null,"1. Erzeugen Sie eine Schülerliste mit Vornamen, Namen, Klasse und Untis-Nameund kopieren Sie diese in Tabelle dieser Seite."]
[4006,279,null,4,null,null,null,null,null,null,0]
[5866,322,null,5,null,null,null,null,null,null,0,null,null,null,null,"Nur einmal betätigen!"]
[1241,359,null,6,null,null,null,null,null,null,0]
[617,392,null,7,null,null,null,null,null,null,0]
[1476,408,null,8,null,null,null,null,null,null,0,null,"3. Erzeugen Sie mit Leonie eine Befragung."]
[392,582,null,9,null,null,null,null,null,null,0,null,"4. Erzeugen Sie mit dieser Tabelle einen Word Serienbrief (ID-Nummern-Verteiler.docx)."]
[5849,617,null,10,null,null,null,null,null,null,0,null,"5. Die Schüler tragen über Leonie ihre Wünsche ein."]
[5906,618,null,11,null,null,null,null,null,null,0,null,"6. Erzeugen Sie aus Leonie eine CSV-Datei."]
[9830,645,null,12,null,null,null,null,null,null,0,null,"7. Kopieren Sie den Leonieexport in das \"Importtabellenblatt\" ins Feld A1 dieser Datei."]
[782,651,null,13,null,null,null,null,null,null,0]
[5845,671,null,14,null,null,null,null,null,null,0]
[7284,716,null,15,null,null,null,null,null,null,0]
[5556,720,null,16,null,null,null,null,null,null,0]
[6847,748,null,17,null,null,null,null,null,null,0]
[1530,782,null,18,null,null,null,null,null,null,0,null,"9. Zuordnungen in den Kursen in der Kurstabelle durchführen."]
[6322,866,null,19,null,null,null,null,null,null,0,null,"10. Erzeugen Sie die sechs Listen über das Makro in der Kurstabelle."]
[2403,886,null,20,null,null,null,null,null,null,0,null,"11. Exportieren Sie eine Kursliste aus SchoolSH und fügen sie diese hier in die Tabelle \"Kurse\" (Angebotsname-ID/Kürzel - Fach)"]
[1033,939,null,21,null,null,null,null,null,null,0,null,"12. Erzeugen Sie  danach den Import für School-SH ebenfalls über das Makro in der Kurstabelle."]
[8417,994,null,22,null,null,null,null,null,null,0,null,"13. Anschließend können Sie eine Ergebnistabelle erzeugen, "]
[1286,1033,null,23,null,null,null,null,null,null,0]
[6641,1121,null,24,null,null,null,null,null,null,0]
[1121,1198,null,25,null,null,null,null,null,null,0]
[9828,1218,null,26,null,null,null,null,null,null,0]
[8440,1241,null,27,null,null,null,null,null,null,0]
[2392,1250,null,28,null,null,null,null,null,null,0]
[7196,1286,null,29,null,null,null,null,null,null,0]
[886,1289,null,30,null,null,null,null,null,null,0]
[582,1325,null,31,null,null,null,null,null,null,0]
[5596,1327,null,32,null,null,null,null,null,null,0]
[7011,1331,null,33,null,null,null,null,null,null,0]
[6185,1476,null,34,null,null,null,null,null,null,0]
[1538,1488,null,35,null,null,null,null,null,null,0]
[4549,1530,null,36,null,null,null,null,null,null,0]
[6147,1538,null,37,null,null,null,null,null,null,0]
[322,1552,null,38,null,null,null,null,null,null,0]
[1250,1810,null,39,null,null,null,null,null,null,0]
[651,1935,null,40,null,null,null,null,null,null,0]
[1810,2121,null,41,null,null,null,null,null,null,0]
[9876,2169,null,42,null,null,null,null,null,null,0]
[748,2299,null,43,null,null,null,null,null,null,0]
[185,2392,null,44,null,null,null,null,null,null,0]
[4752,2399,null,45,null,null,null,null,null,null,0]
[3466,2402,null,46,null,null,null,null,null,null,0]
[7706,2403,null,47,null,null,null,null,null,null,0]
[408,2407,null,48,null,null,null,null,null,null,0]
[4703,2837,null,49,null,null,null,null,null,null,0]
[6406,2881,null,50,null,null,null,null,null,null,0]
[671,2992,null,51,null,null,null,null,null,null,0]
[1327,2999,null,52,null,null,null,null,null,null,0]
[4754,3023,null,53,null,null,null,null,null,null,0]
[3513,3048,null,54,null,null,null,null,null,null,0]
[4389,3101,null,55,null,null,null,null,null,null,0]
[279,3167,null,56,null,null,null,null,null,null,0]
[3384,3384,null,57,null,null,null,null,null,null,0]
[8804,3451,null,58,null,null,null,null,null,null,0]
[7371,3466,null,59,null,null,null,null,null,null,0]
[9673,3513,null,60,null,null,null,null,null,null,0]
[3579,3579,null,61,null,null,null,null,null,null,0]
[939,3844,null,62,null,null,null,null,null,null,0]
[1198,3877,null,63,null,null,null,null,null,null,0]
[7451,4005,null,64,null,null,null,null,null,null,0]
[{"$f":"INT(RAND()*10000)+1","v":2169},4006,null,65,null,null,null,null,null,null,0]
[9195,{"$f":"IF(SMALL(A$1:A$150,ROW())<=B66,B66+1,SMALL(A$1:A$150,ROW()))","v":4113},null,66,null,null,null,null,null,null,{"$f":"H67","v":0}]
[9061,4150,null,67,null,null,null,null,null,null,0]
[5287,4152,null,68,null,null,null,null,null,null,0]
[3023,4282,null,69,null,null,null,null,null,null,0]
[1552,4365,null,70,null,null,null,null,null,null,0]
[4789,4389,null,71,null,null,null,null,null,null,0]
[3844,4397,null,72,null,null,null,null,null,null,0]
[4005,4533,null,73,null,null,null,null,null,null,0]
[9295,4549,null,74,null,null,null,null,null,null,0]
[4365,4703,null,75,null,null,null,null,null,null,0]
[2881,4752,null,76,null,null,null,null,null,null,0]
[8828,4754,null,77,null,null,null,null,null,null,0]
[8459,4789,null,78,null,null,null,null,null,null,0]
[5291,4790,null,79,null,null,null,null,null,null,0]
[4397,5096,null,80,null,null,null,null,null,null,0]
[5716,5166,null,81,null,null,null,null,null,null,0]
[6422,5178,null,82,null,null,null,null,null,null,0]
[6199,5287,null,83,null,null,null,null,null,null,0]
[716,5291,null,84,null,null,null,null,null,null,0]
[6850,5326,null,85,null,null,null,null,null,null,0]
[7351,5498,null,86,null,null,null,null,null,null,0]
[9416,5556,null,87,null,null,null,null,null,null,0]
[4150,5596,null,88,null,null,null,null,null,null,0]
[9356,5693,null,89,null,null,null,null,null,null,0]
[8764,5716,null,90,null,null,null,null,null,null,0]
[3101,5845,null,91,null,null,null,null,null,null,0]
[4152,5849,null,92,null,null,null,null,null,null,0]
[9682,5866,null,93,null,null,null,null,null,null,0]
[2407,5906,null,94,null,null,null,null,null,null,0]
[7428,6067,null,95,null,null,null,null,null,null,0]
[4533,6147,null,96,null,null,null,null,null,null,0]
[9219,6185,null,97,null,null,null,null,null,null,0]
[3048,6199,null,98,null,null,null,null,null,null,0]
[1325,6322,null,99,null,null,null,null,null,null,0]
[7368,6344,null,100,null,null,null,null,null,null,0]
[2299,6345,null,101,null,null,null,null,null,null,0]
[7844,6359,null,102,null,null,null,null,null,null,0]
[8906,6406,null,103,null,null,null,null,null,null,0]
[3451,6422,null,104,null,null,null,null,null,null,0]
[6067,6478,null,105,null,null,null,null,null,null,0]
[6345,6629,null,106,null,null,null,null,null,null,0]
[6359,6641,null,107,null,null,null,null,null,null,0]
[6948,6679,null,108,null,null,null,null,null,null,0]
[7181,6847,null,109,null,null,null,null,null,null,0]
[5178,6850,null,110,null,null,null,null,null,null,0]
[2399,6948,null,111,null,null,null,null,null,null,0]
[6629,7011,null,112,null,null,null,null,null,null,0]
[994,7181,null,113,null,null,null,null,null,null,0]
[1488,7196,null,114,null,null,null,null,null,null,0]
[149,7284,null,115,null,null,null,null,null,null,0]
[2992,7351,null,116,null,null,null,null,null,null,0]
[8523,7368,null,117,null,null,null,null,null,null,0]
[617,7371,null,118,null,null,null,null,null,null,0]
[1331,7428,null,119,null,null,null,null,null,null,0]
[2999,7451,null,120,null,null,null,null,null,null,0]
[4789,7672,null,121,null,null,null,null,null,null,0]
[9281,7706,null,122,null,null,null,null,null,null,0]
[2402,7844,null,123,null,null,null,null,null,null,0]
[5326,8254,null,124,null,null,null,null,null,null,0]
[645,8417,null,125,null,null,null,null,null,null,0]
[2121,8440,null,126,null,null,null,null,null,null,0]
[866,8459,null,127,null,null,null,null,null,null,0]
[8970,8515,null,128,null,null,null,null,null,null,0]
[{"$f":"INT(RAND()*10000)+1","v":8703},8523,null,129,null,null,null,null,null,null,0]
[5498,{"$f":"IF(SMALL(A$1:A$150,ROW())<=B130,B130+1,SMALL(A$1:A$150,ROW()))","v":8703},null,130,null,null,null,null,null,null,{"$f":"H131","v":0}]
[7672,8764,null,131,null,null,null,null,null,null,0]
[6478,8804,null,132,null,null,null,null,null,null,0]
[1935,8828,null,133,null,null,null,null,null,null,0]
[1289,8906,null,134,null,null,null,null,null,null,0]
[4282,8970,null,135,null,null,null,null,null,null,0]
[720,9061,null,136,null,null,null,null,null,null,0]
[8515,9195,null,137,null,null,null,null,null,null,0]
[185,9219,null,138,null,null,null,null,null,null,0]
[6679,9281,null,139,null,null,null,null,null,null,0]
[5693,9295,null,140,null,null,null,null,null,null,0]
[8254,9356,null,141,null,null,null,null,null,null,0]
[359,9416,null,142,null,null,null,null,null,null,0]
[1218,9579,null,143,null,null,null,null,null,null,0]
[4113,9673,null,144,null,null,null,null,null,null,0]
[5096,9682,null,145,null,null,null,null,null,null,0]
[3167,9828,null,146,null,null,null,null,null,null,0]
[2837,9830,null,147,null,null,null,null,null,null,0]
[3877,9876,null,148,null,null,null,null,null,null,0]
[6344,9970,null,149,null,null,null,null,null,null,0]
[null,{"$f":"IF(B150>10000,\"nochmal berechnen\",\"\")","v":""}]

{"sheet":"Importtabelle","index":1,"n_rows":0,"n_cols":0,"rows_kept":0,"cut":false,"hidden":false,"merged":[]}

{"sheet":"Profiltabelle","index":2,"n_rows":160,"n_cols":9,"rows_kept":160,"cut":false,"hidden":false,"merged":[]}
[]
[]
[]
[]
[]
["wie oft wurde der Kurs mit 1 gewählt",null,{"$f":"SUMIF(Tabelle13[Spalte4],1)","v":0},{"$f":"SUMIF(Tabelle13[Spalte5],1)","v":0},{"$f":"SUMIF(Tabelle13[Spalte6],1)","v":0},{"$f":"SUMIF(Tabelle13[Spalte7],1)","v":0},{"$f":"SUMIF(Tabelle13[Spalte8],1)","v":0},{"$f":"SUMIF(Tabelle13[Spalte9],1)","v":0}]
["wie oft wurde der Kurs mit 2 gewählt",null,{"$f":"SUMIF(Tabelle13[Spalte4],2)/2","v":0},{"$f":"SUMIF(Tabelle13[Spalte5],2)/2","v":0},{"$f":"SUMIF(Tabelle13[Spalte6],2)/2","v":0},{"$f":"SUMIF(Tabelle13[Spalte7],2)/2","v":0},{"$f":"SUMIF(Tabelle13[Spalte8],2)/2","v":0},{"$f":"SUMIF(Tabelle13[Spalte9],2)/2","v":0}]
["wie oft wurde der Kurs mit 3 gewählt",null,{"$f":"SUMIF(Tabelle13[Spalte4],3)/3","v":0},{"$f":"SUMIF(Tabelle13[Spalte5],3)/3","v":0},{"$f":"SUMIF(Tabelle13[Spalte6],3)/3","v":0},{"$f":"SUMIF(Tabelle13[Spalte7],3)/3","v":0},{"$f":"SUMIF(Tabelle13[Spalte8],3)/3","v":0},{"$f":"SUMIF(Tabelle13[Spalte9],3)/3","v":0}]
[]
[null,"Namen"]
["Spalte1","Spalte3","Spalte4","Spalte5","Spalte6","Spalte7","Spalte8","Spalte9","Spalte10"]
[{"$f":"ROW(A1)","v":1},{"$f":"CONCATENATE(Importtabelle!#REF!,\", \",Importtabelle!#REF!,\" _\",Importtabelle!B1)","v":{"$error":"#REF!"}}]
[2,{"$f":"CONCATENATE(Importtabelle!#REF!,\", \",Importtabelle!#REF!,\" _\",Importtabelle!B2)","v":{"$error":"#REF!"}}]
[3,{"$f":"CONCATENATE(Importtabelle!#REF!,\", \",Importtabelle!#REF!,\" _\",Importtabelle!B3)","v":{"$error":"#REF!"}}]
[4,{"$f":"CONCATENATE(Importtabelle!#REF!,\", \",Importtabelle!#REF!,\" _\",Importtabelle!B4)","v":{"$error":"#REF!"}}]
[5,{"$f":"CONCATENATE(Importtabelle!#REF!,\", \",Importtabelle!#REF!,\" _\",Importtabelle!B5)","v":{"$error":"#REF!"}}]
[6,{"$f":"CONCATENATE(Importtabelle!#REF!,\", \",Importtabelle!#REF!,\" _\",Importtabelle!B6)","v":{"$error":"#REF!"}}]
[7,{"$f":"CONCATENATE(Importtabelle!#REF!,\", \",Importtabelle!#REF!,\" _\",Importtabelle!B7)","v":{"$error":"#REF!"}}]
[8,{"$f":"CONCATENATE(Importtabelle!#REF!,\", \",Importtabelle!#REF!,\" _\",Importtabelle!B8)","v":{"$error":"#REF!"}}]
[9,{"$f":"CONCATENATE(Importtabelle!#REF!,\", \",Importtabelle!#REF!,\" _\",Importtabelle!B9)","v":{"$error":"#REF!"}}]
[10,{"$f":"CONCATENATE(Importtabelle!#REF!,\", \",Importtabelle!#REF!,\" _\",Importtabelle!B10)","v":{"$error":"#REF!"}}]
[11,{"$f":"CONCATENATE(Importtabelle!#REF!,\", \",Importtabelle!#REF!,\" _\",Importtabelle!B11)","v":{"$error":"#REF!"}}]
[12,{"$f":"CONCATENATE(Importtabelle!#REF!,\", \",Importtabelle!#REF!,\" _\",Importtabelle!B12)","v":{"$error":"#REF!"}}]
[13,{"$f":"CONCATENATE(Importtabelle!#REF!,\", \",Importtabelle!#REF!,\" _\",Importtabelle!B13)","v":{"$error":"#REF!"}}]
[14,{"$f":"CONCATENATE(Importtabelle!#REF!,\", \",Importtabelle!#REF!,\" _\",Importtabelle!B14)","v":{"$error":"#REF!"}}]
[15,{"$f":"CONCATENATE(Importtabelle!#REF!,\", \",Importtabelle!#REF!,\" _\",Importtabelle!B15)","v":{"$error":"#REF!"}}]
[16,{"$f":"CONCATENATE(Importtabelle!#REF!,\", \",Importtabelle!#REF!,\" _\",Importtabelle!B16)","v":{"$error":"#REF!"}}]
[17,{"$f":"CONCATENATE(Importtabelle!#REF!,\", \",Importtabelle!#REF!,\" _\",Importtabelle!B17)","v":{"$error":"#REF!"}}]
[18,{"$f":"CONCATENATE(Importtabelle!#REF!,\", \",Importtabelle!#REF!,\" _\",Importtabelle!B18)","v":{"$error":"#REF!"}}]
[19,{"$f":"CONCATENATE(Importtabelle!#REF!,\", \",Importtabelle!#REF!,\" _\",Importtabelle!B19)","v":{"$error":"#REF!"}}]
[20,{"$f":"CONCATENATE(Importtabelle!#REF!,\", \",Importtabelle!#REF!,\" _\",Importtabelle!B20)","v":{"$error":"#REF!"}}]
[21,{"$f":"CONCATENATE(Importtabelle!#REF!,\", \",Importtabelle!#REF!,\" _\",Importtabelle!B21)","v":{"$error":"#REF!"}}]
[22,{"$f":"CONCATENATE(Importtabelle!#REF!,\", \",Importtabelle!#REF!,\" _\",Importtabelle!B22)","v":{"$error":"#REF!"}}]
[23,{"$f":"CONCATENATE(Importtabelle!#REF!,\", \",Importtabelle!#REF!,\" _\",Importtabelle!B23)","v":{"$error":"#REF!"}}]
[24,{"$f":"CONCATENATE(Importtabelle!#REF!,\", \",Importtabelle!#REF!,\" _\",Importtabelle!B24)","v":{"$error":"#REF!"}}]
[25,{"$f":"CONCATENATE(Importtabelle!#REF!,\", \",Importtabelle!#REF!,\" _\",Importtabelle!B25)","v":{"$error":"#REF!"}}]
[26,{"$f":"CONCATENATE(Importtabelle!#REF!,\", \",Importtabelle!#REF!,\" _\",Importtabelle!B26)","v":{"$error":"#REF!"}}]
[27,{"$f":"CONCATENATE(Importtabelle!#REF!,\", \",Importtabelle!#REF!,\" _\",Importtabelle!B27)","v":{"$error":"#REF!"}}]
[28,{"$f":"CONCATENATE(Importtabelle!#REF!,\", \",Importtabelle!#REF!,\" _\",Importtabelle!B28)","v":{"$error":"#REF!"}}]
[29,{"$f":"CONCATENATE(Importtabelle!#REF!,\", \",Importtabelle!#REF!,\" _\",Importtabelle!B29)","v":{"$error":"#REF!"}}]
[30,{"$f":"CONCATENATE(Importtabelle!#REF!,\", \",Importtabelle!#REF!,\" _\",Importtabelle!B30)","v":{"$error":"#REF!"}}]
[31,{"$f":"CONCATENATE(Importtabelle!#REF!,\", \",Importtabelle!#REF!,\" _\",Importtabelle!B31)","v":{"$error":"#REF!"}}]
[32,{"$f":"CONCATENATE(Importtabelle!#REF!,\", \",Importtabelle!#REF!,\" _\",Importtabelle!B32)","v":{"$error":"#REF!"}}]
[33,{"$f":"CONCATENATE(Importtabelle!#REF!,\", \",Importtabelle!#REF!,\" _\",Importtabelle!B33)","v":{"$error":"#REF!"}}]
[34,{"$f":"CONCATENATE(Importtabelle!#REF!,\", \",Importtabelle!#REF!,\" _\",Importtabelle!B34)","v":{"$error":"#REF!"}}]
[35,{"$f":"CONCATENATE(Importtabelle!#REF!,\", \",Importtabelle!#REF!,\" _\",Importtabelle!B35)","v":{"$error":"#REF!"}}]
[36,{"$f":"CONCATENATE(Importtabelle!#REF!,\", \",Importtabelle!#REF!,\" _\",Importtabelle!B36)","v":{"$error":"#REF!"}}]
[37,{"$f":"CONCATENATE(Importtabelle!#REF!,\", \",Importtabelle!#REF!,\" _\",Importtabelle!B37)","v":{"$error":"#REF!"}}]
[38,{"$f":"CONCATENATE(Importtabelle!#REF!,\", \",Importtabelle!#REF!,\" _\",Importtabelle!B38)","v":{"$error":"#REF!"}}]
[39,{"$f":"CONCATENATE(Importtabelle!#REF!,\", \",Importtabelle!#REF!,\" _\",Importtabelle!B39)","v":{"$error":"#REF!"}}]
[40,{"$f":"CONCATENATE(Importtabelle!#REF!,\", \",Importtabelle!#REF!,\" _\",Importtabelle!B40)","v":{"$error":"#REF!"}}]
[41,{"$f":"CONCATENATE(Importtabelle!#REF!,\", \",Importtabelle!#REF!,\" _\",Importtabelle!B41)","v":{"$error":"#REF!"}}]
[42,{"$f":"CONCATENATE(Importtabelle!#REF!,\", \",Importtabelle!#REF!,\" _\",Importtabelle!B42)","v":{"$error":"#REF!"}}]
[43,{"$f":"CONCATENATE(Importtabelle!#REF!,\", \",Importtabelle!#REF!,\" _\",Importtabelle!B43)","v":{"$error":"#REF!"}}]
[44,{"$f":"CONCATENATE(Importtabelle!#REF!,\", \",Importtabelle!#REF!,\" _\",Importtabelle!B44)","v":{"$error":"#REF!"}}]
[45,{"$f":"CONCATENATE(Importtabelle!#REF!,\", \",Importtabelle!#REF!,\" _\",Importtabelle!B45)","v":{"$error":"#REF!"}}]
[46,{"$f":"CONCATENATE(Importtabelle!#REF!,\", \",Importtabelle!#REF!,\" _\",Importtabelle!B46)","v":{"$error":"#REF!"}}]
[47,{"$f":"CONCATENATE(Importtabelle!#REF!,\", \",Importtabelle!#REF!,\" _\",Importtabelle!B47)","v":{"$error":"#REF!"}}]
[48,{"$f":"CONCATENATE(Importtabelle!#REF!,\", \",Importtabelle!#REF!,\" _\",Importtabelle!B48)","v":{"$error":"#REF!"}}]
[49,{"$f":"CONCATENATE(Importtabelle!#REF!,\", \",Importtabelle!#REF!,\" _\",Importtabelle!B49)","v":{"$error":"#REF!"}}]
[50,{"$f":"CONCATENATE(Importtabelle!#REF!,\", \",Importtabelle!#REF!,\" _\",Importtabelle!B50)","v":{"$error":"#REF!"}}]
[51,{"$f":"CONCATENATE(Importtabelle!#REF!,\", \",Importtabelle!#REF!,\" _\",Importtabelle!B51)","v":{"$error":"#REF!"}}]
[52,{"$f":"CONCATENATE(Importtabelle!#REF!,\", \",Importtabelle!#REF!,\" _\",Importtabelle!B52)","v":{"$error":"#REF!"}}]
[53,{"$f":"CONCATENATE(Importtabelle!#REF!,\", \",Importtabelle!#REF!,\" _\",Importtabelle!B53)","v":{"$error":"#REF!"}}]
[54,{"$f":"CONCATENATE(Importtabelle!#REF!,\", \",Importtabelle!#REF!,\" _\",Importtabelle!B54)","v":{"$error":"#REF!"}}]
[55,{"$f":"CONCATENATE(Importtabelle!#REF!,\", \",Importtabelle!#REF!,\" _\",Importtabelle!B55)","v":{"$error":"#REF!"}}]
[56,{"$f":"CONCATENATE(Importtabelle!#REF!,\", \",Importtabelle!#REF!,\" _\",Importtabelle!B56)","v":{"$error":"#REF!"}}]
[57,{"$f":"CONCATENATE(Importtabelle!#REF!,\", \",Importtabelle!#REF!,\" _\",Importtabelle!B57)","v":{"$error":"#REF!"}}]
[58,{"$f":"CONCATENATE(Importtabelle!#REF!,\", \",Importtabelle!#REF!,\" _\",Importtabelle!B58)","v":{"$error":"#REF!"}}]
[59,{"$f":"CONCATENATE(Importtabelle!#REF!,\", \",Importtabelle!#REF!,\" _\",Importtabelle!B59)","v":{"$error":"#REF!"}}]
[60,{"$f":"CONCATENATE(Importtabelle!#REF!,\", \",Importtabelle!#REF!,\" _\",Importtabelle!B60)","v":{"$error":"#REF!"}}]
[61,{"$f":"CONCATENATE(Importtabelle!#REF!,\", \",Importtabelle!#REF!,\" _\",Importtabelle!B61)","v":{"$error":"#REF!"}}]
[62,{"$f":"CONCATENATE(Importtabelle!#REF!,\", \",Importtabelle!#REF!,\" _\",Importtabelle!B62)","v":{"$error":"#REF!"}}]
[63,{"$f":"CONCATENATE(Importtabelle!#REF!,\", \",Importtabelle!#REF!,\" _\",Importtabelle!B63)","v":{"$error":"#REF!"}}]
[64,{"$f":"CONCATENATE(Importtabelle!#REF!,\", \",Importtabelle!#REF!,\" _\",Importtabelle!B64)","v":{"$error":"#REF!"}}]
[{"$f":"ROW(A65)","v":65},{"$f":"CONCATENATE(Importtabelle!#REF!,\", \",Importtabelle!#REF!,\" _\",Importtabelle!B65)","v":{"$error":"#REF!"}}]
[66,{"$f":"CONCATENATE(Importtabelle!#REF!,\", \",Importtabelle!#REF!,\" _\",Importtabelle!B66)","v":{"$error":"#REF!"}}]
[67,{"$f":"CONCATENATE(Importtabelle!#REF!,\", \",Importtabelle!#REF!,\" _\",Importtabelle!B67)","v":{"$error":"#REF!"}}]
[68,{"$f":"CONCATENATE(Importtabelle!#REF!,\", \",Importtabelle!#REF!,\" _\",Importtabelle!B68)","v":{"$error":"#REF!"}}]
[69,{"$f":"CONCATENATE(Importtabelle!#REF!,\", \",Importtabelle!#REF!,\" _\",Importtabelle!B69)","v":{"$error":"#REF!"}}]
[70,{"$f":"CONCATENATE(Importtabelle!#REF!,\", \",Importtabelle!#REF!,\" _\",Importtabelle!B70)","v":{"$error":"#REF!"}}]
[71,{"$f":"CONCATENATE(Importtabelle!#REF!,\", \",Importtabelle!#REF!,\" _\",Importtabelle!B71)","v":{"$error":"#REF!"}}]
[72,{"$f":"CONCATENATE(Importtabelle!#REF!,\", \",Importtabelle!#REF!,\" _\",Importtabelle!B72)","v":{"$error":"#REF!"}}]
[73,{"$f":"CONCATENATE(Importtabelle!#REF!,\", \",Importtabelle!#REF!,\" _\",Importtabelle!B73)","v":{"$error":"#REF!"}}]
[74,{"$f":"CONCATENATE(Importtabelle!#REF!,\", \",Importtabelle!#REF!,\" _\",Importtabelle!B74)","v":{"$error":"#REF!"}}]
[75,{"$f":"CONCATENATE(Importtabelle!#REF!,\", \",Importtabelle!#REF!,\" _\",Importtabelle!B75)","v":{"$error":"#REF!"}}]
[76,{"$f":"CONCATENATE(Importtabelle!#REF!,\", \",Importtabelle!#REF!,\" _\",Importtabelle!B76)","v":{"$error":"#REF!"}}]
[77,{"$f":"CONCATENATE(Importtabelle!#REF!,\", \",Importtabelle!#REF!,\" _\",Importtabelle!B77)","v":{"$error":"#REF!"}}]
[78,{"$f":"CONCATENATE(Importtabelle!#REF!,\", \",Importtabelle!#REF!,\" _\",Importtabelle!B78)","v":{"$error":"#REF!"}}]
[79,{"$f":"CONCATENATE(Importtabelle!#REF!,\", \",Importtabelle!#REF!,\" _\",Importtabelle!B79)","v":{"$error":"#REF!"}}]
[80,{"$f":"CONCATENATE(Importtabelle!#REF!,\", \",Importtabelle!#REF!,\" _\",Importtabelle!B80)","v":{"$error":"#REF!"}}]
[81,{"$f":"CONCATENATE(Importtabelle!#REF!,\", \",Importtabelle!#REF!,\" _\",Importtabelle!B81)","v":{"$error":"#REF!"}}]
[82,{"$f":"CONCATENATE(Importtabelle!#REF!,\", \",Importtabelle!#REF!,\" _\",Importtabelle!B82)","v":{"$error":"#REF!"}}]
[83,{"$f":"CONCATENATE(Importtabelle!#REF!,\", \",Importtabelle!#REF!,\" _\",Importtabelle!B83)","v":{"$error":"#REF!"}}]
[84,{"$f":"CONCATENATE(Importtabelle!#REF!,\", \",Importtabelle!#REF!,\" _\",Importtabelle!B84)","v":{"$error":"#REF!"}}]
[85,{"$f":"CONCATENATE(Importtabelle!#REF!,\", \",Importtabelle!#REF!,\" _\",Importtabelle!B85)","v":{"$error":"#REF!"}}]
[86,{"$f":"CONCATENATE(Importtabelle!#REF!,\", \",Importtabelle!#REF!,\" _\",Importtabelle!B86)","v":{"$error":"#REF!"}}]
[87,{"$f":"CONCATENATE(Importtabelle!#REF!,\", \",Importtabelle!#REF!,\" _\",Importtabelle!B87)","v":{"$error":"#REF!"}}]
[88,{"$f":"CONCATENATE(Importtabelle!#REF!,\", \",Importtabelle!#REF!,\" _\",Importtabelle!B88)","v":{"$error":"#REF!"}}]
[89,{"$f":"CONCATENATE(Importtabelle!#REF!,\", \",Importtabelle!#REF!,\" _\",Importtabelle!B89)","v":{"$error":"#REF!"}}]
[90,{"$f":"CONCATENATE(Importtabelle!#REF!,\", \",Importtabelle!#REF!,\" _\",Importtabelle!B90)","v":{"$error":"#REF!"}}]
[91,{"$f":"CONCATENATE(Importtabelle!#REF!,\", \",Importtabelle!#REF!,\" _\",Importtabelle!B91)","v":{"$error":"#REF!"}}]
[92,{"$f":"CONCATENATE(Importtabelle!#REF!,\", \",Importtabelle!#REF!,\" _\",Importtabelle!B92)","v":{"$error":"#REF!"}}]
[93,{"$f":"CONCATENATE(Importtabelle!#REF!,\", \",Importtabelle!#REF!,\" _\",Importtabelle!B93)","v":{"$error":"#REF!"}}]
[94,{"$f":"CONCATENATE(Importtabelle!#REF!,\", \",Importtabelle!#REF!,\" _\",Importtabelle!B94)","v":{"$error":"#REF!"}}]
[95,{"$f":"CONCATENATE(Importtabelle!#REF!,\", \",Importtabelle!#REF!,\" _\",Importtabelle!B95)","v":{"$error":"#REF!"}}]
[96,{"$f":"CONCATENATE(Importtabelle!#REF!,\", \",Importtabelle!#REF!,\" _\",Importtabelle!B96)","v":{"$error":"#REF!"}}]
[97,{"$f":"CONCATENATE(Importtabelle!#REF!,\", \",Importtabelle!#REF!,\" _\",Importtabelle!B97)","v":{"$error":"#REF!"}}]
[98,{"$f":"CONCATENATE(Importtabelle!#REF!,\", \",Importtabelle!#REF!,\" _\",Importtabelle!B98)","v":{"$error":"#REF!"}}]
[99,{"$f":"CONCATENATE(Importtabelle!#REF!,\", \",Importtabelle!#REF!,\" _\",Importtabelle!B99)","v":{"$error":"#REF!"}}]
[100,{"$f":"CONCATENATE(Importtabelle!#REF!,\", \",Importtabelle!#REF!,\" _\",Importtabelle!B100)","v":{"$error":"#REF!"}}]
[101,{"$f":"CONCATENATE(Importtabelle!#REF!,\", \",Importtabelle!#REF!,\" _\",Importtabelle!B101)","v":{"$error":"#REF!"}}]
[102,{"$f":"CONCATENATE(Importtabelle!#REF!,\", \",Importtabelle!#REF!,\" _\",Importtabelle!B102)","v":{"$error":"#REF!"}}]
[103,{"$f":"CONCATENATE(Importtabelle!#REF!,\", \",Importtabelle!#REF!,\" _\",Importtabelle!B103)","v":{"$error":"#REF!"}}]
[104,{"$f":"CONCATENATE(Importtabelle!#REF!,\", \",Importtabelle!#REF!,\" _\",Importtabelle!B104)","v":{"$error":"#REF!"}}]
[105,{"$f":"CONCATENATE(Importtabelle!#REF!,\", \",Importtabelle!#REF!,\" _\",Importtabelle!B105)","v":{"$error":"#REF!"}}]
[106,{"$f":"CONCATENATE(Importtabelle!#REF!,\", \",Importtabelle!#REF!,\" _\",Importtabelle!B106)","v":{"$error":"#REF!"}}]
[107,{"$f":"CONCATENATE(Importtabelle!#REF!,\", \",Importtabelle!#REF!,\" _\",Importtabelle!B107)","v":{"$error":"#REF!"}}]
[108,{"$f":"CONCATENATE(Importtabelle!#REF!,\", \",Importtabelle!#REF!,\" _\",Importtabelle!B108)","v":{"$error":"#REF!"}}]
[109,{"$f":"CONCATENATE(Importtabelle!#REF!,\", \",Importtabelle!#REF!,\" _\",Importtabelle!B109)","v":{"$error":"#REF!"}}]
[110,{"$f":"CONCATENATE(Importtabelle!#REF!,\", \",Importtabelle!#REF!,\" _\",Importtabelle!B110)","v":{"$error":"#REF!"}}]
[111,{"$f":"CONCATENATE(Importtabelle!#REF!,\", \",Importtabelle!#REF!,\" _\",Importtabelle!B111)","v":{"$error":"#REF!"}}]
[112,{"$f":"CONCATENATE(Importtabelle!#REF!,\", \",Importtabelle!#REF!,\" _\",Importtabelle!B112)","v":{"$error":"#REF!"}}]
[113,{"$f":"CONCATENATE(Importtabelle!#REF!,\", \",Importtabelle!#REF!,\" _\",Importtabelle!B113)","v":{"$error":"#REF!"}}]
[114,{"$f":"CONCATENATE(Importtabelle!#REF!,\", \",Importtabelle!#REF!,\" _\",Importtabelle!B114)","v":{"$error":"#REF!"}}]
[115,{"$f":"CONCATENATE(Importtabelle!#REF!,\", \",Importtabelle!#REF!,\" _\",Importtabelle!B115)","v":{"$error":"#REF!"}}]
[116,{"$f":"CONCATENATE(Importtabelle!#REF!,\", \",Importtabelle!#REF!,\" _\",Importtabelle!B116)","v":{"$error":"#REF!"}}]
[117,{"$f":"CONCATENATE(Importtabelle!#REF!,\", \",Importtabelle!#REF!,\" _\",Importtabelle!B117)","v":{"$error":"#REF!"}}]
[118,{"$f":"CONCATENATE(Importtabelle!#REF!,\", \",Importtabelle!#REF!,\" _\",Importtabelle!B118)","v":{"$error":"#REF!"}}]
[119,{"$f":"CONCATENATE(Importtabelle!#REF!,\", \",Importtabelle!#REF!,\" _\",Importtabelle!B119)","v":{"$error":"#REF!"}}]
[120,{"$f":"CONCATENATE(Importtabelle!#REF!,\", \",Importtabelle!#REF!,\" _\",Importtabelle!B120)","v":{"$error":"#REF!"}}]
[121,{"$f":"CONCATENATE(Importtabelle!#REF!,\", \",Importtabelle!#REF!,\" _\",Importtabelle!B121)","v":{"$error":"#REF!"}}]
[122,{"$f":"CONCATENATE(Importtabelle!#REF!,\", \",Importtabelle!#REF!,\" _\",Importtabelle!B122)","v":{"$error":"#REF!"}}]
[123,{"$f":"CONCATENATE(Importtabelle!#REF!,\", \",Importtabelle!#REF!,\" _\",Importtabelle!B123)","v":{"$error":"#REF!"}}]
[124,{"$f":"CONCATENATE(Importtabelle!#REF!,\", \",Importtabelle!#REF!,\" _\",Importtabelle!B124)","v":{"$error":"#REF!"}}]
[125,{"$f":"CONCATENATE(Importtabelle!#REF!,\", \",Importtabelle!#REF!,\" _\",Importtabelle!B125)","v":{"$error":"#REF!"}}]
[126,{"$f":"CONCATENATE(Importtabelle!#REF!,\", \",Importtabelle!#REF!,\" _\",Importtabelle!B126)","v":{"$error":"#REF!"}}]
[127,{"$f":"CONCATENATE(Importtabelle!#REF!,\", \",Importtabelle!#REF!,\" _\",Importtabelle!B127)","v":{"$error":"#REF!"}}]
[128,{"$f":"CONCATENATE(Importtabelle!#REF!,\", \",Importtabelle!#REF!,\" _\",Importtabelle!B128)","v":{"$error":"#REF!"}}]
[{"$f":"ROW(A129)","v":129},{"$f":"CONCATENATE(Importtabelle!#REF!,\", \",Importtabelle!#REF!,\" _\",Importtabelle!B129)","v":{"$error":"#REF!"}}]
[130,{"$f":"CONCATENATE(Importtabelle!#REF!,\", \",Importtabelle!#REF!,\" _\",Importtabelle!B130)","v":{"$error":"#REF!"}}]
[131,{"$f":"CONCATENATE(Importtabelle!#REF!,\", \",Importtabelle!#REF!,\" _\",Importtabelle!B131)","v":{"$error":"#REF!"}}]
[132,{"$f":"CONCATENATE(Importtabelle!#REF!,\", \",Importtabelle!#REF!,\" _\",Importtabelle!B132)","v":{"$error":"#REF!"}}]
[133,{"$f":"CONCATENATE(Importtabelle!#REF!,\", \",Importtabelle!#REF!,\" _\",Importtabelle!B133)","v":{"$error":"#REF!"}}]
[134,{"$f":"CONCATENATE(Importtabelle!#REF!,\", \",Importtabelle!#REF!,\" _\",Importtabelle!B134)","v":{"$error":"#REF!"}}]
[135,{"$f":"CONCATENATE(Importtabelle!#REF!,\", \",Importtabelle!#REF!,\" _\",Importtabelle!B135)","v":{"$error":"#REF!"}}]
[136,{"$f":"CONCATENATE(Importtabelle!#REF!,\", \",Importtabelle!#REF!,\" _\",Importtabelle!B136)","v":{"$error":"#REF!"}}]
[137,{"$f":"CONCATENATE(Importtabelle!#REF!,\", \",Importtabelle!#REF!,\" _\",Importtabelle!B137)","v":{"$error":"#REF!"}}]
[138,{"$f":"CONCATENATE(Importtabelle!#REF!,\", \",Importtabelle!#REF!,\" _\",Importtabelle!B138)","v":{"$error":"#REF!"}}]
[139,{"$f":"CONCATENATE(Importtabelle!#REF!,\", \",Importtabelle!#REF!,\" _\",Importtabelle!B139)","v":{"$error":"#REF!"}}]
[140,{"$f":"CONCATENATE(Importtabelle!#REF!,\", \",Importtabelle!#REF!,\" _\",Importtabelle!B140)","v":{"$error":"#REF!"}}]
[141,{"$f":"CONCATENATE(Importtabelle!#REF!,\", \",Importtabelle!#REF!,\" _\",Importtabelle!B141)","v":{"$error":"#REF!"}}]
[142,{"$f":"CONCATENATE(Importtabelle!#REF!,\", \",Importtabelle!#REF!,\" _\",Importtabelle!B142)","v":{"$error":"#REF!"}}]
[143,{"$f":"CONCATENATE(Importtabelle!#REF!,\", \",Importtabelle!#REF!,\" _\",Importtabelle!B143)","v":{"$error":"#REF!"}}]
[144,{"$f":"CONCATENATE(Importtabelle!#REF!,\", \",Importtabelle!#REF!,\" _\",Importtabelle!B144)","v":{"$error":"#REF!"}}]
[145,{"$f":"CONCATENATE(Importtabelle!#REF!,\", \",Importtabelle!#REF!,\" _\",Importtabelle!B145)","v":{"$error":"#REF!"}}]
[146,{"$f":"CONCATENATE(Importtabelle!#REF!,\", \",Importtabelle!#REF!,\" _\",Importtabelle!B146)","v":{"$error":"#REF!"}}]
[147,{"$f":"CONCATENATE(Importtabelle!#REF!,\", \",Importtabelle!#REF!,\" _\",Importtabelle!B147)","v":{"$error":"#REF!"}}]
[148,{"$f":"CONCATENATE(Importtabelle!#REF!,\", \",Importtabelle!#REF!,\" _\",Importtabelle!B148)","v":{"$error":"#REF!"}}]
[149,{"$f":"CONCATENATE(Importtabelle!#REF!,\", \",Importtabelle!#REF!,\" _\",Importtabelle!B149)","v":{"$error":"#REF!"}}]

{"sheet":"Kurs1","index":3,"n_rows":154,"n_cols":15,"rows_kept":154,"cut":false,"hidden":false,"merged":[]}
["1. Wunsch",{"$f":"SUMIFS(B$5:B$153,$B$5:$B$153,\"1\",B$5:B$153,\"1\")","v":0},{"$f":"SUMIFS(C$5:C$153,$B$5:$B$153,\"1\",C$5:C$153,\"1\")","v":0},0,0,0,0]
["2. Wunsch",{"$f":"SUMIFS(B$5:B$153,$B$5:$B$153,\"1\",B$5:B$153,\"2\")/2","v":0},{"$f":"SUMIFS(C$5:C$153,$B$5:$B$153,\"1\",C$5:C$153,\"2\")/2","v":0},0,0,0,{"$f":"SUMIFS(G$5:G$153,$B$5:$B$153,\"1\",G$5:G$153,\"2\")/2","v":0}]
["3. Wunsch",{"$f":"SUMIFS(B$5:B$153,$B$5:$B$153,\"1\",B$5:B$153,\"3\")/3","v":0},{"$f":"SUMIFS(C$5:C$153,$B$5:$B$153,\"1\",C$5:C$153,\"3\")/3","v":0},0,0,0,0]
["Namen","WPU 7 Biogarten","WPU 7 Französisch","WPU 7 Gesund und fit","WPU 7 Informatik","WPU 7 Technik","WPU 7 WiPo",null,null,null,null,null,null,null,{"$f":"$B$4","v":"WPU 7 Biogarten"}]
[{"$error":"#N/A"},{"$f":"Profiltabelle!C12","v":0},{"$f":"Profiltabelle!D12","v":0},{"$f":"Profiltabelle!E12","v":0},{"$f":"Profiltabelle!F12","v":0},{"$f":"Profiltabelle!G12","v":0},{"$f":"Profiltabelle!H12","v":0}]
[{"$error":"#N/A"},{"$f":"Profiltabelle!C13","v":0},{"$f":"Profiltabelle!D13","v":0},{"$f":"Profiltabelle!E13","v":0},{"$f":"Profiltabelle!F13","v":0},{"$f":"Profiltabelle!G13","v":0},{"$f":"Profiltabelle!H13","v":0}]
[{"$error":"#N/A"},{"$f":"Profiltabelle!C14","v":0},{"$f":"Profiltabelle!D14","v":0},{"$f":"Profiltabelle!E14","v":0},{"$f":"Profiltabelle!F14","v":0},{"$f":"Profiltabelle!G14","v":0},{"$f":"Profiltabelle!H14","v":0}]
[{"$error":"#N/A"},{"$f":"Profiltabelle!C15","v":0},{"$f":"Profiltabelle!D15","v":0},{"$f":"Profiltabelle!E15","v":0},{"$f":"Profiltabelle!F15","v":0},{"$f":"Profiltabelle!G15","v":0},{"$f":"Profiltabelle!H15","v":0}]
[{"$error":"#N/A"},{"$f":"Profiltabelle!C16","v":0},{"$f":"Profiltabelle!D16","v":0},{"$f":"Profiltabelle!E16","v":0},{"$f":"Profiltabelle!F16","v":0},{"$f":"Profiltabelle!G16","v":0},{"$f":"Profiltabelle!H16","v":0}]
[{"$error":"#N/A"},{"$f":"Profiltabelle!C17","v":0},{"$f":"Profiltabelle!D17","v":0},{"$f":"Profiltabelle!E17","v":0},{"$f":"Profiltabelle!F17","v":0},{"$f":"Profiltabelle!G17","v":0},{"$f":"Profiltabelle!H17","v":0}]
[{"$error":"#N/A"},{"$f":"Profiltabelle!C18","v":0},{"$f":"Profiltabelle!D18","v":0},{"$f":"Profiltabelle!E18","v":0},{"$f":"Profiltabelle!F18","v":0},{"$f":"Profiltabelle!G18","v":0},{"$f":"Profiltabelle!H18","v":0}]
[{"$error":"#N/A"},{"$f":"Profiltabelle!C19","v":0},{"$f":"Profiltabelle!D19","v":0},{"$f":"Profiltabelle!E19","v":0},{"$f":"Profiltabelle!F19","v":0},{"$f":"Profiltabelle!G19","v":0},{"$f":"Profiltabelle!H19","v":0}]
[{"$error":"#N/A"},{"$f":"Profiltabelle!C20","v":0},{"$f":"Profiltabelle!D20","v":0},{"$f":"Profiltabelle!E20","v":0},{"$f":"Profiltabelle!F20","v":0},{"$f":"Profiltabelle!G20","v":0},{"$f":"Profiltabelle!H20","v":0}]
[{"$error":"#N/A"},{"$f":"Profiltabelle!C21","v":0},{"$f":"Profiltabelle!D21","v":0},{"$f":"Profiltabelle!E21","v":0},{"$f":"Profiltabelle!F21","v":0},{"$f":"Profiltabelle!G21","v":0},{"$f":"Profiltabelle!H21","v":0}]
[{"$error":"#N/A"},{"$f":"Profiltabelle!C22","v":0},{"$f":"Profiltabelle!D22","v":0},{"$f":"Profiltabelle!E22","v":0},{"$f":"Profiltabelle!F22","v":0},{"$f":"Profiltabelle!G22","v":0},{"$f":"Profiltabelle!H22","v":0}]
[{"$error":"#N/A"},{"$f":"Profiltabelle!C23","v":0},{"$f":"Profiltabelle!D23","v":0},{"$f":"Profiltabelle!E23","v":0},{"$f":"Profiltabelle!F23","v":0},{"$f":"Profiltabelle!G23","v":0},{"$f":"Profiltabelle!H23","v":0}]
[{"$error":"#N/A"},{"$f":"Profiltabelle!C24","v":0},{"$f":"Profiltabelle!D24","v":0},{"$f":"Profiltabelle!E24","v":0},{"$f":"Profiltabelle!F24","v":0},{"$f":"Profiltabelle!G24","v":0},{"$f":"Profiltabelle!H24","v":0}]
[{"$error":"#N/A"},{"$f":"Profiltabelle!C25","v":0},{"$f":"Profiltabelle!D25","v":0},{"$f":"Profiltabelle!E25","v":0},{"$f":"Profiltabelle!F25","v":0},{"$f":"Profiltabelle!G25","v":0},{"$f":"Profiltabelle!H25","v":0}]
[{"$error":"#N/A"},{"$f":"Profiltabelle!C26","v":0},{"$f":"Profiltabelle!D26","v":0},{"$f":"Profiltabelle!E26","v":0},{"$f":"Profiltabelle!F26","v":0},{"$f":"Profiltabelle!G26","v":0},{"$f":"Profiltabelle!H26","v":0}]
[{"$error":"#N/A"},{"$f":"Profiltabelle!C27","v":0},{"$f":"Profiltabelle!D27","v":0},{"$f":"Profiltabelle!E27","v":0},{"$f":"Profiltabelle!F27","v":0},{"$f":"Profiltabelle!G27","v":0},{"$f":"Profiltabelle!H27","v":0}]
[{"$error":"#N/A"},{"$f":"Profiltabelle!C28","v":0},{"$f":"Profiltabelle!D28","v":0},{"$f":"Profiltabelle!E28","v":0},{"$f":"Profiltabelle!F28","v":0},{"$f":"Profiltabelle!G28","v":0},{"$f":"Profiltabelle!H28","v":0}]
[{"$error":"#N/A"},{"$f":"Profiltabelle!C29","v":0},{"$f":"Profiltabelle!D29","v":0},{"$f":"Profiltabelle!E29","v":0},{"$f":"Profiltabelle!F29","v":0},{"$f":"Profiltabelle!G29","v":0},{"$f":"Profiltabelle!H29","v":0}]
[{"$error":"#N/A"},{"$f":"Profiltabelle!C30","v":0},{"$f":"Profiltabelle!D30","v":0},{"$f":"Profiltabelle!E30","v":0},{"$f":"Profiltabelle!F30","v":0},{"$f":"Profiltabelle!G30","v":0},{"$f":"Profiltabelle!H30","v":0}]
[{"$error":"#N/A"},{"$f":"Profiltabelle!C31","v":0},{"$f":"Profiltabelle!D31","v":0},{"$f":"Profiltabelle!E31","v":0},{"$f":"Profiltabelle!F31","v":0},{"$f":"Profiltabelle!G31","v":0},{"$f":"Profiltabelle!H31","v":0}]
[{"$error":"#N/A"},{"$f":"Profiltabelle!C32","v":0},{"$f":"Profiltabelle!D32","v":0},{"$f":"Profiltabelle!E32","v":0},{"$f":"Profiltabelle!F32","v":0},{"$f":"Profiltabelle!G32","v":0},{"$f":"Profiltabelle!H32","v":0}]
[{"$error":"#N/A"},{"$f":"Profiltabelle!C33","v":0},{"$f":"Profiltabelle!D33","v":0},{"$f":"Profiltabelle!E33","v":0},{"$f":"Profiltabelle!F33","v":0},{"$f":"Profiltabelle!G33","v":0},{"$f":"Profiltabelle!H33","v":0}]
[{"$error":"#N/A"},{"$f":"Profiltabelle!C34","v":0},{"$f":"Profiltabelle!D34","v":0},{"$f":"Profiltabelle!E34","v":0},{"$f":"Profiltabelle!F34","v":0},{"$f":"Profiltabelle!G34","v":0},{"$f":"Profiltabelle!H34","v":0}]
[{"$error":"#N/A"},{"$f":"Profiltabelle!C35","v":0},{"$f":"Profiltabelle!D35","v":0},{"$f":"Profiltabelle!E35","v":0},{"$f":"Profiltabelle!F35","v":0},{"$f":"Profiltabelle!G35","v":0},{"$f":"Profiltabelle!H35","v":0}]
[{"$error":"#N/A"},{"$f":"Profiltabelle!C36","v":0},{"$f":"Profiltabelle!D36","v":0},{"$f":"Profiltabelle!E36","v":0},{"$f":"Profiltabelle!F36","v":0},{"$f":"Profiltabelle!G36","v":0},{"$f":"Profiltabelle!H36","v":0}]
[{"$error":"#N/A"},{"$f":"Profiltabelle!C37","v":0},{"$f":"Profiltabelle!D37","v":0},{"$f":"Profiltabelle!E37","v":0},{"$f":"Profiltabelle!F37","v":0},{"$f":"Profiltabelle!G37","v":0},{"$f":"Profiltabelle!H37","v":0}]
[{"$error":"#N/A"},{"$f":"Profiltabelle!C38","v":0},{"$f":"Profiltabelle!D38","v":0},{"$f":"Profiltabelle!E38","v":0},{"$f":"Profiltabelle!F38","v":0},{"$f":"Profiltabelle!G38","v":0},{"$f":"Profiltabelle!H38","v":0}]
[{"$error":"#N/A"},{"$f":"Profiltabelle!C39","v":0},{"$f":"Profiltabelle!D39","v":0},{"$f":"Profiltabelle!E39","v":0},{"$f":"Profiltabelle!F39","v":0},{"$f":"Profiltabelle!G39","v":0},{"$f":"Profiltabelle!H39","v":0}]
[{"$error":"#N/A"},{"$f":"Profiltabelle!C40","v":0},{"$f":"Profiltabelle!D40","v":0},{"$f":"Profiltabelle!E40","v":0},{"$f":"Profiltabelle!F40","v":0},{"$f":"Profiltabelle!G40","v":0},{"$f":"Profiltabelle!H40","v":0}]
[{"$error":"#N/A"},{"$f":"Profiltabelle!C41","v":0},{"$f":"Profiltabelle!D41","v":0},{"$f":"Profiltabelle!E41","v":0},{"$f":"Profiltabelle!F41","v":0},{"$f":"Profiltabelle!G41","v":0},{"$f":"Profiltabelle!H41","v":0}]
[{"$error":"#N/A"},{"$f":"Profiltabelle!C42","v":0},{"$f":"Profiltabelle!D42","v":0},{"$f":"Profiltabelle!E42","v":0},{"$f":"Profiltabelle!F42","v":0},{"$f":"Profiltabelle!G42","v":0},{"$f":"Profiltabelle!H42","v":0}]
[{"$error":"#N/A"},{"$f":"Profiltabelle!C43","v":0},{"$f":"Profiltabelle!D43","v":0},{"$f":"Profiltabelle!E43","v":0},{"$f":"Profiltabelle!F43","v":0},{"$f":"Profiltabelle!G43","v":0},{"$f":"Profiltabelle!H43","v":0}]
[{"$error":"#N/A"},{"$f":"Profiltabelle!C44","v":0},{"$f":"Profiltabelle!D44","v":0},{"$f":"Profiltabelle!E44","v":0},{"$f":"Profiltabelle!F44","v":0},{"$f":"Profiltabelle!G44","v":0},{"$f":"Profiltabelle!H44","v":0}]
[{"$error":"#N/A"},{"$f":"Profiltabelle!C45","v":0},{"$f":"Profiltabelle!D45","v":0},{"$f":"Profiltabelle!E45","v":0},{"$f":"Profiltabelle!F45","v":0},{"$f":"Profiltabelle!G45","v":0},{"$f":"Profiltabelle!H45","v":0}]
[{"$error":"#N/A"},{"$f":"Profiltabelle!C46","v":0},{"$f":"Profiltabelle!D46","v":0},{"$f":"Profiltabelle!E46","v":0},{"$f":"Profiltabelle!F46","v":0},{"$f":"Profiltabelle!G46","v":0},{"$f":"Profiltabelle!H46","v":0}]
[{"$error":"#N/A"},{"$f":"Profiltabelle!C47","v":0},{"$f":"Profiltabelle!D47","v":0},{"$f":"Profiltabelle!E47","v":0},{"$f":"Profiltabelle!F47","v":0},{"$f":"Profiltabelle!G47","v":0},{"$f":"Profiltabelle!H47","v":0}]
[{"$error":"#N/A"},{"$f":"Profiltabelle!C48","v":0},{"$f":"Profiltabelle!D48","v":0},{"$f":"Profiltabelle!E48","v":0},{"$f":"Profiltabelle!F48","v":0},{"$f":"Profiltabelle!G48","v":0},{"$f":"Profiltabelle!H48","v":0}]
[{"$error":"#N/A"},{"$f":"Profiltabelle!C49","v":0},{"$f":"Profiltabelle!D49","v":0},{"$f":"Profiltabelle!E49","v":0},{"$f":"Profiltabelle!F49","v":0},{"$f":"Profiltabelle!G49","v":0},{"$f":"Profiltabelle!H49","v":0}]
[{"$error":"#N/A"},{"$f":"Profiltabelle!C50","v":0},{"$f":"Profiltabelle!D50","v":0},{"$f":"Profiltabelle!E50","v":0},{"$f":"Profiltabelle!F50","v":0},{"$f":"Profiltabelle!G50","v":0},{"$f":"Profiltabelle!H50","v":0}]
[{"$error":"#N/A"},{"$f":"Profiltabelle!C51","v":0},{"$f":"Profiltabelle!D51","v":0},{"$f":"Profiltabelle!E51","v":0},{"$f":"Profiltabelle!F51","v":0},{"$f":"Profiltabelle!G51","v":0},{"$f":"Profiltabelle!H51","v":0}]
[{"$error":"#N/A"},{"$f":"Profiltabelle!C52","v":0},{"$f":"Profiltabelle!D52","v":0},{"$f":"Profiltabelle!E52","v":0},{"$f":"Profiltabelle!F52","v":0},{"$f":"Profiltabelle!G52","v":0},{"$f":"Profiltabelle!H52","v":0}]
[{"$error":"#N/A"},{"$f":"Profiltabelle!C53","v":0},{"$f":"Profiltabelle!D53","v":0},{"$f":"Profiltabelle!E53","v":0},{"$f":"Profiltabelle!F53","v":0},{"$f":"Profiltabelle!G53","v":0},{"$f":"Profiltabelle!H53","v":0}]
[{"$error":"#N/A"},{"$f":"Profiltabelle!C54","v":0},{"$f":"Profiltabelle!D54","v":0},{"$f":"Profiltabelle!E54","v":0},{"$f":"Profiltabelle!F54","v":0},{"$f":"Profiltabelle!G54","v":0},{"$f":"Profiltabelle!H54","v":0}]
[{"$error":"#N/A"},{"$f":"Profiltabelle!C55","v":0},{"$f":"Profiltabelle!D55","v":0},{"$f":"Profiltabelle!E55","v":0},{"$f":"Profiltabelle!F55","v":0},{"$f":"Profiltabelle!G55","v":0},{"$f":"Profiltabelle!H55","v":0}]
[{"$error":"#N/A"},{"$f":"Profiltabelle!C56","v":0},{"$f":"Profiltabelle!D56","v":0},{"$f":"Profiltabelle!E56","v":0},{"$f":"Profiltabelle!F56","v":0},{"$f":"Profiltabelle!G56","v":0},{"$f":"Profiltabelle!H56","v":0}]
[{"$error":"#N/A"},{"$f":"Profiltabelle!C57","v":0},{"$f":"Profiltabelle!D57","v":0},{"$f":"Profiltabelle!E57","v":0},{"$f":"Profiltabelle!F57","v":0},{"$f":"Profiltabelle!G57","v":0},{"$f":"Profiltabelle!H57","v":0}]
[{"$error":"#N/A"},{"$f":"Profiltabelle!C58","v":0},{"$f":"Profiltabelle!D58","v":0},{"$f":"Profiltabelle!E58","v":0},{"$f":"Profiltabelle!F58","v":0},{"$f":"Profiltabelle!G58","v":0},{"$f":"Profiltabelle!H58","v":0}]
[{"$error":"#N/A"},{"$f":"Profiltabelle!C59","v":0},{"$f":"Profiltabelle!D59","v":0},{"$f":"Profiltabelle!E59","v":0},{"$f":"Profiltabelle!F59","v":0},{"$f":"Profiltabelle!G59","v":0},{"$f":"Profiltabelle!H59","v":0}]
[{"$error":"#N/A"},{"$f":"Profiltabelle!C60","v":0},{"$f":"Profiltabelle!D60","v":0},{"$f":"Profiltabelle!E60","v":0},{"$f":"Profiltabelle!F60","v":0},{"$f":"Profiltabelle!G60","v":0},{"$f":"Profiltabelle!H60","v":0}]
[{"$error":"#N/A"},{"$f":"Profiltabelle!C61","v":0},{"$f":"Profiltabelle!D61","v":0},{"$f":"Profiltabelle!E61","v":0},{"$f":"Profiltabelle!F61","v":0},{"$f":"Profiltabelle!G61","v":0},{"$f":"Profiltabelle!H61","v":0}]
[{"$error":"#N/A"},{"$f":"Profiltabelle!C62","v":0},{"$f":"Profiltabelle!D62","v":0},{"$f":"Profiltabelle!E62","v":0},{"$f":"Profiltabelle!F62","v":0},{"$f":"Profiltabelle!G62","v":0},{"$f":"Profiltabelle!H62","v":0}]
[{"$error":"#N/A"},{"$f":"Profiltabelle!C63","v":0},{"$f":"Profiltabelle!D63","v":0},{"$f":"Profiltabelle!E63","v":0},{"$f":"Profiltabelle!F63","v":0},{"$f":"Profiltabelle!G63","v":0},{"$f":"Profiltabelle!H63","v":0}]
[{"$error":"#N/A"},{"$f":"Profiltabelle!C64","v":0},{"$f":"Profiltabelle!D64","v":0},{"$f":"Profiltabelle!E64","v":0},{"$f":"Profiltabelle!F64","v":0},{"$f":"Profiltabelle!G64","v":0},{"$f":"Profiltabelle!H64","v":0}]
[{"$error":"#N/A"},{"$f":"Profiltabelle!C65","v":0},{"$f":"Profiltabelle!D65","v":0},{"$f":"Profiltabelle!E65","v":0},{"$f":"Profiltabelle!F65","v":0},{"$f":"Profiltabelle!G65","v":0},{"$f":"Profiltabelle!H65","v":0}]
[{"$error":"#N/A"},{"$f":"Profiltabelle!C66","v":0},{"$f":"Profiltabelle!D66","v":0},{"$f":"Profiltabelle!E66","v":0},{"$f":"Profiltabelle!F66","v":0},{"$f":"Profiltabelle!G66","v":0},{"$f":"Profiltabelle!H66","v":0}]
[{"$error":"#N/A"},{"$f":"Profiltabelle!C67","v":0},{"$f":"Profiltabelle!D67","v":0},{"$f":"Profiltabelle!E67","v":0},{"$f":"Profiltabelle!F67","v":0},{"$f":"Profiltabelle!G67","v":0},{"$f":"Profiltabelle!H67","v":0}]
[{"$error":"#N/A"},{"$f":"Profiltabelle!C68","v":0},{"$f":"Profiltabelle!D68","v":0},{"$f":"Profiltabelle!E68","v":0},{"$f":"Profiltabelle!F68","v":0},{"$f":"Profiltabelle!G68","v":0},{"$f":"Profiltabelle!H68","v":0}]
[{"$error":"#N/A"},{"$f":"Profiltabelle!C69","v":0},{"$f":"Profiltabelle!D69","v":0},{"$f":"Profiltabelle!E69","v":0},{"$f":"Profiltabelle!F69","v":0},{"$f":"Profiltabelle!G69","v":0},{"$f":"Profiltabelle!H69","v":0}]
[{"$error":"#N/A"},{"$f":"Profiltabelle!C70","v":0},{"$f":"Profiltabelle!D70","v":0},{"$f":"Profiltabelle!E70","v":0},{"$f":"Profiltabelle!F70","v":0},{"$f":"Profiltabelle!G70","v":0},{"$f":"Profiltabelle!H70","v":0}]
[{"$error":"#N/A"},{"$f":"Profiltabelle!C71","v":0},{"$f":"Profiltabelle!D71","v":0},{"$f":"Profiltabelle!E71","v":0},{"$f":"Profiltabelle!F71","v":0},{"$f":"Profiltabelle!G71","v":0},{"$f":"Profiltabelle!H71","v":0}]
[{"$error":"#N/A"},{"$f":"Profiltabelle!C72","v":0},{"$f":"Profiltabelle!D72","v":0},{"$f":"Profiltabelle!E72","v":0},{"$f":"Profiltabelle!F72","v":0},{"$f":"Profiltabelle!G72","v":0},{"$f":"Profiltabelle!H72","v":0}]
[{"$error":"#N/A"},{"$f":"Profiltabelle!C73","v":0},{"$f":"Profiltabelle!D73","v":0},{"$f":"Profiltabelle!E73","v":0},{"$f":"Profiltabelle!F73","v":0},{"$f":"Profiltabelle!G73","v":0},{"$f":"Profiltabelle!H73","v":0}]
[{"$error":"#N/A"},{"$f":"Profiltabelle!C74","v":0},{"$f":"Profiltabelle!D74","v":0},{"$f":"Profiltabelle!E74","v":0},{"$f":"Profiltabelle!F74","v":0},{"$f":"Profiltabelle!G74","v":0},{"$f":"Profiltabelle!H74","v":0}]
[{"$error":"#N/A"},{"$f":"Profiltabelle!C75","v":0},{"$f":"Profiltabelle!D75","v":0},{"$f":"Profiltabelle!E75","v":0},{"$f":"Profiltabelle!F75","v":0},{"$f":"Profiltabelle!G75","v":0},{"$f":"Profiltabelle!H75","v":0}]
[{"$error":"#N/A"},{"$f":"Profiltabelle!C76","v":0},{"$f":"Profiltabelle!D76","v":0},{"$f":"Profiltabelle!E76","v":0},{"$f":"Profiltabelle!F76","v":0},{"$f":"Profiltabelle!G76","v":0},{"$f":"Profiltabelle!H76","v":0}]
[{"$error":"#N/A"},{"$f":"Profiltabelle!C77","v":0},{"$f":"Profiltabelle!D77","v":0},{"$f":"Profiltabelle!E77","v":0},{"$f":"Profiltabelle!F77","v":0},{"$f":"Profiltabelle!G77","v":0},{"$f":"Profiltabelle!H77","v":0}]
[{"$error":"#N/A"},{"$f":"Profiltabelle!C78","v":0},{"$f":"Profiltabelle!D78","v":0},{"$f":"Profiltabelle!E78","v":0},{"$f":"Profiltabelle!F78","v":0},{"$f":"Profiltabelle!G78","v":0},{"$f":"Profiltabelle!H78","v":0}]
[{"$error":"#N/A"},{"$f":"Profiltabelle!C79","v":0},{"$f":"Profiltabelle!D79","v":0},{"$f":"Profiltabelle!E79","v":0},{"$f":"Profiltabelle!F79","v":0},{"$f":"Profiltabelle!G79","v":0},{"$f":"Profiltabelle!H79","v":0}]
[{"$error":"#N/A"},{"$f":"Profiltabelle!C80","v":0},{"$f":"Profiltabelle!D80","v":0},{"$f":"Profiltabelle!E80","v":0},{"$f":"Profiltabelle!F80","v":0},{"$f":"Profiltabelle!G80","v":0},{"$f":"Profiltabelle!H80","v":0}]
[{"$error":"#N/A"},{"$f":"Profiltabelle!C81","v":0},{"$f":"Profiltabelle!D81","v":0},{"$f":"Profiltabelle!E81","v":0},{"$f":"Profiltabelle!F81","v":0},{"$f":"Profiltabelle!G81","v":0},{"$f":"Profiltabelle!H81","v":0}]
[{"$error":"#N/A"},{"$f":"Profiltabelle!C82","v":0},{"$f":"Profiltabelle!D82","v":0},{"$f":"Profiltabelle!E82","v":0},{"$f":"Profiltabelle!F82","v":0},{"$f":"Profiltabelle!G82","v":0},{"$f":"Profiltabelle!H82","v":0}]
[{"$error":"#N/A"},{"$f":"Profiltabelle!C83","v":0},{"$f":"Profiltabelle!D83","v":0},{"$f":"Profiltabelle!E83","v":0},{"$f":"Profiltabelle!F83","v":0},{"$f":"Profiltabelle!G83","v":0},{"$f":"Profiltabelle!H83","v":0}]
[{"$error":"#N/A"},{"$f":"Profiltabelle!C84","v":0},{"$f":"Profiltabelle!D84","v":0},{"$f":"Profiltabelle!E84","v":0},{"$f":"Profiltabelle!F84","v":0},{"$f":"Profiltabelle!G84","v":0},{"$f":"Profiltabelle!H84","v":0}]
[{"$error":"#N/A"},{"$f":"Profiltabelle!C85","v":0},{"$f":"Profiltabelle!D85","v":0},{"$f":"Profiltabelle!E85","v":0},{"$f":"Profiltabelle!F85","v":0},{"$f":"Profiltabelle!G85","v":0},{"$f":"Profiltabelle!H85","v":0}]
[{"$error":"#N/A"},{"$f":"Profiltabelle!C86","v":0},{"$f":"Profiltabelle!D86","v":0},{"$f":"Profiltabelle!E86","v":0},{"$f":"Profiltabelle!F86","v":0},{"$f":"Profiltabelle!G86","v":0},{"$f":"Profiltabelle!H86","v":0}]
[{"$error":"#N/A"},{"$f":"Profiltabelle!C87","v":0},{"$f":"Profiltabelle!D87","v":0},{"$f":"Profiltabelle!E87","v":0},{"$f":"Profiltabelle!F87","v":0},{"$f":"Profiltabelle!G87","v":0},{"$f":"Profiltabelle!H87","v":0}]
[{"$error":"#N/A"},{"$f":"Profiltabelle!C88","v":0},{"$f":"Profiltabelle!D88","v":0},{"$f":"Profiltabelle!E88","v":0},{"$f":"Profiltabelle!F88","v":0},{"$f":"Profiltabelle!G88","v":0},{"$f":"Profiltabelle!H88","v":0}]
[{"$error":"#N/A"},{"$f":"Profiltabelle!C89","v":0},{"$f":"Profiltabelle!D89","v":0},{"$f":"Profiltabelle!E89","v":0},{"$f":"Profiltabelle!F89","v":0},{"$f":"Profiltabelle!G89","v":0},{"$f":"Profiltabelle!H89","v":0}]
[{"$error":"#N/A"},{"$f":"Profiltabelle!C90","v":0},{"$f":"Profiltabelle!D90","v":0},{"$f":"Profiltabelle!E90","v":0},{"$f":"Profiltabelle!F90","v":0},{"$f":"Profiltabelle!G90","v":0},{"$f":"Profiltabelle!H90","v":0}]
[{"$error":"#N/A"},{"$f":"Profiltabelle!C91","v":0},{"$f":"Profiltabelle!D91","v":0},{"$f":"Profiltabelle!E91","v":0},{"$f":"Profiltabelle!F91","v":0},{"$f":"Profiltabelle!G91","v":0},{"$f":"Profiltabelle!H91","v":0}]
[{"$error":"#N/A"},{"$f":"Profiltabelle!C92","v":0},{"$f":"Profiltabelle!D92","v":0},{"$f":"Profiltabelle!E92","v":0},{"$f":"Profiltabelle!F92","v":0},{"$f":"Profiltabelle!G92","v":0},{"$f":"Profiltabelle!H92","v":0}]
[{"$error":"#N/A"},{"$f":"Profiltabelle!C93","v":0},{"$f":"Profiltabelle!D93","v":0},{"$f":"Profiltabelle!E93","v":0},{"$f":"Profiltabelle!F93","v":0},{"$f":"Profiltabelle!G93","v":0},{"$f":"Profiltabelle!H93","v":0}]
[{"$error":"#N/A"},{"$f":"Profiltabelle!C94","v":0},{"$f":"Profiltabelle!D94","v":0},{"$f":"Profiltabelle!E94","v":0},{"$f":"Profiltabelle!F94","v":0},{"$f":"Profiltabelle!G94","v":0},{"$f":"Profiltabelle!H94","v":0}]
[{"$error":"#N/A"},{"$f":"Profiltabelle!C95","v":0},{"$f":"Profiltabelle!D95","v":0},{"$f":"Profiltabelle!E95","v":0},{"$f":"Profiltabelle!F95","v":0},{"$f":"Profiltabelle!G95","v":0},{"$f":"Profiltabelle!H95","v":0}]
[{"$error":"#N/A"},{"$f":"Profiltabelle!C96","v":0},{"$f":"Profiltabelle!D96","v":0},{"$f":"Profiltabelle!E96","v":0},{"$f":"Profiltabelle!F96","v":0},{"$f":"Profiltabelle!G96","v":0},{"$f":"Profiltabelle!H96","v":0}]
[{"$error":"#N/A"},{"$f":"Profiltabelle!C97","v":0},{"$f":"Profiltabelle!D97","v":0},{"$f":"Profiltabelle!E97","v":0},{"$f":"Profiltabelle!F97","v":0},{"$f":"Profiltabelle!G97","v":0},{"$f":"Profiltabelle!H97","v":0}]
[{"$error":"#N/A"},{"$f":"Profiltabelle!C98","v":0},{"$f":"Profiltabelle!D98","v":0},{"$f":"Profiltabelle!E98","v":0},{"$f":"Profiltabelle!F98","v":0},{"$f":"Profiltabelle!G98","v":0},{"$f":"Profiltabelle!H98","v":0}]
[{"$error":"#N/A"},{"$f":"Profiltabelle!C99","v":0},{"$f":"Profiltabelle!D99","v":0},{"$f":"Profiltabelle!E99","v":0},{"$f":"Profiltabelle!F99","v":0},{"$f":"Profiltabelle!G99","v":0},{"$f":"Profiltabelle!H99","v":0}]
[{"$error":"#N/A"},{"$f":"Profiltabelle!C100","v":0},{"$f":"Profiltabelle!D100","v":0},{"$f":"Profiltabelle!E100","v":0},{"$f":"Profiltabelle!F100","v":0},{"$f":"Profiltabelle!G100","v":0},{"$f":"Profiltabelle!H100","v":0}]
[{"$error":"#N/A"},{"$f":"Profiltabelle!C101","v":0},{"$f":"Profiltabelle!D101","v":0},{"$f":"Profiltabelle!E101","v":0},{"$f":"Profiltabelle!F101","v":0},{"$f":"Profiltabelle!G101","v":0},{"$f":"Profiltabelle!H101","v":0}]
[{"$error":"#N/A"},{"$f":"Profiltabelle!C102","v":0},{"$f":"Profiltabelle!D102","v":0},{"$f":"Profiltabelle!E102","v":0},{"$f":"Profiltabelle!F102","v":0},{"$f":"Profiltabelle!G102","v":0},{"$f":"Profiltabelle!H102","v":0}]
[{"$error":"#N/A"},{"$f":"Profiltabelle!C103","v":0},{"$f":"Profiltabelle!D103","v":0},{"$f":"Profiltabelle!E103","v":0},{"$f":"Profiltabelle!F103","v":0},{"$f":"Profiltabelle!G103","v":0},{"$f":"Profiltabelle!H103","v":0}]
[{"$error":"#N/A"},{"$f":"Profiltabelle!C104","v":0},{"$f":"Profiltabelle!D104","v":0},{"$f":"Profiltabelle!E104","v":0},{"$f":"Profiltabelle!F104","v":0},{"$f":"Profiltabelle!G104","v":0},{"$f":"Profiltabelle!H104","v":0}]
[{"$error":"#N/A"},{"$f":"Profiltabelle!C105","v":0},{"$f":"Profiltabelle!D105","v":0},{"$f":"Profiltabelle!E105","v":0},{"$f":"Profiltabelle!F105","v":0},{"$f":"Profiltabelle!G105","v":0},{"$f":"Profiltabelle!H105","v":0}]
[{"$error":"#N/A"},{"$f":"Profiltabelle!C106","v":0},{"$f":"Profiltabelle!D106","v":0},{"$f":"Profiltabelle!E106","v":0},{"$f":"Profiltabelle!F106","v":0},{"$f":"Profiltabelle!G106","v":0},{"$f":"Profiltabelle!H106","v":0}]
[{"$error":"#N/A"},{"$f":"Profiltabelle!C107","v":0},{"$f":"Profiltabelle!D107","v":0},{"$f":"Profiltabelle!E107","v":0},{"$f":"Profiltabelle!F107","v":0},{"$f":"Profiltabelle!G107","v":0},{"$f":"Profiltabelle!H107","v":0}]
[{"$error":"#N/A"},{"$f":"Profiltabelle!C108","v":0},{"$f":"Profiltabelle!D108","v":0},{"$f":"Profiltabelle!E108","v":0},{"$f":"Profiltabelle!F108","v":0},{"$f":"Profiltabelle!G108","v":0},{"$f":"Profiltabelle!H108","v":0}]
[{"$error":"#N/A"},{"$f":"Profiltabelle!C109","v":0},{"$f":"Profiltabelle!D109","v":0},{"$f":"Profiltabelle!E109","v":0},{"$f":"Profiltabelle!F109","v":0},{"$f":"Profiltabelle!G109","v":0},{"$f":"Profiltabelle!H109","v":0}]
[{"$error":"#N/A"},{"$f":"Profiltabelle!C110","v":0},{"$f":"Profiltabelle!D110","v":0},{"$f":"Profiltabelle!E110","v":0},{"$f":"Profiltabelle!F110","v":0},{"$f":"Profiltabelle!G110","v":0},{"$f":"Profiltabelle!H110","v":0}]
[{"$error":"#N/A"},{"$f":"Profiltabelle!C111","v":0},{"$f":"Profiltabelle!D111","v":0},{"$f":"Profiltabelle!E111","v":0},{"$f":"Profiltabelle!F111","v":0},{"$f":"Profiltabelle!G111","v":0},{"$f":"Profiltabelle!H111","v":0}]
[{"$error":"#N/A"},{"$f":"Profiltabelle!C112","v":0},{"$f":"Profiltabelle!D112","v":0},{"$f":"Profiltabelle!E112","v":0},{"$f":"Profiltabelle!F112","v":0},{"$f":"Profiltabelle!G112","v":0},{"$f":"Profiltabelle!H112","v":0}]
[{"$error":"#N/A"},{"$f":"Profiltabelle!C113","v":0},{"$f":"Profiltabelle!D113","v":0},{"$f":"Profiltabelle!E113","v":0},{"$f":"Profiltabelle!F113","v":0},{"$f":"Profiltabelle!G113","v":0},{"$f":"Profiltabelle!H113","v":0}]
[{"$error":"#N/A"},{"$f":"Profiltabelle!C114","v":0},{"$f":"Profiltabelle!D114","v":0},{"$f":"Profiltabelle!E114","v":0},{"$f":"Profiltabelle!F114","v":0},{"$f":"Profiltabelle!G114","v":0},{"$f":"Profiltabelle!H114","v":0}]
[{"$error":"#N/A"},{"$f":"Profiltabelle!C115","v":0},{"$f":"Profiltabelle!D115","v":0},{"$f":"Profiltabelle!E115","v":0},{"$f":"Profiltabelle!F115","v":0},{"$f":"Profiltabelle!G115","v":0},{"$f":"Profiltabelle!H115","v":0}]
[{"$error":"#N/A"},{"$f":"Profiltabelle!C116","v":0},{"$f":"Profiltabelle!D116","v":0},{"$f":"Profiltabelle!E116","v":0},{"$f":"Profiltabelle!F116","v":0},{"$f":"Profiltabelle!G116","v":0},{"$f":"Profiltabelle!H116","v":0}]
[{"$error":"#N/A"},{"$f":"Profiltabelle!C117","v":0},{"$f":"Profiltabelle!D117","v":0},{"$f":"Profiltabelle!E117","v":0},{"$f":"Profiltabelle!F117","v":0},{"$f":"Profiltabelle!G117","v":0},{"$f":"Profiltabelle!H117","v":0}]
[{"$error":"#N/A"},{"$f":"Profiltabelle!C118","v":0},{"$f":"Profiltabelle!D118","v":0},{"$f":"Profiltabelle!E118","v":0},{"$f":"Profiltabelle!F118","v":0},{"$f":"Profiltabelle!G118","v":0},{"$f":"Profiltabelle!H118","v":0}]
[{"$error":"#N/A"},{"$f":"Profiltabelle!C119","v":0},{"$f":"Profiltabelle!D119","v":0},{"$f":"Profiltabelle!E119","v":0},{"$f":"Profiltabelle!F119","v":0},{"$f":"Profiltabelle!G119","v":0},{"$f":"Profiltabelle!H119","v":0}]
[{"$error":"#N/A"},{"$f":"Profiltabelle!C120","v":0},{"$f":"Profiltabelle!D120","v":0},{"$f":"Profiltabelle!E120","v":0},{"$f":"Profiltabelle!F120","v":0},{"$f":"Profiltabelle!G120","v":0},{"$f":"Profiltabelle!H120","v":0}]
[{"$error":"#N/A"},{"$f":"Profiltabelle!C121","v":0},{"$f":"Profiltabelle!D121","v":0},{"$f":"Profiltabelle!E121","v":0},{"$f":"Profiltabelle!F121","v":0},{"$f":"Profiltabelle!G121","v":0},{"$f":"Profiltabelle!H121","v":0}]
[{"$error":"#N/A"},{"$f":"Profiltabelle!C122","v":0},{"$f":"Profiltabelle!D122","v":0},{"$f":"Profiltabelle!E122","v":0},{"$f":"Profiltabelle!F122","v":0},{"$f":"Profiltabelle!G122","v":0},{"$f":"Profiltabelle!H122","v":0}]
[{"$error":"#N/A"},{"$f":"Profiltabelle!C123","v":0},{"$f":"Profiltabelle!D123","v":0},{"$f":"Profiltabelle!E123","v":0},{"$f":"Profiltabelle!F123","v":0},{"$f":"Profiltabelle!G123","v":0},{"$f":"Profiltabelle!H123","v":0}]
[{"$error":"#N/A"},{"$f":"Profiltabelle!C124","v":0},{"$f":"Profiltabelle!D124","v":0},{"$f":"Profiltabelle!E124","v":0},{"$f":"Profiltabelle!F124","v":0},{"$f":"Profiltabelle!G124","v":0},{"$f":"Profiltabelle!H124","v":0}]
[{"$error":"#N/A"},{"$f":"Profiltabelle!C125","v":0},{"$f":"Profiltabelle!D125","v":0},{"$f":"Profiltabelle!E125","v":0},{"$f":"Profiltabelle!F125","v":0},{"$f":"Profiltabelle!G125","v":0},{"$f":"Profiltabelle!H125","v":0}]
[{"$error":"#N/A"},{"$f":"Profiltabelle!C126","v":0},{"$f":"Profiltabelle!D126","v":0},{"$f":"Profiltabelle!E126","v":0},{"$f":"Profiltabelle!F126","v":0},{"$f":"Profiltabelle!G126","v":0},{"$f":"Profiltabelle!H126","v":0}]
[{"$error":"#N/A"},{"$f":"Profiltabelle!C127","v":0},{"$f":"Profiltabelle!D127","v":0},{"$f":"Profiltabelle!E127","v":0},{"$f":"Profiltabelle!F127","v":0},{"$f":"Profiltabelle!G127","v":0},{"$f":"Profiltabelle!H127","v":0}]
[{"$error":"#N/A"},{"$f":"Profiltabelle!C128","v":0},{"$f":"Profiltabelle!D128","v":0},{"$f":"Profiltabelle!E128","v":0},{"$f":"Profiltabelle!F128","v":0},{"$f":"Profiltabelle!G128","v":0},{"$f":"Profiltabelle!H128","v":0}]
[{"$error":"#N/A"},{"$f":"Profiltabelle!C129","v":0},{"$f":"Profiltabelle!D129","v":0},{"$f":"Profiltabelle!E129","v":0},{"$f":"Profiltabelle!F129","v":0},{"$f":"Profiltabelle!G129","v":0},{"$f":"Profiltabelle!H129","v":0}]
[{"$error":"#N/A"},{"$f":"Profiltabelle!C130","v":0},{"$f":"Profiltabelle!D130","v":0},{"$f":"Profiltabelle!E130","v":0},{"$f":"Profiltabelle!F130","v":0},{"$f":"Profiltabelle!G130","v":0},{"$f":"Profiltabelle!H130","v":0}]
[{"$error":"#N/A"},{"$f":"Profiltabelle!C131","v":0},{"$f":"Profiltabelle!D131","v":0},{"$f":"Profiltabelle!E131","v":0},{"$f":"Profiltabelle!F131","v":0},{"$f":"Profiltabelle!G131","v":0},{"$f":"Profiltabelle!H131","v":0}]
[{"$error":"#N/A"},{"$f":"Profiltabelle!C132","v":0},{"$f":"Profiltabelle!D132","v":0},{"$f":"Profiltabelle!E132","v":0},{"$f":"Profiltabelle!F132","v":0},{"$f":"Profiltabelle!G132","v":0},{"$f":"Profiltabelle!H132","v":0}]
[{"$error":"#N/A"},{"$f":"Profiltabelle!C133","v":0},{"$f":"Profiltabelle!D133","v":0},{"$f":"Profiltabelle!E133","v":0},{"$f":"Profiltabelle!F133","v":0},{"$f":"Profiltabelle!G133","v":0},{"$f":"Profiltabelle!H133","v":0}]
[{"$error":"#N/A"},{"$f":"Profiltabelle!C134","v":0},{"$f":"Profiltabelle!D134","v":0},{"$f":"Profiltabelle!E134","v":0},{"$f":"Profiltabelle!F134","v":0},{"$f":"Profiltabelle!G134","v":0},{"$f":"Profiltabelle!H134","v":0}]
[{"$error":"#N/A"},{"$f":"Profiltabelle!C135","v":0},{"$f":"Profiltabelle!D135","v":0},{"$f":"Profiltabelle!E135","v":0},{"$f":"Profiltabelle!F135","v":0},{"$f":"Profiltabelle!G135","v":0},{"$f":"Profiltabelle!H135","v":0}]
[{"$error":"#N/A"},{"$f":"Profiltabelle!C136","v":0},{"$f":"Profiltabelle!D136","v":0},{"$f":"Profiltabelle!E136","v":0},{"$f":"Profiltabelle!F136","v":0},{"$f":"Profiltabelle!G136","v":0},{"$f":"Profiltabelle!H136","v":0}]
[{"$error":"#N/A"},{"$f":"Profiltabelle!C137","v":0},{"$f":"Profiltabelle!D137","v":0},{"$f":"Profiltabelle!E137","v":0},{"$f":"Profiltabelle!F137","v":0},{"$f":"Profiltabelle!G137","v":0},{"$f":"Profiltabelle!H137","v":0}]
[{"$error":"#N/A"},{"$f":"Profiltabelle!C138","v":0},{"$f":"Profiltabelle!D138","v":0},{"$f":"Profiltabelle!E138","v":0},{"$f":"Profiltabelle!F138","v":0},{"$f":"Profiltabelle!G138","v":0},{"$f":"Profiltabelle!H138","v":0}]
[{"$error":"#N/A"},{"$f":"Profiltabelle!C139","v":0},{"$f":"Profiltabelle!D139","v":0},{"$f":"Profiltabelle!E139","v":0},{"$f":"Profiltabelle!F139","v":0},{"$f":"Profiltabelle!G139","v":0},{"$f":"Profiltabelle!H139","v":0}]
[{"$error":"#N/A"},{"$f":"Profiltabelle!C140","v":0},{"$f":"Profiltabelle!D140","v":0},{"$f":"Profiltabelle!E140","v":0},{"$f":"Profiltabelle!F140","v":0},{"$f":"Profiltabelle!G140","v":0},{"$f":"Profiltabelle!H140","v":0}]
[{"$error":"#N/A"},{"$f":"Profiltabelle!C141","v":0},{"$f":"Profiltabelle!D141","v":0},{"$f":"Profiltabelle!E141","v":0},{"$f":"Profiltabelle!F141","v":0},{"$f":"Profiltabelle!G141","v":0},{"$f":"Profiltabelle!H141","v":0}]
[{"$error":"#N/A"},{"$f":"Profiltabelle!C142","v":0},{"$f":"Profiltabelle!D142","v":0},{"$f":"Profiltabelle!E142","v":0},{"$f":"Profiltabelle!F142","v":0},{"$f":"Profiltabelle!G142","v":0},{"$f":"Profiltabelle!H142","v":0}]
[{"$error":"#N/A"},{"$f":"Profiltabelle!C143","v":0},{"$f":"Profiltabelle!D143","v":0},{"$f":"Profiltabelle!E143","v":0},{"$f":"Profiltabelle!F143","v":0},{"$f":"Profiltabelle!G143","v":0},{"$f":"Profiltabelle!H143","v":0}]
[{"$error":"#N/A"},{"$f":"Profiltabelle!C144","v":0},{"$f":"Profiltabelle!D144","v":0},{"$f":"Profiltabelle!E144","v":0},{"$f":"Profiltabelle!F144","v":0},{"$f":"Profiltabelle!G144","v":0},{"$f":"Profiltabelle!H144","v":0}]
[{"$error":"#N/A"},{"$f":"Profiltabelle!C145","v":0},{"$f":"Profiltabelle!D145","v":0},{"$f":"Profiltabelle!E145","v":0},{"$f":"Profiltabelle!F145","v":0},{"$f":"Profiltabelle!G145","v":0},{"$f":"Profiltabelle!H145","v":0}]
[{"$error":"#N/A"},{"$f":"Profiltabelle!C146","v":0},{"$f":"Profiltabelle!D146","v":0},{"$f":"Profiltabelle!E146","v":0},{"$f":"Profiltabelle!F146","v":0},{"$f":"Profiltabelle!G146","v":0},{"$f":"Profiltabelle!H146","v":0}]
[{"$error":"#N/A"},{"$f":"Profiltabelle!C147","v":0},{"$f":"Profiltabelle!D147","v":0},{"$f":"Profiltabelle!E147","v":0},{"$f":"Profiltabelle!F147","v":0},{"$f":"Profiltabelle!G147","v":0},{"$f":"Profiltabelle!H147","v":0}]
[{"$error":"#N/A"},{"$f":"Profiltabelle!C148","v":0},{"$f":"Profiltabelle!D148","v":0},{"$f":"Profiltabelle!E148","v":0},{"$f":"Profiltabelle!F148","v":0},{"$f":"Profiltabelle!G148","v":0},{"$f":"Profiltabelle!H148","v":0}]
[{"$error":"#N/A"},{"$f":"Profiltabelle!C149","v":0},{"$f":"Profiltabelle!D149","v":0},{"$f":"Profiltabelle!E149","v":0},{"$f":"Profiltabelle!F149","v":0},{"$f":"Profiltabelle!G149","v":0},{"$f":"Profiltabelle!H149","v":0}]
[{"$error":"#N/A"},{"$f":"Profiltabelle!C150","v":0},{"$f":"Profiltabelle!D150","v":0},{"$f":"Profiltabelle!E150","v":0},{"$f":"Profiltabelle!F150","v":0},{"$f":"Profiltabelle!G150","v":0},{"$f":"Profiltabelle!H150","v":0}]
[{"$error":"#N/A"},{"$f":"Profiltabelle!C151","v":0},{"$f":"Profiltabelle!D151","v":0},{"$f":"Profiltabelle!E151","v":0},{"$f":"Profiltabelle!F151","v":0},{"$f":"Profiltabelle!G151","v":0},{"$f":"Profiltabelle!H151","v":0}]
[{"$error":"#N/A"},{"$f":"Profiltabelle!C152","v":0},{"$f":"Profiltabelle!D152","v":0},{"$f":"Profiltabelle!E152","v":0},{"$f":"Profiltabelle!F152","v":0},{"$f":"Profiltabelle!G152","v":0},{"$f":"Profiltabelle!H152","v":0}]
[{"$error":"#N/A"},{"$f":"Profiltabelle!C153","v":0},{"$f":"Profiltabelle!D153","v":0},{"$f":"Profiltabelle!E153","v":0},{"$f":"Profiltabelle!F153","v":0},{"$f":"Profiltabelle!G153","v":0},{"$f":"Profiltabelle!H153","v":0}]
[{"$error":"#N/A"},{"$f":"Profiltabelle!C154","v":0},{"$f":"Profiltabelle!D154","v":0},{"$f":"Profiltabelle!E154","v":0},{"$f":"Profiltabelle!F154","v":0},{"$f":"Profiltabelle!G154","v":0},{"$f":"Profiltabelle!H154","v":0}]
[{"$error":"#N/A"},{"$f":"Profiltabelle!C155","v":0},{"$f":"Profiltabelle!D155","v":0},{"$f":"Profiltabelle!E155","v":0},{"$f":"Profiltabelle!F155","v":0},{"$f":"Profiltabelle!G155","v":0},{"$f":"Profiltabelle!H155","v":0}]
[{"$error":"#N/A"},{"$f":"Profiltabelle!C156","v":0},{"$f":"Profiltabelle!D156","v":0},{"$f":"Profiltabelle!E156","v":0},{"$f":"Profiltabelle!F156","v":0},{"$f":"Profiltabelle!G156","v":0},{"$f":"Profiltabelle!H156","v":0}]
[{"$error":"#N/A"},{"$f":"Profiltabelle!C157","v":0},{"$f":"Profiltabelle!D157","v":0},{"$f":"Profiltabelle!E157","v":0},{"$f":"Profiltabelle!F157","v":0},{"$f":"Profiltabelle!G157","v":0},{"$f":"Profiltabelle!H157","v":0}]
[{"$error":"#N/A"},{"$f":"Profiltabelle!C158","v":0},{"$f":"Profiltabelle!D158","v":0},{"$f":"Profiltabelle!E158","v":0},{"$f":"Profiltabelle!F158","v":0},{"$f":"Profiltabelle!G158","v":0},{"$f":"Profiltabelle!H158","v":0}]
[{"$error":"#N/A"},{"$f":"Profiltabelle!C159","v":0},{"$f":"Profiltabelle!D159","v":0},{"$f":"Profiltabelle!E159","v":0},{"$f":"Profiltabelle!F159","v":0},{"$f":"Profiltabelle!G159","v":0},{"$f":"Profiltabelle!H159","v":0}]
[{"$error":"#N/A"},{"$f":"Profiltabelle!C160","v":0},{"$f":"Profiltabelle!D160","v":0},{"$f":"Profiltabelle!E160","v":0},{"$f":"Profiltabelle!F160","v":0},{"$f":"Profiltabelle!G160","v":0},{"$f":"Profiltabelle!H160","v":0}]
[null,null,null,null,null,null,{"$f":"SUBTOTAL(103,Tabelle132[WPU 7 WiPo])","v":149}]

{"sheet":"Kurs2","index":4,"n_rows":154,"n_cols":14,"rows_kept":154,"cut":false,"hidden":false,"merged":[]}
["1. Wunsch",{"$f":"SUMIFS(B$5:B$153,$C$5:$C$153,\"1\",B$5:B$153,\"1\")","v":0},0,0,0,0,0]
["2. Wunsch",{"$f":"SUMIFS(B$5:B$153,$C$5:$C$153,\"1\",B$5:B$153,\"2\")/2","v":0},0,0,0,0,0]
["3. Wunsch",{"$f":"SUMIFS(B$5:B$153,$C$5:$C$153,\"1\",B$5:B$153,\"3\")/3","v":0},0,0,0,0,0]
["Namen","WPU 7 Biogarten","WPU 7 Französisch","WPU 7 Gesund und fit","WPU 7 Informatik","WPU 7 Technik","WPU 7 WiPo",null,null,null,null,null,null,{"$f":"$C$4","v":"WPU 7 Französisch"}]
[{"$error":"#N/A"},{"$f":"Profiltabelle!C12","v":0},{"$f":"Profiltabelle!D12","v":0},{"$f":"Profiltabelle!E12","v":0},{"$f":"Profiltabelle!F12","v":0},{"$f":"Profiltabelle!G12","v":0},{"$f":"Profiltabelle!H12","v":0}]
[{"$error":"#N/A"},{"$f":"Profiltabelle!C13","v":0},{"$f":"Profiltabelle!D13","v":0},{"$f":"Profiltabelle!E13","v":0},{"$f":"Profiltabelle!F13","v":0},{"$f":"Profiltabelle!G13","v":0},{"$f":"Profiltabelle!H13","v":0}]
[{"$error":"#N/A"},{"$f":"Profiltabelle!C14","v":0},{"$f":"Profiltabelle!D14","v":0},{"$f":"Profiltabelle!E14","v":0},{"$f":"Profiltabelle!F14","v":0},{"$f":"Profiltabelle!G14","v":0},{"$f":"Profiltabelle!H14","v":0}]
[{"$error":"#N/A"},{"$f":"Profiltabelle!C15","v":0},{"$f":"Profiltabelle!D15","v":0},{"$f":"Profiltabelle!E15","v":0},{"$f":"Profiltabelle!F15","v":0},{"$f":"Profiltabelle!G15","v":0},{"$f":"Profiltabelle!H15","v":0}]
[{"$error":"#N/A"},{"$f":"Profiltabelle!C16","v":0},{"$f":"Profiltabelle!D16","v":0},{"$f":"Profiltabelle!E16","v":0},{"$f":"Profiltabelle!F16","v":0},{"$f":"Profiltabelle!G16","v":0},{"$f":"Profiltabelle!H16","v":0}]
[{"$error":"#N/A"},{"$f":"Profiltabelle!C17","v":0},{"$f":"Profiltabelle!D17","v":0},{"$f":"Profiltabelle!E17","v":0},{"$f":"Profiltabelle!F17","v":0},{"$f":"Profiltabelle!G17","v":0},{"$f":"Profiltabelle!H17","v":0}]
[{"$error":"#N/A"},{"$f":"Profiltabelle!C18","v":0},{"$f":"Profiltabelle!D18","v":0},{"$f":"Profiltabelle!E18","v":0},{"$f":"Profiltabelle!F18","v":0},{"$f":"Profiltabelle!G18","v":0},{"$f":"Profiltabelle!H18","v":0}]
[{"$error":"#N/A"},{"$f":"Profiltabelle!C19","v":0},{"$f":"Profiltabelle!D19","v":0},{"$f":"Profiltabelle!E19","v":0},{"$f":"Profiltabelle!F19","v":0},{"$f":"Profiltabelle!G19","v":0},{"$f":"Profiltabelle!H19","v":0}]
[{"$error":"#N/A"},{"$f":"Profiltabelle!C20","v":0},{"$f":"Profiltabelle!D20","v":0},{"$f":"Profiltabelle!E20","v":0},{"$f":"Profiltabelle!F20","v":0},{"$f":"Profiltabelle!G20","v":0},{"$f":"Profiltabelle!H20","v":0}]
[{"$error":"#N/A"},{"$f":"Profiltabelle!C21","v":0},{"$f":"Profiltabelle!D21","v":0},{"$f":"Profiltabelle!E21","v":0},{"$f":"Profiltabelle!F21","v":0},{"$f":"Profiltabelle!G21","v":0},{"$f":"Profiltabelle!H21","v":0}]
[{"$error":"#N/A"},{"$f":"Profiltabelle!C22","v":0},{"$f":"Profiltabelle!D22","v":0},{"$f":"Profiltabelle!E22","v":0},{"$f":"Profiltabelle!F22","v":0},{"$f":"Profiltabelle!G22","v":0},{"$f":"Profiltabelle!H22","v":0}]
[{"$error":"#N/A"},{"$f":"Profiltabelle!C23","v":0},{"$f":"Profiltabelle!D23","v":0},{"$f":"Profiltabelle!E23","v":0},{"$f":"Profiltabelle!F23","v":0},{"$f":"Profiltabelle!G23","v":0},{"$f":"Profiltabelle!H23","v":0}]
[{"$error":"#N/A"},{"$f":"Profiltabelle!C24","v":0},{"$f":"Profiltabelle!D24","v":0},{"$f":"Profiltabelle!E24","v":0},{"$f":"Profiltabelle!F24","v":0},{"$f":"Profiltabelle!G24","v":0},{"$f":"Profiltabelle!H24","v":0}]
[{"$error":"#N/A"},{"$f":"Profiltabelle!C25","v":0},{"$f":"Profiltabelle!D25","v":0},{"$f":"Profiltabelle!E25","v":0},{"$f":"Profiltabelle!F25","v":0},{"$f":"Profiltabelle!G25","v":0},{"$f":"Profiltabelle!H25","v":0}]
[{"$error":"#N/A"},{"$f":"Profiltabelle!C26","v":0},{"$f":"Profiltabelle!D26","v":0},{"$f":"Profiltabelle!E26","v":0},{"$f":"Profiltabelle!F26","v":0},{"$f":"Profiltabelle!G26","v":0},{"$f":"Profiltabelle!H26","v":0}]
[{"$error":"#N/A"},{"$f":"Profiltabelle!C27","v":0},{"$f":"Profiltabelle!D27","v":0},{"$f":"Profiltabelle!E27","v":0},{"$f":"Profiltabelle!F27","v":0},{"$f":"Profiltabelle!G27","v":0},{"$f":"Profiltabelle!H27","v":0}]
[{"$error":"#N/A"},{"$f":"Profiltabelle!C28","v":0},{"$f":"Profiltabelle!D28","v":0},{"$f":"Profiltabelle!E28","v":0},{"$f":"Profiltabelle!F28","v":0},{"$f":"Profiltabelle!G28","v":0},{"$f":"Profiltabelle!H28","v":0}]
[{"$error":"#N/A"},{"$f":"Profiltabelle!C29","v":0},{"$f":"Profiltabelle!D29","v":0},{"$f":"Profiltabelle!E29","v":0},{"$f":"Profiltabelle!F29","v":0},{"$f":"Profiltabelle!G29","v":0},{"$f":"Profiltabelle!H29","v":0}]
[{"$error":"#N/A"},{"$f":"Profiltabelle!C30","v":0},{"$f":"Profiltabelle!D30","v":0},{"$f":"Profiltabelle!E30","v":0},{"$f":"Profiltabelle!F30","v":0},{"$f":"Profiltabelle!G30","v":0},{"$f":"Profiltabelle!H30","v":0}]
[{"$error":"#N/A"},{"$f":"Profiltabelle!C31","v":0},{"$f":"Profiltabelle!D31","v":0},{"$f":"Profiltabelle!E31","v":0},{"$f":"Profiltabelle!F31","v":0},{"$f":"Profiltabelle!G31","v":0},{"$f":"Profiltabelle!H31","v":0}]
[{"$error":"#N/A"},{"$f":"Profiltabelle!C32","v":0},{"$f":"Profiltabelle!D32","v":0},{"$f":"Profiltabelle!E32","v":0},{"$f":"Profiltabelle!F32","v":0},{"$f":"Profiltabelle!G32","v":0},{"$f":"Profiltabelle!H32","v":0}]
[{"$error":"#N/A"},{"$f":"Profiltabelle!C33","v":0},{"$f":"Profiltabelle!D33","v":0},{"$f":"Profiltabelle!E33","v":0},{"$f":"Profiltabelle!F33","v":0},{"$f":"Profiltabelle!G33","v":0},{"$f":"Profiltabelle!H33","v":0}]
[{"$error":"#N/A"},{"$f":"Profiltabelle!C34","v":0},{"$f":"Profiltabelle!D34","v":0},{"$f":"Profiltabelle!E34","v":0},{"$f":"Profiltabelle!F34","v":0},{"$f":"Profiltabelle!G34","v":0},{"$f":"Profiltabelle!H34","v":0}]
[{"$error":"#N/A"},{"$f":"Profiltabelle!C35","v":0},{"$f":"Profiltabelle!D35","v":0},{"$f":"Profiltabelle!E35","v":0},{"$f":"Profiltabelle!F35","v":0},{"$f":"Profiltabelle!G35","v":0},{"$f":"Profiltabelle!H35","v":0}]
[{"$error":"#N/A"},{"$f":"Profiltabelle!C36","v":0},{"$f":"Profiltabelle!D36","v":0},{"$f":"Profiltabelle!E36","v":0},{"$f":"Profiltabelle!F36","v":0},{"$f":"Profiltabelle!G36","v":0},{"$f":"Profiltabelle!H36","v":0}]
[{"$error":"#N/A"},{"$f":"Profiltabelle!C37","v":0},{"$f":"Profiltabelle!D37","v":0},{"$f":"Profiltabelle!E37","v":0},{"$f":"Profiltabelle!F37","v":0},{"$f":"Profiltabelle!G37","v":0},{"$f":"Profiltabelle!H37","v":0}]
[{"$error":"#N/A"},{"$f":"Profiltabelle!C38","v":0},{"$f":"Profiltabelle!D38","v":0},{"$f":"Profiltabelle!E38","v":0},{"$f":"Profiltabelle!F38","v":0},{"$f":"Profiltabelle!G38","v":0},{"$f":"Profiltabelle!H38","v":0}]
[{"$error":"#N/A"},{"$f":"Profiltabelle!C39","v":0},{"$f":"Profiltabelle!D39","v":0},{"$f":"Profiltabelle!E39","v":0},{"$f":"Profiltabelle!F39","v":0},{"$f":"Profiltabelle!G39","v":0},{"$f":"Profiltabelle!H39","v":0}]
[{"$error":"#N/A"},{"$f":"Profiltabelle!C40","v":0},{"$f":"Profiltabelle!D40","v":0},{"$f":"Profiltabelle!E40","v":0},{"$f":"Profiltabelle!F40","v":0},{"$f":"Profiltabelle!G40","v":0},{"$f":"Profiltabelle!H40","v":0}]
[{"$error":"#N/A"},{"$f":"Profiltabelle!C41","v":0},{"$f":"Profiltabelle!D41","v":0},{"$f":"Profiltabelle!E41","v":0},{"$f":"Profiltabelle!F41","v":0},{"$f":"Profiltabelle!G41","v":0},{"$f":"Profiltabelle!H41","v":0}]
[{"$error":"#N/A"},{"$f":"Profiltabelle!C42","v":0},{"$f":"Profiltabelle!D42","v":0},{"$f":"Profiltabelle!E42","v":0},{"$f":"Profiltabelle!F42","v":0},{"$f":"Profiltabelle!G42","v":0},{"$f":"Profiltabelle!H42","v":0}]
[{"$error":"#N/A"},{"$f":"Profiltabelle!C43","v":0},{"$f":"Profiltabelle!D43","v":0},{"$f":"Profiltabelle!E43","v":0},{"$f":"Profiltabelle!F43","v":0},{"$f":"Profiltabelle!G43","v":0},{"$f":"Profiltabelle!H43","v":0}]
[{"$error":"#N/A"},{"$f":"Profiltabelle!C44","v":0},{"$f":"Profiltabelle!D44","v":0},{"$f":"Profiltabelle!E44","v":0},{"$f":"Profiltabelle!F44","v":0},{"$f":"Profiltabelle!G44","v":0},{"$f":"Profiltabelle!H44","v":0}]
[{"$error":"#N/A"},{"$f":"Profiltabelle!C45","v":0},{"$f":"Profiltabelle!D45","v":0},{"$f":"Profiltabelle!E45","v":0},{"$f":"Profiltabelle!F45","v":0},{"$f":"Profiltabelle!G45","v":0},{"$f":"Profiltabelle!H45","v":0}]
[{"$error":"#N/A"},{"$f":"Profiltabelle!C46","v":0},{"$f":"Profiltabelle!D46","v":0},{"$f":"Profiltabelle!E46","v":0},{"$f":"Profiltabelle!F46","v":0},{"$f":"Profiltabelle!G46","v":0},{"$f":"Profiltabelle!H46","v":0}]
[{"$error":"#N/A"},{"$f":"Profiltabelle!C47","v":0},{"$f":"Profiltabelle!D47","v":0},{"$f":"Profiltabelle!E47","v":0},{"$f":"Profiltabelle!F47","v":0},{"$f":"Profiltabelle!G47","v":0},{"$f":"Profiltabelle!H47","v":0}]
[{"$error":"#N/A"},{"$f":"Profiltabelle!C48","v":0},{"$f":"Profiltabelle!D48","v":0},{"$f":"Profiltabelle!E48","v":0},{"$f":"Profiltabelle!F48","v":0},{"$f":"Profiltabelle!G48","v":0},{"$f":"Profiltabelle!H48","v":0}]
[{"$error":"#N/A"},{"$f":"Profiltabelle!C49","v":0},{"$f":"Profiltabelle!D49","v":0},{"$f":"Profiltabelle!E49","v":0},{"$f":"Profiltabelle!F49","v":0},{"$f":"Profiltabelle!G49","v":0},{"$f":"Profiltabelle!H49","v":0}]
[{"$error":"#N/A"},{"$f":"Profiltabelle!C50","v":0},{"$f":"Profiltabelle!D50","v":0},{"$f":"Profiltabelle!E50","v":0},{"$f":"Profiltabelle!F50","v":0},{"$f":"Profiltabelle!G50","v":0},{"$f":"Profiltabelle!H50","v":0}]
[{"$error":"#N/A"},{"$f":"Profiltabelle!C51","v":0},{"$f":"Profiltabelle!D51","v":0},{"$f":"Profiltabelle!E51","v":0},{"$f":"Profiltabelle!F51","v":0},{"$f":"Profiltabelle!G51","v":0},{"$f":"Profiltabelle!H51","v":0}]
[{"$error":"#N/A"},{"$f":"Profiltabelle!C52","v":0},{"$f":"Profiltabelle!D52","v":0},{"$f":"Profiltabelle!E52","v":0},{"$f":"Profiltabelle!F52","v":0},{"$f":"Profiltabelle!G52","v":0},{"$f":"Profiltabelle!H52","v":0}]
[{"$error":"#N/A"},{"$f":"Profiltabelle!C53","v":0},{"$f":"Profiltabelle!D53","v":0},{"$f":"Profiltabelle!E53","v":0},{"$f":"Profiltabelle!F53","v":0},{"$f":"Profiltabelle!G53","v":0},{"$f":"Profiltabelle!H53","v":0}]
[{"$error":"#N/A"},{"$f":"Profiltabelle!C54","v":0},{"$f":"Profiltabelle!D54","v":0},{"$f":"Profiltabelle!E54","v":0},{"$f":"Profiltabelle!F54","v":0},{"$f":"Profiltabelle!G54","v":0},{"$f":"Profiltabelle!H54","v":0}]
[{"$error":"#N/A"},{"$f":"Profiltabelle!C55","v":0},{"$f":"Profiltabelle!D55","v":0},{"$f":"Profiltabelle!E55","v":0},{"$f":"Profiltabelle!F55","v":0},{"$f":"Profiltabelle!G55","v":0},{"$f":"Profiltabelle!H55","v":0}]
[{"$error":"#N/A"},{"$f":"Profiltabelle!C56","v":0},{"$f":"Profiltabelle!D56","v":0},{"$f":"Profiltabelle!E56","v":0},{"$f":"Profiltabelle!F56","v":0},{"$f":"Profiltabelle!G56","v":0},{"$f":"Profiltabelle!H56","v":0}]
[{"$error":"#N/A"},{"$f":"Profiltabelle!C57","v":0},{"$f":"Profiltabelle!D57","v":0},{"$f":"Profiltabelle!E57","v":0},{"$f":"Profiltabelle!F57","v":0},{"$f":"Profiltabelle!G57","v":0},{"$f":"Profiltabelle!H57","v":0}]
[{"$error":"#N/A"},{"$f":"Profiltabelle!C58","v":0},{"$f":"Profiltabelle!D58","v":0},{"$f":"Profiltabelle!E58","v":0},{"$f":"Profiltabelle!F58","v":0},{"$f":"Profiltabelle!G58","v":0},{"$f":"Profiltabelle!H58","v":0}]
[{"$error":"#N/A"},{"$f":"Profiltabelle!C59","v":0},{"$f":"Profiltabelle!D59","v":0},{"$f":"Profiltabelle!E59","v":0},{"$f":"Profiltabelle!F59","v":0},{"$f":"Profiltabelle!G59","v":0},{"$f":"Profiltabelle!H59","v":0}]
[{"$error":"#N/A"},{"$f":"Profiltabelle!C60","v":0},{"$f":"Profiltabelle!D60","v":0},{"$f":"Profiltabelle!E60","v":0},{"$f":"Profiltabelle!F60","v":0},{"$f":"Profiltabelle!G60","v":0},{"$f":"Profiltabelle!H60","v":0}]
[{"$error":"#N/A"},{"$f":"Profiltabelle!C61","v":0},{"$f":"Profiltabelle!D61","v":0},{"$f":"Profiltabelle!E61","v":0},{"$f":"Profiltabelle!F61","v":0},{"$f":"Profiltabelle!G61","v":0},{"$f":"Profiltabelle!H61","v":0}]
[{"$error":"#N/A"},{"$f":"Profiltabelle!C62","v":0},{"$f":"Profiltabelle!D62","v":0},{"$f":"Profiltabelle!E62","v":0},{"$f":"Profiltabelle!F62","v":0},{"$f":"Profiltabelle!G62","v":0},{"$f":"Profiltabelle!H62","v":0}]
[{"$error":"#N/A"},{"$f":"Profiltabelle!C63","v":0},{"$f":"Profiltabelle!D63","v":0},{"$f":"Profiltabelle!E63","v":0},{"$f":"Profiltabelle!F63","v":0},{"$f":"Profiltabelle!G63","v":0},{"$f":"Profiltabelle!H63","v":0}]
[{"$error":"#N/A"},{"$f":"Profiltabelle!C64","v":0},{"$f":"Profiltabelle!D64","v":0},{"$f":"Profiltabelle!E64","v":0},{"$f":"Profiltabelle!F64","v":0},{"$f":"Profiltabelle!G64","v":0},{"$f":"Profiltabelle!H64","v":0}]
[{"$error":"#N/A"},{"$f":"Profiltabelle!C65","v":0},{"$f":"Profiltabelle!D65","v":0},{"$f":"Profiltabelle!E65","v":0},{"$f":"Profiltabelle!F65","v":0},{"$f":"Profiltabelle!G65","v":0},{"$f":"Profiltabelle!H65","v":0}]
[{"$error":"#N/A"},{"$f":"Profiltabelle!C66","v":0},{"$f":"Profiltabelle!D66","v":0},{"$f":"Profiltabelle!E66","v":0},{"$f":"Profiltabelle!F66","v":0},{"$f":"Profiltabelle!G66","v":0},{"$f":"Profiltabelle!H66","v":0}]
[{"$error":"#N/A"},{"$f":"Profiltabelle!C67","v":0},{"$f":"Profiltabelle!D67","v":0},{"$f":"Profiltabelle!E67","v":0},{"$f":"Profiltabelle!F67","v":0},{"$f":"Profiltabelle!G67","v":0},{"$f":"Profiltabelle!H67","v":0}]
[{"$error":"#N/A"},{"$f":"Profiltabelle!C68","v":0},{"$f":"Profiltabelle!D68","v":0},{"$f":"Profiltabelle!E68","v":0},{"$f":"Profiltabelle!F68","v":0},{"$f":"Profiltabelle!G68","v":0},{"$f":"Profiltabelle!H68","v":0}]
[{"$error":"#N/A"},{"$f":"Profiltabelle!C69","v":0},{"$f":"Profiltabelle!D69","v":0},{"$f":"Profiltabelle!E69","v":0},{"$f":"Profiltabelle!F69","v":0},{"$f":"Profiltabelle!G69","v":0},{"$f":"Profiltabelle!H69","v":0}]
[{"$error":"#N/A"},{"$f":"Profiltabelle!C70","v":0},{"$f":"Profiltabelle!D70","v":0},{"$f":"Profiltabelle!E70","v":0},{"$f":"Profiltabelle!F70","v":0},{"$f":"Profiltabelle!G70","v":0},{"$f":"Profiltabelle!H70","v":0}]
[{"$error":"#N/A"},{"$f":"Profiltabelle!C71","v":0},{"$f":"Profiltabelle!D71","v":0},{"$f":"Profiltabelle!E71","v":0},{"$f":"Profiltabelle!F71","v":0},{"$f":"Profiltabelle!G71","v":0},{"$f":"Profiltabelle!H71","v":0}]
[{"$error":"#N/A"},{"$f":"Profiltabelle!C72","v":0},{"$f":"Profiltabelle!D72","v":0},{"$f":"Profiltabelle!E72","v":0},{"$f":"Profiltabelle!F72","v":0},{"$f":"Profiltabelle!G72","v":0},{"$f":"Profiltabelle!H72","v":0}]
[{"$error":"#N/A"},{"$f":"Profiltabelle!C73","v":0},{"$f":"Profiltabelle!D73","v":0},{"$f":"Profiltabelle!E73","v":0},{"$f":"Profiltabelle!F73","v":0},{"$f":"Profiltabelle!G73","v":0},{"$f":"Profiltabelle!H73","v":0}]
[{"$error":"#N/A"},{"$f":"Profiltabelle!C74","v":0},{"$f":"Profiltabelle!D74","v":0},{"$f":"Profiltabelle!E74","v":0},{"$f":"Profiltabelle!F74","v":0},{"$f":"Profiltabelle!G74","v":0},{"$f":"Profiltabelle!H74","v":0}]
[{"$error":"#N/A"},{"$f":"Profiltabelle!C75","v":0},{"$f":"Profiltabelle!D75","v":0},{"$f":"Profiltabelle!E75","v":0},{"$f":"Profiltabelle!F75","v":0},{"$f":"Profiltabelle!G75","v":0},{"$f":"Profiltabelle!H75","v":0}]
[{"$error":"#N/A"},{"$f":"Profiltabelle!C76","v":0},{"$f":"Profiltabelle!D76","v":0},{"$f":"Profiltabelle!E76","v":0},{"$f":"Profiltabelle!F76","v":0},{"$f":"Profiltabelle!G76","v":0},{"$f":"Profiltabelle!H76","v":0}]
[{"$error":"#N/A"},{"$f":"Profiltabelle!C77","v":0},{"$f":"Profiltabelle!D77","v":0},{"$f":"Profiltabelle!E77","v":0},{"$f":"Profiltabelle!F77","v":0},{"$f":"Profiltabelle!G77","v":0},{"$f":"Profiltabelle!H77","v":0}]
[{"$error":"#N/A"},{"$f":"Profiltabelle!C78","v":0},{"$f":"Profiltabelle!D78","v":0},{"$f":"Profiltabelle!E78","v":0},{"$f":"Profiltabelle!F78","v":0},{"$f":"Profiltabelle!G78","v":0},{"$f":"Profiltabelle!H78","v":0}]
[{"$error":"#N/A"},{"$f":"Profiltabelle!C79","v":0},{"$f":"Profiltabelle!D79","v":0},{"$f":"Profiltabelle!E79","v":0},{"$f":"Profiltabelle!F79","v":0},{"$f":"Profiltabelle!G79","v":0},{"$f":"Profiltabelle!H79","v":0}]
[{"$error":"#N/A"},{"$f":"Profiltabelle!C80","v":0},{"$f":"Profiltabelle!D80","v":0},{"$f":"Profiltabelle!E80","v":0},{"$f":"Profiltabelle!F80","v":0},{"$f":"Profiltabelle!G80","v":0},{"$f":"Profiltabelle!H80","v":0}]
[{"$error":"#N/A"},{"$f":"Profiltabelle!C81","v":0},{"$f":"Profiltabelle!D81","v":0},{"$f":"Profiltabelle!E81","v":0},{"$f":"Profiltabelle!F81","v":0},{"$f":"Profiltabelle!G81","v":0},{"$f":"Profiltabelle!H81","v":0}]
[{"$error":"#N/A"},{"$f":"Profiltabelle!C82","v":0},{"$f":"Profiltabelle!D82","v":0},{"$f":"Profiltabelle!E82","v":0},{"$f":"Profiltabelle!F82","v":0},{"$f":"Profiltabelle!G82","v":0},{"$f":"Profiltabelle!H82","v":0}]
[{"$error":"#N/A"},{"$f":"Profiltabelle!C83","v":0},{"$f":"Profiltabelle!D83","v":0},{"$f":"Profiltabelle!E83","v":0},{"$f":"Profiltabelle!F83","v":0},{"$f":"Profiltabelle!G83","v":0},{"$f":"Profiltabelle!H83","v":0}]
[{"$error":"#N/A"},{"$f":"Profiltabelle!C84","v":0},{"$f":"Profiltabelle!D84","v":0},{"$f":"Profiltabelle!E84","v":0},{"$f":"Profiltabelle!F84","v":0},{"$f":"Profiltabelle!G84","v":0},{"$f":"Profiltabelle!H84","v":0}]
[{"$error":"#N/A"},{"$f":"Profiltabelle!C85","v":0},{"$f":"Profiltabelle!D85","v":0},{"$f":"Profiltabelle!E85","v":0},{"$f":"Profiltabelle!F85","v":0},{"$f":"Profiltabelle!G85","v":0},{"$f":"Profiltabelle!H85","v":0}]
[{"$error":"#N/A"},{"$f":"Profiltabelle!C86","v":0},{"$f":"Profiltabelle!D86","v":0},{"$f":"Profiltabelle!E86","v":0},{"$f":"Profiltabelle!F86","v":0},{"$f":"Profiltabelle!G86","v":0},{"$f":"Profiltabelle!H86","v":0}]
[{"$error":"#N/A"},{"$f":"Profiltabelle!C87","v":0},{"$f":"Profiltabelle!D87","v":0},{"$f":"Profiltabelle!E87","v":0},{"$f":"Profiltabelle!F87","v":0},{"$f":"Profiltabelle!G87","v":0},{"$f":"Profiltabelle!H87","v":0}]
[{"$error":"#N/A"},{"$f":"Profiltabelle!C88","v":0},{"$f":"Profiltabelle!D88","v":0},{"$f":"Profiltabelle!E88","v":0},{"$f":"Profiltabelle!F88","v":0},{"$f":"Profiltabelle!G88","v":0},{"$f":"Profiltabelle!H88","v":0}]
[{"$error":"#N/A"},{"$f":"Profiltabelle!C89","v":0},{"$f":"Profiltabelle!D89","v":0},{"$f":"Profiltabelle!E89","v":0},{"$f":"Profiltabelle!F89","v":0},{"$f":"Profiltabelle!G89","v":0},{"$f":"Profiltabelle!H89","v":0}]
[{"$error":"#N/A"},{"$f":"Profiltabelle!C90","v":0},{"$f":"Profiltabelle!D90","v":0},{"$f":"Profiltabelle!E90","v":0},{"$f":"Profiltabelle!F90","v":0},{"$f":"Profiltabelle!G90","v":0},{"$f":"Profiltabelle!H90","v":0}]
[{"$error":"#N/A"},{"$f":"Profiltabelle!C91","v":0},{"$f":"Profiltabelle!D91","v":0},{"$f":"Profiltabelle!E91","v":0},{"$f":"Profiltabelle!F91","v":0},{"$f":"Profiltabelle!G91","v":0},{"$f":"Profiltabelle!H91","v":0}]
[{"$error":"#N/A"},{"$f":"Profiltabelle!C92","v":0},{"$f":"Profiltabelle!D92","v":0},{"$f":"Profiltabelle!E92","v":0},{"$f":"Profiltabelle!F92","v":0},{"$f":"Profiltabelle!G92","v":0},{"$f":"Profiltabelle!H92","v":0}]
[{"$error":"#N/A"},{"$f":"Profiltabelle!C93","v":0},{"$f":"Profiltabelle!D93","v":0},{"$f":"Profiltabelle!E93","v":0},{"$f":"Profiltabelle!F93","v":0},{"$f":"Profiltabelle!G93","v":0},{"$f":"Profiltabelle!H93","v":0}]
[{"$error":"#N/A"},{"$f":"Profiltabelle!C94","v":0},{"$f":"Profiltabelle!D94","v":0},{"$f":"Profiltabelle!E94","v":0},{"$f":"Profiltabelle!F94","v":0},{"$f":"Profiltabelle!G94","v":0},{"$f":"Profiltabelle!H94","v":0}]
[{"$error":"#N/A"},{"$f":"Profiltabelle!C95","v":0},{"$f":"Profiltabelle!D95","v":0},{"$f":"Profiltabelle!E95","v":0},{"$f":"Profiltabelle!F95","v":0},{"$f":"Profiltabelle!G95","v":0},{"$f":"Profiltabelle!H95","v":0}]
[{"$error":"#N/A"},{"$f":"Profiltabelle!C96","v":0},{"$f":"Profiltabelle!D96","v":0},{"$f":"Profiltabelle!E96","v":0},{"$f":"Profiltabelle!F96","v":0},{"$f":"Profiltabelle!G96","v":0},{"$f":"Profiltabelle!H96","v":0}]
[{"$error":"#N/A"},{"$f":"Profiltabelle!C97","v":0},{"$f":"Profiltabelle!D97","v":0},{"$f":"Profiltabelle!E97","v":0},{"$f":"Profiltabelle!F97","v":0},{"$f":"Profiltabelle!G97","v":0},{"$f":"Profiltabelle!H97","v":0}]
[{"$error":"#N/A"},{"$f":"Profiltabelle!C98","v":0},{"$f":"Profiltabelle!D98","v":0},{"$f":"Profiltabelle!E98","v":0},{"$f":"Profiltabelle!F98","v":0},{"$f":"Profiltabelle!G98","v":0},{"$f":"Profiltabelle!H98","v":0}]
[{"$error":"#N/A"},{"$f":"Profiltabelle!C99","v":0},{"$f":"Profiltabelle!D99","v":0},{"$f":"Profiltabelle!E99","v":0},{"$f":"Profiltabelle!F99","v":0},{"$f":"Profiltabelle!G99","v":0},{"$f":"Profiltabelle!H99","v":0}]
[{"$error":"#N/A"},{"$f":"Profiltabelle!C100","v":0},{"$f":"Profiltabelle!D100","v":0},{"$f":"Profiltabelle!E100","v":0},{"$f":"Profiltabelle!F100","v":0},{"$f":"Profiltabelle!G100","v":0},{"$f":"Profiltabelle!H100","v":0}]
[{"$error":"#N/A"},{"$f":"Profiltabelle!C101","v":0},{"$f":"Profiltabelle!D101","v":0},{"$f":"Profiltabelle!E101","v":0},{"$f":"Profiltabelle!F101","v":0},{"$f":"Profiltabelle!G101","v":0},{"$f":"Profiltabelle!H101","v":0}]
[{"$error":"#N/A"},{"$f":"Profiltabelle!C102","v":0},{"$f":"Profiltabelle!D102","v":0},{"$f":"Profiltabelle!E102","v":0},{"$f":"Profiltabelle!F102","v":0},{"$f":"Profiltabelle!G102","v":0},{"$f":"Profiltabelle!H102","v":0}]
[{"$error":"#N/A"},{"$f":"Profiltabelle!C103","v":0},{"$f":"Profiltabelle!D103","v":0},{"$f":"Profiltabelle!E103","v":0},{"$f":"Profiltabelle!F103","v":0},{"$f":"Profiltabelle!G103","v":0},{"$f":"Profiltabelle!H103","v":0}]
[{"$error":"#N/A"},{"$f":"Profiltabelle!C104","v":0},{"$f":"Profiltabelle!D104","v":0},{"$f":"Profiltabelle!E104","v":0},{"$f":"Profiltabelle!F104","v":0},{"$f":"Profiltabelle!G104","v":0},{"$f":"Profiltabelle!H104","v":0}]
[{"$error":"#N/A"},{"$f":"Profiltabelle!C105","v":0},{"$f":"Profiltabelle!D105","v":0},{"$f":"Profiltabelle!E105","v":0},{"$f":"Profiltabelle!F105","v":0},{"$f":"Profiltabelle!G105","v":0},{"$f":"Profiltabelle!H105","v":0}]
[{"$error":"#N/A"},{"$f":"Profiltabelle!C106","v":0},{"$f":"Profiltabelle!D106","v":0},{"$f":"Profiltabelle!E106","v":0},{"$f":"Profiltabelle!F106","v":0},{"$f":"Profiltabelle!G106","v":0},{"$f":"Profiltabelle!H106","v":0}]
[{"$error":"#N/A"},{"$f":"Profiltabelle!C107","v":0},{"$f":"Profiltabelle!D107","v":0},{"$f":"Profiltabelle!E107","v":0},{"$f":"Profiltabelle!F107","v":0},{"$f":"Profiltabelle!G107","v":0},{"$f":"Profiltabelle!H107","v":0}]
[{"$error":"#N/A"},{"$f":"Profiltabelle!C108","v":0},{"$f":"Profiltabelle!D108","v":0},{"$f":"Profiltabelle!E108","v":0},{"$f":"Profiltabelle!F108","v":0},{"$f":"Profiltabelle!G108","v":0},{"$f":"Profiltabelle!H108","v":0}]
[{"$error":"#N/A"},{"$f":"Profiltabelle!C109","v":0},{"$f":"Profiltabelle!D109","v":0},{"$f":"Profiltabelle!E109","v":0},{"$f":"Profiltabelle!F109","v":0},{"$f":"Profiltabelle!G109","v":0},{"$f":"Profiltabelle!H109","v":0}]
[{"$error":"#N/A"},{"$f":"Profiltabelle!C110","v":0},{"$f":"Profiltabelle!D110","v":0},{"$f":"Profiltabelle!E110","v":0},{"$f":"Profiltabelle!F110","v":0},{"$f":"Profiltabelle!G110","v":0},{"$f":"Profiltabelle!H110","v":0}]
[{"$error":"#N/A"},{"$f":"Profiltabelle!C111","v":0},{"$f":"Profiltabelle!D111","v":0},{"$f":"Profiltabelle!E111","v":0},{"$f":"Profiltabelle!F111","v":0},{"$f":"Profiltabelle!G111","v":0},{"$f":"Profiltabelle!H111","v":0}]
[{"$error":"#N/A"},{"$f":"Profiltabelle!C112","v":0},{"$f":"Profiltabelle!D112","v":0},{"$f":"Profiltabelle!E112","v":0},{"$f":"Profiltabelle!F112","v":0},{"$f":"Profiltabelle!G112","v":0},{"$f":"Profiltabelle!H112","v":0}]
[{"$error":"#N/A"},{"$f":"Profiltabelle!C113","v":0},{"$f":"Profiltabelle!D113","v":0},{"$f":"Profiltabelle!E113","v":0},{"$f":"Profiltabelle!F113","v":0},{"$f":"Profiltabelle!G113","v":0},{"$f":"Profiltabelle!H113","v":0}]
[{"$error":"#N/A"},{"$f":"Profiltabelle!C114","v":0},{"$f":"Profiltabelle!D114","v":0},{"$f":"Profiltabelle!E114","v":0},{"$f":"Profiltabelle!F114","v":0},{"$f":"Profiltabelle!G114","v":0},{"$f":"Profiltabelle!H114","v":0}]
[{"$error":"#N/A"},{"$f":"Profiltabelle!C115","v":0},{"$f":"Profiltabelle!D115","v":0},{"$f":"Profiltabelle!E115","v":0},{"$f":"Profiltabelle!F115","v":0},{"$f":"Profiltabelle!G115","v":0},{"$f":"Profiltabelle!H115","v":0}]
[{"$error":"#N/A"},{"$f":"Profiltabelle!C116","v":0},{"$f":"Profiltabelle!D116","v":0},{"$f":"Profiltabelle!E116","v":0},{"$f":"Profiltabelle!F116","v":0},{"$f":"Profiltabelle!G116","v":0},{"$f":"Profiltabelle!H116","v":0}]
[{"$error":"#N/A"},{"$f":"Profiltabelle!C117","v":0},{"$f":"Profiltabelle!D117","v":0},{"$f":"Profiltabelle!E117","v":0},{"$f":"Profiltabelle!F117","v":0},{"$f":"Profiltabelle!G117","v":0},{"$f":"Profiltabelle!H117","v":0}]
[{"$error":"#N/A"},{"$f":"Profiltabelle!C118","v":0},{"$f":"Profiltabelle!D118","v":0},{"$f":"Profiltabelle!E118","v":0},{"$f":"Profiltabelle!F118","v":0},{"$f":"Profiltabelle!G118","v":0},{"$f":"Profiltabelle!H118","v":0}]
[{"$error":"#N/A"},{"$f":"Profiltabelle!C119","v":0},{"$f":"Profiltabelle!D119","v":0},{"$f":"Profiltabelle!E119","v":0},{"$f":"Profiltabelle!F119","v":0},{"$f":"Profiltabelle!G119","v":0},{"$f":"Profiltabelle!H119","v":0}]
[{"$error":"#N/A"},{"$f":"Profiltabelle!C120","v":0},{"$f":"Profiltabelle!D120","v":0},{"$f":"Profiltabelle!E120","v":0},{"$f":"Profiltabelle!F120","v":0},{"$f":"Profiltabelle!G120","v":0},{"$f":"Profiltabelle!H120","v":0}]
[{"$error":"#N/A"},{"$f":"Profiltabelle!C121","v":0},{"$f":"Profiltabelle!D121","v":0},{"$f":"Profiltabelle!E121","v":0},{"$f":"Profiltabelle!F121","v":0},{"$f":"Profiltabelle!G121","v":0},{"$f":"Profiltabelle!H121","v":0}]
[{"$error":"#N/A"},{"$f":"Profiltabelle!C122","v":0},{"$f":"Profiltabelle!D122","v":0},{"$f":"Profiltabelle!E122","v":0},{"$f":"Profiltabelle!F122","v":0},{"$f":"Profiltabelle!G122","v":0},{"$f":"Profiltabelle!H122","v":0}]
[{"$error":"#N/A"},{"$f":"Profiltabelle!C123","v":0},{"$f":"Profiltabelle!D123","v":0},{"$f":"Profiltabelle!E123","v":0},{"$f":"Profiltabelle!F123","v":0},{"$f":"Profiltabelle!G123","v":0},{"$f":"Profiltabelle!H123","v":0}]
[{"$error":"#N/A"},{"$f":"Profiltabelle!C124","v":0},{"$f":"Profiltabelle!D124","v":0},{"$f":"Profiltabelle!E124","v":0},{"$f":"Profiltabelle!F124","v":0},{"$f":"Profiltabelle!G124","v":0},{"$f":"Profiltabelle!H124","v":0}]
[{"$error":"#N/A"},{"$f":"Profiltabelle!C125","v":0},{"$f":"Profiltabelle!D125","v":0},{"$f":"Profiltabelle!E125","v":0},{"$f":"Profiltabelle!F125","v":0},{"$f":"Profiltabelle!G125","v":0},{"$f":"Profiltabelle!H125","v":0}]
[{"$error":"#N/A"},{"$f":"Profiltabelle!C126","v":0},{"$f":"Profiltabelle!D126","v":0},{"$f":"Profiltabelle!E126","v":0},{"$f":"Profiltabelle!F126","v":0},{"$f":"Profiltabelle!G126","v":0},{"$f":"Profiltabelle!H126","v":0}]
[{"$error":"#N/A"},{"$f":"Profiltabelle!C127","v":0},{"$f":"Profiltabelle!D127","v":0},{"$f":"Profiltabelle!E127","v":0},{"$f":"Profiltabelle!F127","v":0},{"$f":"Profiltabelle!G127","v":0},{"$f":"Profiltabelle!H127","v":0}]
[{"$error":"#N/A"},{"$f":"Profiltabelle!C128","v":0},{"$f":"Profiltabelle!D128","v":0},{"$f":"Profiltabelle!E128","v":0},{"$f":"Profiltabelle!F128","v":0},{"$f":"Profiltabelle!G128","v":0},{"$f":"Profiltabelle!H128","v":0}]
[{"$error":"#N/A"},{"$f":"Profiltabelle!C129","v":0},{"$f":"Profiltabelle!D129","v":0},{"$f":"Profiltabelle!E129","v":0},{"$f":"Profiltabelle!F129","v":0},{"$f":"Profiltabelle!G129","v":0},{"$f":"Profiltabelle!H129","v":0}]
[{"$error":"#N/A"},{"$f":"Profiltabelle!C130","v":0},{"$f":"Profiltabelle!D130","v":0},{"$f":"Profiltabelle!E130","v":0},{"$f":"Profiltabelle!F130","v":0},{"$f":"Profiltabelle!G130","v":0},{"$f":"Profiltabelle!H130","v":0}]
[{"$error":"#N/A"},{"$f":"Profiltabelle!C131","v":0},{"$f":"Profiltabelle!D131","v":0},{"$f":"Profiltabelle!E131","v":0},{"$f":"Profiltabelle!F131","v":0},{"$f":"Profiltabelle!G131","v":0},{"$f":"Profiltabelle!H131","v":0}]
[{"$error":"#N/A"},{"$f":"Profiltabelle!C132","v":0},{"$f":"Profiltabelle!D132","v":0},{"$f":"Profiltabelle!E132","v":0},{"$f":"Profiltabelle!F132","v":0},{"$f":"Profiltabelle!G132","v":0},{"$f":"Profiltabelle!H132","v":0}]
[{"$error":"#N/A"},{"$f":"Profiltabelle!C133","v":0},{"$f":"Profiltabelle!D133","v":0},{"$f":"Profiltabelle!E133","v":0},{"$f":"Profiltabelle!F133","v":0},{"$f":"Profiltabelle!G133","v":0},{"$f":"Profiltabelle!H133","v":0}]
[{"$error":"#N/A"},{"$f":"Profiltabelle!C134","v":0},{"$f":"Profiltabelle!D134","v":0},{"$f":"Profiltabelle!E134","v":0},{"$f":"Profiltabelle!F134","v":0},{"$f":"Profiltabelle!G134","v":0},{"$f":"Profiltabelle!H134","v":0}]
[{"$error":"#N/A"},{"$f":"Profiltabelle!C135","v":0},{"$f":"Profiltabelle!D135","v":0},{"$f":"Profiltabelle!E135","v":0},{"$f":"Profiltabelle!F135","v":0},{"$f":"Profiltabelle!G135","v":0},{"$f":"Profiltabelle!H135","v":0}]
[{"$error":"#N/A"},{"$f":"Profiltabelle!C136","v":0},{"$f":"Profiltabelle!D136","v":0},{"$f":"Profiltabelle!E136","v":0},{"$f":"Profiltabelle!F136","v":0},{"$f":"Profiltabelle!G136","v":0},{"$f":"Profiltabelle!H136","v":0}]
[{"$error":"#N/A"},{"$f":"Profiltabelle!C137","v":0},{"$f":"Profiltabelle!D137","v":0},{"$f":"Profiltabelle!E137","v":0},{"$f":"Profiltabelle!F137","v":0},{"$f":"Profiltabelle!G137","v":0},{"$f":"Profiltabelle!H137","v":0}]
[{"$error":"#N/A"},{"$f":"Profiltabelle!C138","v":0},{"$f":"Profiltabelle!D138","v":0},{"$f":"Profiltabelle!E138","v":0},{"$f":"Profiltabelle!F138","v":0},{"$f":"Profiltabelle!G138","v":0},{"$f":"Profiltabelle!H138","v":0}]
[{"$error":"#N/A"},{"$f":"Profiltabelle!C139","v":0},{"$f":"Profiltabelle!D139","v":0},{"$f":"Profiltabelle!E139","v":0},{"$f":"Profiltabelle!F139","v":0},{"$f":"Profiltabelle!G139","v":0},{"$f":"Profiltabelle!H139","v":0}]
[{"$error":"#N/A"},{"$f":"Profiltabelle!C140","v":0},{"$f":"Profiltabelle!D140","v":0},{"$f":"Profiltabelle!E140","v":0},{"$f":"Profiltabelle!F140","v":0},{"$f":"Profiltabelle!G140","v":0},{"$f":"Profiltabelle!H140","v":0}]
[{"$error":"#N/A"},{"$f":"Profiltabelle!C141","v":0},{"$f":"Profiltabelle!D141","v":0},{"$f":"Profiltabelle!E141","v":0},{"$f":"Profiltabelle!F141","v":0},{"$f":"Profiltabelle!G141","v":0},{"$f":"Profiltabelle!H141","v":0}]
[{"$error":"#N/A"},{"$f":"Profiltabelle!C142","v":0},{"$f":"Profiltabelle!D142","v":0},{"$f":"Profiltabelle!E142","v":0},{"$f":"Profiltabelle!F142","v":0},{"$f":"Profiltabelle!G142","v":0},{"$f":"Profiltabelle!H142","v":0}]
[{"$error":"#N/A"},{"$f":"Profiltabelle!C143","v":0},{"$f":"Profiltabelle!D143","v":0},{"$f":"Profiltabelle!E143","v":0},{"$f":"Profiltabelle!F143","v":0},{"$f":"Profiltabelle!G143","v":0},{"$f":"Profiltabelle!H143","v":0}]
[{"$error":"#N/A"},{"$f":"Profiltabelle!C144","v":0},{"$f":"Profiltabelle!D144","v":0},{"$f":"Profiltabelle!E144","v":0},{"$f":"Profiltabelle!F144","v":0},{"$f":"Profiltabelle!G144","v":0},{"$f":"Profiltabelle!H144","v":0}]
[{"$error":"#N/A"},{"$f":"Profiltabelle!C145","v":0},{"$f":"Profiltabelle!D145","v":0},{"$f":"Profiltabelle!E145","v":0},{"$f":"Profiltabelle!F145","v":0},{"$f":"Profiltabelle!G145","v":0},{"$f":"Profiltabelle!H145","v":0}]
[{"$error":"#N/A"},{"$f":"Profiltabelle!C146","v":0},{"$f":"Profiltabelle!D146","v":0},{"$f":"Profiltabelle!E146","v":0},{"$f":"Profiltabelle!F146","v":0},{"$f":"Profiltabelle!G146","v":0},{"$f":"Profiltabelle!H146","v":0}]
[{"$error":"#N/A"},{"$f":"Profiltabelle!C147","v":0},{"$f":"Profiltabelle!D147","v":0},{"$f":"Profiltabelle!E147","v":0},{"$f":"Profiltabelle!F147","v":0},{"$f":"Profiltabelle!G147","v":0},{"$f":"Profiltabelle!H147","v":0}]
[{"$error":"#N/A"},{"$f":"Profiltabelle!C148","v":0},{"$f":"Profiltabelle!D148","v":0},{"$f":"Profiltabelle!E148","v":0},{"$f":"Profiltabelle!F148","v":0},{"$f":"Profiltabelle!G148","v":0},{"$f":"Profiltabelle!H148","v":0}]
[{"$error":"#N/A"},{"$f":"Profiltabelle!C149","v":0},{"$f":"Profiltabelle!D149","v":0},{"$f":"Profiltabelle!E149","v":0},{"$f":"Profiltabelle!F149","v":0},{"$f":"Profiltabelle!G149","v":0},{"$f":"Profiltabelle!H149","v":0}]
[{"$error":"#N/A"},{"$f":"Profiltabelle!C150","v":0},{"$f":"Profiltabelle!D150","v":0},{"$f":"Profiltabelle!E150","v":0},{"$f":"Profiltabelle!F150","v":0},{"$f":"Profiltabelle!G150","v":0},{"$f":"Profiltabelle!H150","v":0}]
[{"$error":"#N/A"},{"$f":"Profiltabelle!C151","v":0},{"$f":"Profiltabelle!D151","v":0},{"$f":"Profiltabelle!E151","v":0},{"$f":"Profiltabelle!F151","v":0},{"$f":"Profiltabelle!G151","v":0},{"$f":"Profiltabelle!H151","v":0}]
[{"$error":"#N/A"},{"$f":"Profiltabelle!C152","v":0},{"$f":"Profiltabelle!D152","v":0},{"$f":"Profiltabelle!E152","v":0},{"$f":"Profiltabelle!F152","v":0},{"$f":"Profiltabelle!G152","v":0},{"$f":"Profiltabelle!H152","v":0}]
[{"$error":"#N/A"},{"$f":"Profiltabelle!C153","v":0},{"$f":"Profiltabelle!D153","v":0},{"$f":"Profiltabelle!E153","v":0},{"$f":"Profiltabelle!F153","v":0},{"$f":"Profiltabelle!G153","v":0},{"$f":"Profiltabelle!H153","v":0}]
[{"$error":"#N/A"},{"$f":"Profiltabelle!C154","v":0},{"$f":"Profiltabelle!D154","v":0},{"$f":"Profiltabelle!E154","v":0},{"$f":"Profiltabelle!F154","v":0},{"$f":"Profiltabelle!G154","v":0},{"$f":"Profiltabelle!H154","v":0}]
[{"$error":"#N/A"},{"$f":"Profiltabelle!C155","v":0},{"$f":"Profiltabelle!D155","v":0},{"$f":"Profiltabelle!E155","v":0},{"$f":"Profiltabelle!F155","v":0},{"$f":"Profiltabelle!G155","v":0},{"$f":"Profiltabelle!H155","v":0}]
[{"$error":"#N/A"},{"$f":"Profiltabelle!C156","v":0},{"$f":"Profiltabelle!D156","v":0},{"$f":"Profiltabelle!E156","v":0},{"$f":"Profiltabelle!F156","v":0},{"$f":"Profiltabelle!G156","v":0},{"$f":"Profiltabelle!H156","v":0}]
[{"$error":"#N/A"},{"$f":"Profiltabelle!C157","v":0},{"$f":"Profiltabelle!D157","v":0},{"$f":"Profiltabelle!E157","v":0},{"$f":"Profiltabelle!F157","v":0},{"$f":"Profiltabelle!G157","v":0},{"$f":"Profiltabelle!H157","v":0}]
[{"$error":"#N/A"},{"$f":"Profiltabelle!C158","v":0},{"$f":"Profiltabelle!D158","v":0},{"$f":"Profiltabelle!E158","v":0},{"$f":"Profiltabelle!F158","v":0},{"$f":"Profiltabelle!G158","v":0},{"$f":"Profiltabelle!H158","v":0}]
[{"$error":"#N/A"},{"$f":"Profiltabelle!C159","v":0},{"$f":"Profiltabelle!D159","v":0},{"$f":"Profiltabelle!E159","v":0},{"$f":"Profiltabelle!F159","v":0},{"$f":"Profiltabelle!G159","v":0},{"$f":"Profiltabelle!H159","v":0}]
[{"$error":"#N/A"},{"$f":"Profiltabelle!C160","v":0},{"$f":"Profiltabelle!D160","v":0},{"$f":"Profiltabelle!E160","v":0},{"$f":"Profiltabelle!F160","v":0},{"$f":"Profiltabelle!G160","v":0},{"$f":"Profiltabelle!H160","v":0}]
[null,null,null,null,null,null,{"$f":"SUBTOTAL(103,Tabelle1324[WPU 7 WiPo])","v":149}]

{"sheet":"Kurs3","index":5,"n_rows":154,"n_cols":14,"rows_kept":154,"cut":false,"hidden":false,"merged":[]}
["1. Wunsch",{"$f":"SUMIFS(B$5:B$153,$D$5:$D$153,\"1\",B$5:B$153,\"1\")","v":0},0,0,0,0,0]
["2. Wunsch",{"$f":"SUMIFS(B$5:B$153,$D$5:$D$153,\"1\",B$5:B$153,\"2\")/2","v":0},0,0,0,0,0]
["3. Wunsch",{"$f":"SUMIFS(B$5:B$153,$D$5:$D$153,\"1\",B$5:B$153,\"3\")/3","v":0},0,0,0,0,0]
["Namen","WPU 7 Biogarten","WPU 7 Französisch","WPU 7 Gesund und fit","WPU 7 Informatik","WPU 7 Technik","WPU 7 WiPo",null,null,null,null,null,null,{"$f":"$D$4","v":"WPU 7 Gesund und fit"}]
[{"$error":"#N/A"},{"$f":"Profiltabelle!C12","v":0},{"$f":"Profiltabelle!D12","v":0},{"$f":"Profiltabelle!E12","v":0},{"$f":"Profiltabelle!F12","v":0},{"$f":"Profiltabelle!G12","v":0},{"$f":"Profiltabelle!H12","v":0}]
[{"$error":"#N/A"},{"$f":"Profiltabelle!C13","v":0},{"$f":"Profiltabelle!D13","v":0},{"$f":"Profiltabelle!E13","v":0},{"$f":"Profiltabelle!F13","v":0},{"$f":"Profiltabelle!G13","v":0},{"$f":"Profiltabelle!H13","v":0}]
[{"$error":"#N/A"},{"$f":"Profiltabelle!C14","v":0},{"$f":"Profiltabelle!D14","v":0},{"$f":"Profiltabelle!E14","v":0},{"$f":"Profiltabelle!F14","v":0},{"$f":"Profiltabelle!G14","v":0},{"$f":"Profiltabelle!H14","v":0}]
[{"$error":"#N/A"},{"$f":"Profiltabelle!C15","v":0},{"$f":"Profiltabelle!D15","v":0},{"$f":"Profiltabelle!E15","v":0},{"$f":"Profiltabelle!F15","v":0},{"$f":"Profiltabelle!G15","v":0},{"$f":"Profiltabelle!H15","v":0}]
[{"$error":"#N/A"},{"$f":"Profiltabelle!C16","v":0},{"$f":"Profiltabelle!D16","v":0},{"$f":"Profiltabelle!E16","v":0},{"$f":"Profiltabelle!F16","v":0},{"$f":"Profiltabelle!G16","v":0},{"$f":"Profiltabelle!H16","v":0}]
[{"$error":"#N/A"},{"$f":"Profiltabelle!C17","v":0},{"$f":"Profiltabelle!D17","v":0},{"$f":"Profiltabelle!E17","v":0},{"$f":"Profiltabelle!F17","v":0},{"$f":"Profiltabelle!G17","v":0},{"$f":"Profiltabelle!H17","v":0}]
[{"$error":"#N/A"},{"$f":"Profiltabelle!C18","v":0},{"$f":"Profiltabelle!D18","v":0},{"$f":"Profiltabelle!E18","v":0},{"$f":"Profiltabelle!F18","v":0},{"$f":"Profiltabelle!G18","v":0},{"$f":"Profiltabelle!H18","v":0}]
[{"$error":"#N/A"},{"$f":"Profiltabelle!C19","v":0},{"$f":"Profiltabelle!D19","v":0},{"$f":"Profiltabelle!E19","v":0},{"$f":"Profiltabelle!F19","v":0},{"$f":"Profiltabelle!G19","v":0},{"$f":"Profiltabelle!H19","v":0}]
[{"$error":"#N/A"},{"$f":"Profiltabelle!C20","v":0},{"$f":"Profiltabelle!D20","v":0},{"$f":"Profiltabelle!E20","v":0},{"$f":"Profiltabelle!F20","v":0},{"$f":"Profiltabelle!G20","v":0},{"$f":"Profiltabelle!H20","v":0}]
[{"$error":"#N/A"},{"$f":"Profiltabelle!C21","v":0},{"$f":"Profiltabelle!D21","v":0},{"$f":"Profiltabelle!E21","v":0},{"$f":"Profiltabelle!F21","v":0},{"$f":"Profiltabelle!G21","v":0},{"$f":"Profiltabelle!H21","v":0}]
[{"$error":"#N/A"},{"$f":"Profiltabelle!C22","v":0},{"$f":"Profiltabelle!D22","v":0},{"$f":"Profiltabelle!E22","v":0},{"$f":"Profiltabelle!F22","v":0},{"$f":"Profiltabelle!G22","v":0},{"$f":"Profiltabelle!H22","v":0}]
[{"$error":"#N/A"},{"$f":"Profiltabelle!C23","v":0},{"$f":"Profiltabelle!D23","v":0},{"$f":"Profiltabelle!E23","v":0},{"$f":"Profiltabelle!F23","v":0},{"$f":"Profiltabelle!G23","v":0},{"$f":"Profiltabelle!H23","v":0}]
[{"$error":"#N/A"},{"$f":"Profiltabelle!C24","v":0},{"$f":"Profiltabelle!D24","v":0},{"$f":"Profiltabelle!E24","v":0},{"$f":"Profiltabelle!F24","v":0},{"$f":"Profiltabelle!G24","v":0},{"$f":"Profiltabelle!H24","v":0}]
[{"$error":"#N/A"},{"$f":"Profiltabelle!C25","v":0},{"$f":"Profiltabelle!D25","v":0},{"$f":"Profiltabelle!E25","v":0},{"$f":"Profiltabelle!F25","v":0},{"$f":"Profiltabelle!G25","v":0},{"$f":"Profiltabelle!H25","v":0}]
[{"$error":"#N/A"},{"$f":"Profiltabelle!C26","v":0},{"$f":"Profiltabelle!D26","v":0},{"$f":"Profiltabelle!E26","v":0},{"$f":"Profiltabelle!F26","v":0},{"$f":"Profiltabelle!G26","v":0},{"$f":"Profiltabelle!H26","v":0}]
[{"$error":"#N/A"},{"$f":"Profiltabelle!C27","v":0},{"$f":"Profiltabelle!D27","v":0},{"$f":"Profiltabelle!E27","v":0},{"$f":"Profiltabelle!F27","v":0},{"$f":"Profiltabelle!G27","v":0},{"$f":"Profiltabelle!H27","v":0}]
[{"$error":"#N/A"},{"$f":"Profiltabelle!C28","v":0},{"$f":"Profiltabelle!D28","v":0},{"$f":"Profiltabelle!E28","v":0},{"$f":"Profiltabelle!F28","v":0},{"$f":"Profiltabelle!G28","v":0},{"$f":"Profiltabelle!H28","v":0}]
[{"$error":"#N/A"},{"$f":"Profiltabelle!C29","v":0},{"$f":"Profiltabelle!D29","v":0},{"$f":"Profiltabelle!E29","v":0},{"$f":"Profiltabelle!F29","v":0},{"$f":"Profiltabelle!G29","v":0},{"$f":"Profiltabelle!H29","v":0}]
[{"$error":"#N/A"},{"$f":"Profiltabelle!C30","v":0},{"$f":"Profiltabelle!D30","v":0},{"$f":"Profiltabelle!E30","v":0},{"$f":"Profiltabelle!F30","v":0},{"$f":"Profiltabelle!G30","v":0},{"$f":"Profiltabelle!H30","v":0}]
[{"$error":"#N/A"},{"$f":"Profiltabelle!C31","v":0},{"$f":"Profiltabelle!D31","v":0},{"$f":"Profiltabelle!E31","v":0},{"$f":"Profiltabelle!F31","v":0},{"$f":"Profiltabelle!G31","v":0},{"$f":"Profiltabelle!H31","v":0}]
[{"$error":"#N/A"},{"$f":"Profiltabelle!C32","v":0},{"$f":"Profiltabelle!D32","v":0},{"$f":"Profiltabelle!E32","v":0},{"$f":"Profiltabelle!F32","v":0},{"$f":"Profiltabelle!G32","v":0},{"$f":"Profiltabelle!H32","v":0}]
[{"$error":"#N/A"},{"$f":"Profiltabelle!C33","v":0},{"$f":"Profiltabelle!D33","v":0},{"$f":"Profiltabelle!E33","v":0},{"$f":"Profiltabelle!F33","v":0},{"$f":"Profiltabelle!G33","v":0},{"$f":"Profiltabelle!H33","v":0}]
[{"$error":"#N/A"},{"$f":"Profiltabelle!C34","v":0},{"$f":"Profiltabelle!D34","v":0},{"$f":"Profiltabelle!E34","v":0},{"$f":"Profiltabelle!F34","v":0},{"$f":"Profiltabelle!G34","v":0},{"$f":"Profiltabelle!H34","v":0}]
[{"$error":"#N/A"},{"$f":"Profiltabelle!C35","v":0},{"$f":"Profiltabelle!D35","v":0},{"$f":"Profiltabelle!E35","v":0},{"$f":"Profiltabelle!F35","v":0},{"$f":"Profiltabelle!G35","v":0},{"$f":"Profiltabelle!H35","v":0}]
[{"$error":"#N/A"},{"$f":"Profiltabelle!C36","v":0},{"$f":"Profiltabelle!D36","v":0},{"$f":"Profiltabelle!E36","v":0},{"$f":"Profiltabelle!F36","v":0},{"$f":"Profiltabelle!G36","v":0},{"$f":"Profiltabelle!H36","v":0}]
[{"$error":"#N/A"},{"$f":"Profiltabelle!C37","v":0},{"$f":"Profiltabelle!D37","v":0},{"$f":"Profiltabelle!E37","v":0},{"$f":"Profiltabelle!F37","v":0},{"$f":"Profiltabelle!G37","v":0},{"$f":"Profiltabelle!H37","v":0}]
[{"$error":"#N/A"},{"$f":"Profiltabelle!C38","v":0},{"$f":"Profiltabelle!D38","v":0},{"$f":"Profiltabelle!E38","v":0},{"$f":"Profiltabelle!F38","v":0},{"$f":"Profiltabelle!G38","v":0},{"$f":"Profiltabelle!H38","v":0}]
[{"$error":"#N/A"},{"$f":"Profiltabelle!C39","v":0},{"$f":"Profiltabelle!D39","v":0},{"$f":"Profiltabelle!E39","v":0},{"$f":"Profiltabelle!F39","v":0},{"$f":"Profiltabelle!G39","v":0},{"$f":"Profiltabelle!H39","v":0}]
[{"$error":"#N/A"},{"$f":"Profiltabelle!C40","v":0},{"$f":"Profiltabelle!D40","v":0},{"$f":"Profiltabelle!E40","v":0},{"$f":"Profiltabelle!F40","v":0},{"$f":"Profiltabelle!G40","v":0},{"$f":"Profiltabelle!H40","v":0}]
[{"$error":"#N/A"},{"$f":"Profiltabelle!C41","v":0},{"$f":"Profiltabelle!D41","v":0},{"$f":"Profiltabelle!E41","v":0},{"$f":"Profiltabelle!F41","v":0},{"$f":"Profiltabelle!G41","v":0},{"$f":"Profiltabelle!H41","v":0}]
[{"$error":"#N/A"},{"$f":"Profiltabelle!C42","v":0},{"$f":"Profiltabelle!D42","v":0},{"$f":"Profiltabelle!E42","v":0},{"$f":"Profiltabelle!F42","v":0},{"$f":"Profiltabelle!G42","v":0},{"$f":"Profiltabelle!H42","v":0}]
[{"$error":"#N/A"},{"$f":"Profiltabelle!C43","v":0},{"$f":"Profiltabelle!D43","v":0},{"$f":"Profiltabelle!E43","v":0},{"$f":"Profiltabelle!F43","v":0},{"$f":"Profiltabelle!G43","v":0},{"$f":"Profiltabelle!H43","v":0}]
[{"$error":"#N/A"},{"$f":"Profiltabelle!C44","v":0},{"$f":"Profiltabelle!D44","v":0},{"$f":"Profiltabelle!E44","v":0},{"$f":"Profiltabelle!F44","v":0},{"$f":"Profiltabelle!G44","v":0},{"$f":"Profiltabelle!H44","v":0}]
[{"$error":"#N/A"},{"$f":"Profiltabelle!C45","v":0},{"$f":"Profiltabelle!D45","v":0},{"$f":"Profiltabelle!E45","v":0},{"$f":"Profiltabelle!F45","v":0},{"$f":"Profiltabelle!G45","v":0},{"$f":"Profiltabelle!H45","v":0}]
[{"$error":"#N/A"},{"$f":"Profiltabelle!C46","v":0},{"$f":"Profiltabelle!D46","v":0},{"$f":"Profiltabelle!E46","v":0},{"$f":"Profiltabelle!F46","v":0},{"$f":"Profiltabelle!G46","v":0},{"$f":"Profiltabelle!H46","v":0}]
[{"$error":"#N/A"},{"$f":"Profiltabelle!C47","v":0},{"$f":"Profiltabelle!D47","v":0},{"$f":"Profiltabelle!E47","v":0},{"$f":"Profiltabelle!F47","v":0},{"$f":"Profiltabelle!G47","v":0},{"$f":"Profiltabelle!H47","v":0}]
[{"$error":"#N/A"},{"$f":"Profiltabelle!C48","v":0},{"$f":"Profiltabelle!D48","v":0},{"$f":"Profiltabelle!E48","v":0},{"$f":"Profiltabelle!F48","v":0},{"$f":"Profiltabelle!G48","v":0},{"$f":"Profiltabelle!H48","v":0}]
[{"$error":"#N/A"},{"$f":"Profiltabelle!C49","v":0},{"$f":"Profiltabelle!D49","v":0},{"$f":"Profiltabelle!E49","v":0},{"$f":"Profiltabelle!F49","v":0},{"$f":"Profiltabelle!G49","v":0},{"$f":"Profiltabelle!H49","v":0}]
[{"$error":"#N/A"},{"$f":"Profiltabelle!C50","v":0},{"$f":"Profiltabelle!D50","v":0},{"$f":"Profiltabelle!E50","v":0},{"$f":"Profiltabelle!F50","v":0},{"$f":"Profiltabelle!G50","v":0},{"$f":"Profiltabelle!H50","v":0}]
[{"$error":"#N/A"},{"$f":"Profiltabelle!C51","v":0},{"$f":"Profiltabelle!D51","v":0},{"$f":"Profiltabelle!E51","v":0},{"$f":"Profiltabelle!F51","v":0},{"$f":"Profiltabelle!G51","v":0},{"$f":"Profiltabelle!H51","v":0}]
[{"$error":"#N/A"},{"$f":"Profiltabelle!C52","v":0},{"$f":"Profiltabelle!D52","v":0},{"$f":"Profiltabelle!E52","v":0},{"$f":"Profiltabelle!F52","v":0},{"$f":"Profiltabelle!G52","v":0},{"$f":"Profiltabelle!H52","v":0}]
[{"$error":"#N/A"},{"$f":"Profiltabelle!C53","v":0},{"$f":"Profiltabelle!D53","v":0},{"$f":"Profiltabelle!E53","v":0},{"$f":"Profiltabelle!F53","v":0},{"$f":"Profiltabelle!G53","v":0},{"$f":"Profiltabelle!H53","v":0}]
[{"$error":"#N/A"},{"$f":"Profiltabelle!C54","v":0},{"$f":"Profiltabelle!D54","v":0},{"$f":"Profiltabelle!E54","v":0},{"$f":"Profiltabelle!F54","v":0},{"$f":"Profiltabelle!G54","v":0},{"$f":"Profiltabelle!H54","v":0}]
[{"$error":"#N/A"},{"$f":"Profiltabelle!C55","v":0},{"$f":"Profiltabelle!D55","v":0},{"$f":"Profiltabelle!E55","v":0},{"$f":"Profiltabelle!F55","v":0},{"$f":"Profiltabelle!G55","v":0},{"$f":"Profiltabelle!H55","v":0}]
[{"$error":"#N/A"},{"$f":"Profiltabelle!C56","v":0},{"$f":"Profiltabelle!D56","v":0},{"$f":"Profiltabelle!E56","v":0},{"$f":"Profiltabelle!F56","v":0},{"$f":"Profiltabelle!G56","v":0},{"$f":"Profiltabelle!H56","v":0}]
[{"$error":"#N/A"},{"$f":"Profiltabelle!C57","v":0},{"$f":"Profiltabelle!D57","v":0},{"$f":"Profiltabelle!E57","v":0},{"$f":"Profiltabelle!F57","v":0},{"$f":"Profiltabelle!G57","v":0},{"$f":"Profiltabelle!H57","v":0}]
[{"$error":"#N/A"},{"$f":"Profiltabelle!C58","v":0},{"$f":"Profiltabelle!D58","v":0},{"$f":"Profiltabelle!E58","v":0},{"$f":"Profiltabelle!F58","v":0},{"$f":"Profiltabelle!G58","v":0},{"$f":"Profiltabelle!H58","v":0}]
[{"$error":"#N/A"},{"$f":"Profiltabelle!C59","v":0},{"$f":"Profiltabelle!D59","v":0},{"$f":"Profiltabelle!E59","v":0},{"$f":"Profiltabelle!F59","v":0},{"$f":"Profiltabelle!G59","v":0},{"$f":"Profiltabelle!H59","v":0}]
[{"$error":"#N/A"},{"$f":"Profiltabelle!C60","v":0},{"$f":"Profiltabelle!D60","v":0},{"$f":"Profiltabelle!E60","v":0},{"$f":"Profiltabelle!F60","v":0},{"$f":"Profiltabelle!G60","v":0},{"$f":"Profiltabelle!H60","v":0}]
[{"$error":"#N/A"},{"$f":"Profiltabelle!C61","v":0},{"$f":"Profiltabelle!D61","v":0},{"$f":"Profiltabelle!E61","v":0},{"$f":"Profiltabelle!F61","v":0},{"$f":"Profiltabelle!G61","v":0},{"$f":"Profiltabelle!H61","v":0}]
[{"$error":"#N/A"},{"$f":"Profiltabelle!C62","v":0},{"$f":"Profiltabelle!D62","v":0},{"$f":"Profiltabelle!E62","v":0},{"$f":"Profiltabelle!F62","v":0},{"$f":"Profiltabelle!G62","v":0},{"$f":"Profiltabelle!H62","v":0}]
[{"$error":"#N/A"},{"$f":"Profiltabelle!C63","v":0},{"$f":"Profiltabelle!D63","v":0},{"$f":"Profiltabelle!E63","v":0},{"$f":"Profiltabelle!F63","v":0},{"$f":"Profiltabelle!G63","v":0},{"$f":"Profiltabelle!H63","v":0}]
[{"$error":"#N/A"},{"$f":"Profiltabelle!C64","v":0},{"$f":"Profiltabelle!D64","v":0},{"$f":"Profiltabelle!E64","v":0},{"$f":"Profiltabelle!F64","v":0},{"$f":"Profiltabelle!G64","v":0},{"$f":"Profiltabelle!H64","v":0}]
[{"$error":"#N/A"},{"$f":"Profiltabelle!C65","v":0},{"$f":"Profiltabelle!D65","v":0},{"$f":"Profiltabelle!E65","v":0},{"$f":"Profiltabelle!F65","v":0},{"$f":"Profiltabelle!G65","v":0},{"$f":"Profiltabelle!H65","v":0}]
[{"$error":"#N/A"},{"$f":"Profiltabelle!C66","v":0},{"$f":"Profiltabelle!D66","v":0},{"$f":"Profiltabelle!E66","v":0},{"$f":"Profiltabelle!F66","v":0},{"$f":"Profiltabelle!G66","v":0},{"$f":"Profiltabelle!H66","v":0}]
[{"$error":"#N/A"},{"$f":"Profiltabelle!C67","v":0},{"$f":"Profiltabelle!D67","v":0},{"$f":"Profiltabelle!E67","v":0},{"$f":"Profiltabelle!F67","v":0},{"$f":"Profiltabelle!G67","v":0},{"$f":"Profiltabelle!H67","v":0}]
[{"$error":"#N/A"},{"$f":"Profiltabelle!C68","v":0},{"$f":"Profiltabelle!D68","v":0},{"$f":"Profiltabelle!E68","v":0},{"$f":"Profiltabelle!F68","v":0},{"$f":"Profiltabelle!G68","v":0},{"$f":"Profiltabelle!H68","v":0}]
[{"$error":"#N/A"},{"$f":"Profiltabelle!C69","v":0},{"$f":"Profiltabelle!D69","v":0},{"$f":"Profiltabelle!E69","v":0},{"$f":"Profiltabelle!F69","v":0},{"$f":"Profiltabelle!G69","v":0},{"$f":"Profiltabelle!H69","v":0}]
[{"$error":"#N/A"},{"$f":"Profiltabelle!C70","v":0},{"$f":"Profiltabelle!D70","v":0},{"$f":"Profiltabelle!E70","v":0},{"$f":"Profiltabelle!F70","v":0},{"$f":"Profiltabelle!G70","v":0},{"$f":"Profiltabelle!H70","v":0}]
[{"$error":"#N/A"},{"$f":"Profiltabelle!C71","v":0},{"$f":"Profiltabelle!D71","v":0},{"$f":"Profiltabelle!E71","v":0},{"$f":"Profiltabelle!F71","v":0},{"$f":"Profiltabelle!G71","v":0},{"$f":"Profiltabelle!H71","v":0}]
[{"$error":"#N/A"},{"$f":"Profiltabelle!C72","v":0},{"$f":"Profiltabelle!D72","v":0},{"$f":"Profiltabelle!E72","v":0},{"$f":"Profiltabelle!F72","v":0},{"$f":"Profiltabelle!G72","v":0},{"$f":"Profiltabelle!H72","v":0}]
[{"$error":"#N/A"},{"$f":"Profiltabelle!C73","v":0},{"$f":"Profiltabelle!D73","v":0},{"$f":"Profiltabelle!E73","v":0},{"$f":"Profiltabelle!F73","v":0},{"$f":"Profiltabelle!G73","v":0},{"$f":"Profiltabelle!H73","v":0}]
[{"$error":"#N/A"},{"$f":"Profiltabelle!C74","v":0},{"$f":"Profiltabelle!D74","v":0},{"$f":"Profiltabelle!E74","v":0},{"$f":"Profiltabelle!F74","v":0},{"$f":"Profiltabelle!G74","v":0},{"$f":"Profiltabelle!H74","v":0}]
[{"$error":"#N/A"},{"$f":"Profiltabelle!C75","v":0},{"$f":"Profiltabelle!D75","v":0},{"$f":"Profiltabelle!E75","v":0},{"$f":"Profiltabelle!F75","v":0},{"$f":"Profiltabelle!G75","v":0},{"$f":"Profiltabelle!H75","v":0}]
[{"$error":"#N/A"},{"$f":"Profiltabelle!C76","v":0},{"$f":"Profiltabelle!D76","v":0},{"$f":"Profiltabelle!E76","v":0},{"$f":"Profiltabelle!F76","v":0},{"$f":"Profiltabelle!G76","v":0},{"$f":"Profiltabelle!H76","v":0}]
[{"$error":"#N/A"},{"$f":"Profiltabelle!C77","v":0},{"$f":"Profiltabelle!D77","v":0},{"$f":"Profiltabelle!E77","v":0},{"$f":"Profiltabelle!F77","v":0},{"$f":"Profiltabelle!G77","v":0},{"$f":"Profiltabelle!H77","v":0}]
[{"$error":"#N/A"},{"$f":"Profiltabelle!C78","v":0},{"$f":"Profiltabelle!D78","v":0},{"$f":"Profiltabelle!E78","v":0},{"$f":"Profiltabelle!F78","v":0},{"$f":"Profiltabelle!G78","v":0},{"$f":"Profiltabelle!H78","v":0}]
[{"$error":"#N/A"},{"$f":"Profiltabelle!C79","v":0},{"$f":"Profiltabelle!D79","v":0},{"$f":"Profiltabelle!E79","v":0},{"$f":"Profiltabelle!F79","v":0},{"$f":"Profiltabelle!G79","v":0},{"$f":"Profiltabelle!H79","v":0}]
[{"$error":"#N/A"},{"$f":"Profiltabelle!C80","v":0},{"$f":"Profiltabelle!D80","v":0},{"$f":"Profiltabelle!E80","v":0},{"$f":"Profiltabelle!F80","v":0},{"$f":"Profiltabelle!G80","v":0},{"$f":"Profiltabelle!H80","v":0}]
[{"$error":"#N/A"},{"$f":"Profiltabelle!C81","v":0},{"$f":"Profiltabelle!D81","v":0},{"$f":"Profiltabelle!E81","v":0},{"$f":"Profiltabelle!F81","v":0},{"$f":"Profiltabelle!G81","v":0},{"$f":"Profiltabelle!H81","v":0}]
[{"$error":"#N/A"},{"$f":"Profiltabelle!C82","v":0},{"$f":"Profiltabelle!D82","v":0},{"$f":"Profiltabelle!E82","v":0},{"$f":"Profiltabelle!F82","v":0},{"$f":"Profiltabelle!G82","v":0},{"$f":"Profiltabelle!H82","v":0}]
[{"$error":"#N/A"},{"$f":"Profiltabelle!C83","v":0},{"$f":"Profiltabelle!D83","v":0},{"$f":"Profiltabelle!E83","v":0},{"$f":"Profiltabelle!F83","v":0},{"$f":"Profiltabelle!G83","v":0},{"$f":"Profiltabelle!H83","v":0}]
[{"$error":"#N/A"},{"$f":"Profiltabelle!C84","v":0},{"$f":"Profiltabelle!D84","v":0},{"$f":"Profiltabelle!E84","v":0},{"$f":"Profiltabelle!F84","v":0},{"$f":"Profiltabelle!G84","v":0},{"$f":"Profiltabelle!H84","v":0}]
[{"$error":"#N/A"},{"$f":"Profiltabelle!C85","v":0},{"$f":"Profiltabelle!D85","v":0},{"$f":"Profiltabelle!E85","v":0},{"$f":"Profiltabelle!F85","v":0},{"$f":"Profiltabelle!G85","v":0},{"$f":"Profiltabelle!H85","v":0}]
[{"$error":"#N/A"},{"$f":"Profiltabelle!C86","v":0},{"$f":"Profiltabelle!D86","v":0},{"$f":"Profiltabelle!E86","v":0},{"$f":"Profiltabelle!F86","v":0},{"$f":"Profiltabelle!G86","v":0},{"$f":"Profiltabelle!H86","v":0}]
[{"$error":"#N/A"},{"$f":"Profiltabelle!C87","v":0},{"$f":"Profiltabelle!D87","v":0},{"$f":"Profiltabelle!E87","v":0},{"$f":"Profiltabelle!F87","v":0},{"$f":"Profiltabelle!G87","v":0},{"$f":"Profiltabelle!H87","v":0}]
[{"$error":"#N/A"},{"$f":"Profiltabelle!C88","v":0},{"$f":"Profiltabelle!D88","v":0},{"$f":"Profiltabelle!E88","v":0},{"$f":"Profiltabelle!F88","v":0},{"$f":"Profiltabelle!G88","v":0},{"$f":"Profiltabelle!H88","v":0}]
[{"$error":"#N/A"},{"$f":"Profiltabelle!C89","v":0},{"$f":"Profiltabelle!D89","v":0},{"$f":"Profiltabelle!E89","v":0},{"$f":"Profiltabelle!F89","v":0},{"$f":"Profiltabelle!G89","v":0},{"$f":"Profiltabelle!H89","v":0}]
[{"$error":"#N/A"},{"$f":"Profiltabelle!C90","v":0},{"$f":"Profiltabelle!D90","v":0},{"$f":"Profiltabelle!E90","v":0},{"$f":"Profiltabelle!F90","v":0},{"$f":"Profiltabelle!G90","v":0},{"$f":"Profiltabelle!H90","v":0}]
[{"$error":"#N/A"},{"$f":"Profiltabelle!C91","v":0},{"$f":"Profiltabelle!D91","v":0},{"$f":"Profiltabelle!E91","v":0},{"$f":"Profiltabelle!F91","v":0},{"$f":"Profiltabelle!G91","v":0},{"$f":"Profiltabelle!H91","v":0}]
[{"$error":"#N/A"},{"$f":"Profiltabelle!C92","v":0},{"$f":"Profiltabelle!D92","v":0},{"$f":"Profiltabelle!E92","v":0},{"$f":"Profiltabelle!F92","v":0},{"$f":"Profiltabelle!G92","v":0},{"$f":"Profiltabelle!H92","v":0}]
[{"$error":"#N/A"},{"$f":"Profiltabelle!C93","v":0},{"$f":"Profiltabelle!D93","v":0},{"$f":"Profiltabelle!E93","v":0},{"$f":"Profiltabelle!F93","v":0},{"$f":"Profiltabelle!G93","v":0},{"$f":"Profiltabelle!H93","v":0}]
[{"$error":"#N/A"},{"$f":"Profiltabelle!C94","v":0},{"$f":"Profiltabelle!D94","v":0},{"$f":"Profiltabelle!E94","v":0},{"$f":"Profiltabelle!F94","v":0},{"$f":"Profiltabelle!G94","v":0},{"$f":"Profiltabelle!H94","v":0}]
[{"$error":"#N/A"},{"$f":"Profiltabelle!C95","v":0},{"$f":"Profiltabelle!D95","v":0},{"$f":"Profiltabelle!E95","v":0},{"$f":"Profiltabelle!F95","v":0},{"$f":"Profiltabelle!G95","v":0},{"$f":"Profiltabelle!H95","v":0}]
[{"$error":"#N/A"},{"$f":"Profiltabelle!C96","v":0},{"$f":"Profiltabelle!D96","v":0},{"$f":"Profiltabelle!E96","v":0},{"$f":"Profiltabelle!F96","v":0},{"$f":"Profiltabelle!G96","v":0},{"$f":"Profiltabelle!H96","v":0}]
[{"$error":"#N/A"},{"$f":"Profiltabelle!C97","v":0},{"$f":"Profiltabelle!D97","v":0},{"$f":"Profiltabelle!E97","v":0},{"$f":"Profiltabelle!F97","v":0},{"$f":"Profiltabelle!G97","v":0},{"$f":"Profiltabelle!H97","v":0}]
[{"$error":"#N/A"},{"$f":"Profiltabelle!C98","v":0},{"$f":"Profiltabelle!D98","v":0},{"$f":"Profiltabelle!E98","v":0},{"$f":"Profiltabelle!F98","v":0},{"$f":"Profiltabelle!G98","v":0},{"$f":"Profiltabelle!H98","v":0}]
[{"$error":"#N/A"},{"$f":"Profiltabelle!C99","v":0},{"$f":"Profiltabelle!D99","v":0},{"$f":"Profiltabelle!E99","v":0},{"$f":"Profiltabelle!F99","v":0},{"$f":"Profiltabelle!G99","v":0},{"$f":"Profiltabelle!H99","v":0}]
[{"$error":"#N/A"},{"$f":"Profiltabelle!C100","v":0},{"$f":"Profiltabelle!D100","v":0},{"$f":"Profiltabelle!E100","v":0},{"$f":"Profiltabelle!F100","v":0},{"$f":"Profiltabelle!G100","v":0},{"$f":"Profiltabelle!H100","v":0}]
[{"$error":"#N/A"},{"$f":"Profiltabelle!C101","v":0},{"$f":"Profiltabelle!D101","v":0},{"$f":"Profiltabelle!E101","v":0},{"$f":"Profiltabelle!F101","v":0},{"$f":"Profiltabelle!G101","v":0},{"$f":"Profiltabelle!H101","v":0}]
[{"$error":"#N/A"},{"$f":"Profiltabelle!C102","v":0},{"$f":"Profiltabelle!D102","v":0},{"$f":"Profiltabelle!E102","v":0},{"$f":"Profiltabelle!F102","v":0},{"$f":"Profiltabelle!G102","v":0},{"$f":"Profiltabelle!H102","v":0}]
[{"$error":"#N/A"},{"$f":"Profiltabelle!C103","v":0},{"$f":"Profiltabelle!D103","v":0},{"$f":"Profiltabelle!E103","v":0},{"$f":"Profiltabelle!F103","v":0},{"$f":"Profiltabelle!G103","v":0},{"$f":"Profiltabelle!H103","v":0}]
[{"$error":"#N/A"},{"$f":"Profiltabelle!C104","v":0},{"$f":"Profiltabelle!D104","v":0},{"$f":"Profiltabelle!E104","v":0},{"$f":"Profiltabelle!F104","v":0},{"$f":"Profiltabelle!G104","v":0},{"$f":"Profiltabelle!H104","v":0}]
[{"$error":"#N/A"},{"$f":"Profiltabelle!C105","v":0},{"$f":"Profiltabelle!D105","v":0},{"$f":"Profiltabelle!E105","v":0},{"$f":"Profiltabelle!F105","v":0},{"$f":"Profiltabelle!G105","v":0},{"$f":"Profiltabelle!H105","v":0}]
[{"$error":"#N/A"},{"$f":"Profiltabelle!C106","v":0},{"$f":"Profiltabelle!D106","v":0},{"$f":"Profiltabelle!E106","v":0},{"$f":"Profiltabelle!F106","v":0},{"$f":"Profiltabelle!G106","v":0},{"$f":"Profiltabelle!H106","v":0}]
[{"$error":"#N/A"},{"$f":"Profiltabelle!C107","v":0},{"$f":"Profiltabelle!D107","v":0},{"$f":"Profiltabelle!E107","v":0},{"$f":"Profiltabelle!F107","v":0},{"$f":"Profiltabelle!G107","v":0},{"$f":"Profiltabelle!H107","v":0}]
[{"$error":"#N/A"},{"$f":"Profiltabelle!C108","v":0},{"$f":"Profiltabelle!D108","v":0},{"$f":"Profiltabelle!E108","v":0},{"$f":"Profiltabelle!F108","v":0},{"$f":"Profiltabelle!G108","v":0},{"$f":"Profiltabelle!H108","v":0}]
[{"$error":"#N/A"},{"$f":"Profiltabelle!C109","v":0},{"$f":"Profiltabelle!D109","v":0},{"$f":"Profiltabelle!E109","v":0},{"$f":"Profiltabelle!F109","v":0},{"$f":"Profiltabelle!G109","v":0},{"$f":"Profiltabelle!H109","v":0}]
[{"$error":"#N/A"},{"$f":"Profiltabelle!C110","v":0},{"$f":"Profiltabelle!D110","v":0},{"$f":"Profiltabelle!E110","v":0},{"$f":"Profiltabelle!F110","v":0},{"$f":"Profiltabelle!G110","v":0},{"$f":"Profiltabelle!H110","v":0}]
[{"$error":"#N/A"},{"$f":"Profiltabelle!C111","v":0},{"$f":"Profiltabelle!D111","v":0},{"$f":"Profiltabelle!E111","v":0},{"$f":"Profiltabelle!F111","v":0},{"$f":"Profiltabelle!G111","v":0},{"$f":"Profiltabelle!H111","v":0}]
[{"$error":"#N/A"},{"$f":"Profiltabelle!C112","v":0},{"$f":"Profiltabelle!D112","v":0},{"$f":"Profiltabelle!E112","v":0},{"$f":"Profiltabelle!F112","v":0},{"$f":"Profiltabelle!G112","v":0},{"$f":"Profiltabelle!H112","v":0}]
[{"$error":"#N/A"},{"$f":"Profiltabelle!C113","v":0},{"$f":"Profiltabelle!D113","v":0},{"$f":"Profiltabelle!E113","v":0},{"$f":"Profiltabelle!F113","v":0},{"$f":"Profiltabelle!G113","v":0},{"$f":"Profiltabelle!H113","v":0}]
[{"$error":"#N/A"},{"$f":"Profiltabelle!C114","v":0},{"$f":"Profiltabelle!D114","v":0},{"$f":"Profiltabelle!E114","v":0},{"$f":"Profiltabelle!F114","v":0},{"$f":"Profiltabelle!G114","v":0},{"$f":"Profiltabelle!H114","v":0}]
[{"$error":"#N/A"},{"$f":"Profiltabelle!C115","v":0},{"$f":"Profiltabelle!D115","v":0},{"$f":"Profiltabelle!E115","v":0},{"$f":"Profiltabelle!F115","v":0},{"$f":"Profiltabelle!G115","v":0},{"$f":"Profiltabelle!H115","v":0}]
[{"$error":"#N/A"},{"$f":"Profiltabelle!C116","v":0},{"$f":"Profiltabelle!D116","v":0},{"$f":"Profiltabelle!E116","v":0},{"$f":"Profiltabelle!F116","v":0},{"$f":"Profiltabelle!G116","v":0},{"$f":"Profiltabelle!H116","v":0}]
[{"$error":"#N/A"},{"$f":"Profiltabelle!C117","v":0},{"$f":"Profiltabelle!D117","v":0},{"$f":"Profiltabelle!E117","v":0},{"$f":"Profiltabelle!F117","v":0},{"$f":"Profiltabelle!G117","v":0},{"$f":"Profiltabelle!H117","v":0}]
[{"$error":"#N/A"},{"$f":"Profiltabelle!C118","v":0},{"$f":"Profiltabelle!D118","v":0},{"$f":"Profiltabelle!E118","v":0},{"$f":"Profiltabelle!F118","v":0},{"$f":"Profiltabelle!G118","v":0},{"$f":"Profiltabelle!H118","v":0}]
[{"$error":"#N/A"},{"$f":"Profiltabelle!C119","v":0},{"$f":"Profiltabelle!D119","v":0},{"$f":"Profiltabelle!E119","v":0},{"$f":"Profiltabelle!F119","v":0},{"$f":"Profiltabelle!G119","v":0},{"$f":"Profiltabelle!H119","v":0}]
[{"$error":"#N/A"},{"$f":"Profiltabelle!C120","v":0},{"$f":"Profiltabelle!D120","v":0},{"$f":"Profiltabelle!E120","v":0},{"$f":"Profiltabelle!F120","v":0},{"$f":"Profiltabelle!G120","v":0},{"$f":"Profiltabelle!H120","v":0}]
[{"$error":"#N/A"},{"$f":"Profiltabelle!C121","v":0},{"$f":"Profiltabelle!D121","v":0},{"$f":"Profiltabelle!E121","v":0},{"$f":"Profiltabelle!F121","v":0},{"$f":"Profiltabelle!G121","v":0},{"$f":"Profiltabelle!H121","v":0}]
[{"$error":"#N/A"},{"$f":"Profiltabelle!C122","v":0},{"$f":"Profiltabelle!D122","v":0},{"$f":"Profiltabelle!E122","v":0},{"$f":"Profiltabelle!F122","v":0},{"$f":"Profiltabelle!G122","v":0},{"$f":"Profiltabelle!H122","v":0}]
[{"$error":"#N/A"},{"$f":"Profiltabelle!C123","v":0},{"$f":"Profiltabelle!D123","v":0},{"$f":"Profiltabelle!E123","v":0},{"$f":"Profiltabelle!F123","v":0},{"$f":"Profiltabelle!G123","v":0},{"$f":"Profiltabelle!H123","v":0}]
[{"$error":"#N/A"},{"$f":"Profiltabelle!C124","v":0},{"$f":"Profiltabelle!D124","v":0},{"$f":"Profiltabelle!E124","v":0},{"$f":"Profiltabelle!F124","v":0},{"$f":"Profiltabelle!G124","v":0},{"$f":"Profiltabelle!H124","v":0}]
[{"$error":"#N/A"},{"$f":"Profiltabelle!C125","v":0},{"$f":"Profiltabelle!D125","v":0},{"$f":"Profiltabelle!E125","v":0},{"$f":"Profiltabelle!F125","v":0},{"$f":"Profiltabelle!G125","v":0},{"$f":"Profiltabelle!H125","v":0}]
[{"$error":"#N/A"},{"$f":"Profiltabelle!C126","v":0},{"$f":"Profiltabelle!D126","v":0},{"$f":"Profiltabelle!E126","v":0},{"$f":"Profiltabelle!F126","v":0},{"$f":"Profiltabelle!G126","v":0},{"$f":"Profiltabelle!H126","v":0}]
[{"$error":"#N/A"},{"$f":"Profiltabelle!C127","v":0},{"$f":"Profiltabelle!D127","v":0},{"$f":"Profiltabelle!E127","v":0},{"$f":"Profiltabelle!F127","v":0},{"$f":"Profiltabelle!G127","v":0},{"$f":"Profiltabelle!H127","v":0}]
[{"$error":"#N/A"},{"$f":"Profiltabelle!C128","v":0},{"$f":"Profiltabelle!D128","v":0},{"$f":"Profiltabelle!E128","v":0},{"$f":"Profiltabelle!F128","v":0},{"$f":"Profiltabelle!G128","v":0},{"$f":"Profiltabelle!H128","v":0}]
[{"$error":"#N/A"},{"$f":"Profiltabelle!C129","v":0},{"$f":"Profiltabelle!D129","v":0},{"$f":"Profiltabelle!E129","v":0},{"$f":"Profiltabelle!F129","v":0},{"$f":"Profiltabelle!G129","v":0},{"$f":"Profiltabelle!H129","v":0}]
[{"$error":"#N/A"},{"$f":"Profiltabelle!C130","v":0},{"$f":"Profiltabelle!D130","v":0},{"$f":"Profiltabelle!E130","v":0},{"$f":"Profiltabelle!F130","v":0},{"$f":"Profiltabelle!G130","v":0},{"$f":"Profiltabelle!H130","v":0}]
[{"$error":"#N/A"},{"$f":"Profiltabelle!C131","v":0},{"$f":"Profiltabelle!D131","v":0},{"$f":"Profiltabelle!E131","v":0},{"$f":"Profiltabelle!F131","v":0},{"$f":"Profiltabelle!G131","v":0},{"$f":"Profiltabelle!H131","v":0}]
[{"$error":"#N/A"},{"$f":"Profiltabelle!C132","v":0},{"$f":"Profiltabelle!D132","v":0},{"$f":"Profiltabelle!E132","v":0},{"$f":"Profiltabelle!F132","v":0},{"$f":"Profiltabelle!G132","v":0},{"$f":"Profiltabelle!H132","v":0}]
[{"$error":"#N/A"},{"$f":"Profiltabelle!C133","v":0},{"$f":"Profiltabelle!D133","v":0},{"$f":"Profiltabelle!E133","v":0},{"$f":"Profiltabelle!F133","v":0},{"$f":"Profiltabelle!G133","v":0},{"$f":"Profiltabelle!H133","v":0}]
[{"$error":"#N/A"},{"$f":"Profiltabelle!C134","v":0},{"$f":"Profiltabelle!D134","v":0},{"$f":"Profiltabelle!E134","v":0},{"$f":"Profiltabelle!F134","v":0},{"$f":"Profiltabelle!G134","v":0},{"$f":"Profiltabelle!H134","v":0}]
[{"$error":"#N/A"},{"$f":"Profiltabelle!C135","v":0},{"$f":"Profiltabelle!D135","v":0},{"$f":"Profiltabelle!E135","v":0},{"$f":"Profiltabelle!F135","v":0},{"$f":"Profiltabelle!G135","v":0},{"$f":"Profiltabelle!H135","v":0}]
[{"$error":"#N/A"},{"$f":"Profiltabelle!C136","v":0},{"$f":"Profiltabelle!D136","v":0},{"$f":"Profiltabelle!E136","v":0},{"$f":"Profiltabelle!F136","v":0},{"$f":"Profiltabelle!G136","v":0},{"$f":"Profiltabelle!H136","v":0}]
[{"$error":"#N/A"},{"$f":"Profiltabelle!C137","v":0},{"$f":"Profiltabelle!D137","v":0},{"$f":"Profiltabelle!E137","v":0},{"$f":"Profiltabelle!F137","v":0},{"$f":"Profiltabelle!G137","v":0},{"$f":"Profiltabelle!H137","v":0}]
[{"$error":"#N/A"},{"$f":"Profiltabelle!C138","v":0},{"$f":"Profiltabelle!D138","v":0},{"$f":"Profiltabelle!E138","v":0},{"$f":"Profiltabelle!F138","v":0},{"$f":"Profiltabelle!G138","v":0},{"$f":"Profiltabelle!H138","v":0}]
[{"$error":"#N/A"},{"$f":"Profiltabelle!C139","v":0},{"$f":"Profiltabelle!D139","v":0},{"$f":"Profiltabelle!E139","v":0},{"$f":"Profiltabelle!F139","v":0},{"$f":"Profiltabelle!G139","v":0},{"$f":"Profiltabelle!H139","v":0}]
[{"$error":"#N/A"},{"$f":"Profiltabelle!C140","v":0},{"$f":"Profiltabelle!D140","v":0},{"$f":"Profiltabelle!E140","v":0},{"$f":"Profiltabelle!F140","v":0},{"$f":"Profiltabelle!G140","v":0},{"$f":"Profiltabelle!H140","v":0}]
[{"$error":"#N/A"},{"$f":"Profiltabelle!C141","v":0},{"$f":"Profiltabelle!D141","v":0},{"$f":"Profiltabelle!E141","v":0},{"$f":"Profiltabelle!F141","v":0},{"$f":"Profiltabelle!G141","v":0},{"$f":"Profiltabelle!H141","v":0}]
[{"$error":"#N/A"},{"$f":"Profiltabelle!C142","v":0},{"$f":"Profiltabelle!D142","v":0},{"$f":"Profiltabelle!E142","v":0},{"$f":"Profiltabelle!F142","v":0},{"$f":"Profiltabelle!G142","v":0},{"$f":"Profiltabelle!H142","v":0}]
[{"$error":"#N/A"},{"$f":"Profiltabelle!C143","v":0},{"$f":"Profiltabelle!D143","v":0},{"$f":"Profiltabelle!E143","v":0},{"$f":"Profiltabelle!F143","v":0},{"$f":"Profiltabelle!G143","v":0},{"$f":"Profiltabelle!H143","v":0}]
[{"$error":"#N/A"},{"$f":"Profiltabelle!C144","v":0},{"$f":"Profiltabelle!D144","v":0},{"$f":"Profiltabelle!E144","v":0},{"$f":"Profiltabelle!F144","v":0},{"$f":"Profiltabelle!G144","v":0},{"$f":"Profiltabelle!H144","v":0}]
[{"$error":"#N/A"},{"$f":"Profiltabelle!C145","v":0},{"$f":"Profiltabelle!D145","v":0},{"$f":"Profiltabelle!E145","v":0},{"$f":"Profiltabelle!F145","v":0},{"$f":"Profiltabelle!G145","v":0},{"$f":"Profiltabelle!H145","v":0}]
[{"$error":"#N/A"},{"$f":"Profiltabelle!C146","v":0},{"$f":"Profiltabelle!D146","v":0},{"$f":"Profiltabelle!E146","v":0},{"$f":"Profiltabelle!F146","v":0},{"$f":"Profiltabelle!G146","v":0},{"$f":"Profiltabelle!H146","v":0}]
[{"$error":"#N/A"},{"$f":"Profiltabelle!C147","v":0},{"$f":"Profiltabelle!D147","v":0},{"$f":"Profiltabelle!E147","v":0},{"$f":"Profiltabelle!F147","v":0},{"$f":"Profiltabelle!G147","v":0},{"$f":"Profiltabelle!H147","v":0}]
[{"$error":"#N/A"},{"$f":"Profiltabelle!C148","v":0},{"$f":"Profiltabelle!D148","v":0},{"$f":"Profiltabelle!E148","v":0},{"$f":"Profiltabelle!F148","v":0},{"$f":"Profiltabelle!G148","v":0},{"$f":"Profiltabelle!H148","v":0}]
[{"$error":"#N/A"},{"$f":"Profiltabelle!C149","v":0},{"$f":"Profiltabelle!D149","v":0},{"$f":"Profiltabelle!E149","v":0},{"$f":"Profiltabelle!F149","v":0},{"$f":"Profiltabelle!G149","v":0},{"$f":"Profiltabelle!H149","v":0}]
[{"$error":"#N/A"},{"$f":"Profiltabelle!C150","v":0},{"$f":"Profiltabelle!D150","v":0},{"$f":"Profiltabelle!E150","v":0},{"$f":"Profiltabelle!F150","v":0},{"$f":"Profiltabelle!G150","v":0},{"$f":"Profiltabelle!H150","v":0}]
[{"$error":"#N/A"},{"$f":"Profiltabelle!C151","v":0},{"$f":"Profiltabelle!D151","v":0},{"$f":"Profiltabelle!E151","v":0},{"$f":"Profiltabelle!F151","v":0},{"$f":"Profiltabelle!G151","v":0},{"$f":"Profiltabelle!H151","v":0}]
[{"$error":"#N/A"},{"$f":"Profiltabelle!C152","v":0},{"$f":"Profiltabelle!D152","v":0},{"$f":"Profiltabelle!E152","v":0},{"$f":"Profiltabelle!F152","v":0},{"$f":"Profiltabelle!G152","v":0},{"$f":"Profiltabelle!H152","v":0}]
[{"$error":"#N/A"},{"$f":"Profiltabelle!C153","v":0},{"$f":"Profiltabelle!D153","v":0},{"$f":"Profiltabelle!E153","v":0},{"$f":"Profiltabelle!F153","v":0},{"$f":"Profiltabelle!G153","v":0},{"$f":"Profiltabelle!H153","v":0}]
[{"$error":"#N/A"},{"$f":"Profiltabelle!C154","v":0},{"$f":"Profiltabelle!D154","v":0},{"$f":"Profiltabelle!E154","v":0},{"$f":"Profiltabelle!F154","v":0},{"$f":"Profiltabelle!G154","v":0},{"$f":"Profiltabelle!H154","v":0}]
[{"$error":"#N/A"},{"$f":"Profiltabelle!C155","v":0},{"$f":"Profiltabelle!D155","v":0},{"$f":"Profiltabelle!E155","v":0},{"$f":"Profiltabelle!F155","v":0},{"$f":"Profiltabelle!G155","v":0},{"$f":"Profiltabelle!H155","v":0}]
[{"$error":"#N/A"},{"$f":"Profiltabelle!C156","v":0},{"$f":"Profiltabelle!D156","v":0},{"$f":"Profiltabelle!E156","v":0},{"$f":"Profiltabelle!F156","v":0},{"$f":"Profiltabelle!G156","v":0},{"$f":"Profiltabelle!H156","v":0}]
[{"$error":"#N/A"},{"$f":"Profiltabelle!C157","v":0},{"$f":"Profiltabelle!D157","v":0},{"$f":"Profiltabelle!E157","v":0},{"$f":"Profiltabelle!F157","v":0},{"$f":"Profiltabelle!G157","v":0},{"$f":"Profiltabelle!H157","v":0}]
[{"$error":"#N/A"},{"$f":"Profiltabelle!C158","v":0},{"$f":"Profiltabelle!D158","v":0},{"$f":"Profiltabelle!E158","v":0},{"$f":"Profiltabelle!F158","v":0},{"$f":"Profiltabelle!G158","v":0},{"$f":"Profiltabelle!H158","v":0}]
[{"$error":"#N/A"},{"$f":"Profiltabelle!C159","v":0},{"$f":"Profiltabelle!D159","v":0},{"$f":"Profiltabelle!E159","v":0},{"$f":"Profiltabelle!F159","v":0},{"$f":"Profiltabelle!G159","v":0},{"$f":"Profiltabelle!H159","v":0}]
[{"$error":"#N/A"},{"$f":"Profiltabelle!C160","v":0},{"$f":"Profiltabelle!D160","v":0},{"$f":"Profiltabelle!E160","v":0},{"$f":"Profiltabelle!F160","v":0},{"$f":"Profiltabelle!G160","v":0},{"$f":"Profiltabelle!H160","v":0}]
[null,null,null,null,null,null,{"$f":"SUBTOTAL(103,Tabelle13246[WPU 7 WiPo])","v":149}]

{"sheet":"Kurs4","index":6,"n_rows":154,"n_cols":14,"rows_kept":154,"cut":false,"hidden":false,"merged":[]}
["1. Wunsch",{"$f":"SUMIFS(B$5:B$153,$E$5:$E$153,\"1\",B$5:B$153,\"1\")","v":0},0,0,0,0,0]
["2. Wunsch",{"$f":"SUMIFS(B$5:B$153,$E$5:$E$153,\"1\",B$5:B$153,\"2\")/2","v":0},0,0,0,0,0]
["3. Wunsch",{"$f":"SUMIFS(B$5:B$153,$E$5:$E$153,\"1\",B$5:B$153,\"3\")/3","v":0},0,0,0,0,0]
["Namen","WPU 7 Biogarten","WPU 7 Französisch","WPU 7 Gesund und fit","WPU 7 Informatik","WPU 7 Technik","WPU 7 WiPo",null,null,null,null,null,null,{"$f":"$E$4","v":"WPU 7 Informatik"}]
[{"$error":"#N/A"},{"$f":"Profiltabelle!C12","v":0},{"$f":"Profiltabelle!D12","v":0},{"$f":"Profiltabelle!E12","v":0},{"$f":"Profiltabelle!F12","v":0},{"$f":"Profiltabelle!G12","v":0},{"$f":"Profiltabelle!H12","v":0}]
[{"$error":"#N/A"},{"$f":"Profiltabelle!C13","v":0},{"$f":"Profiltabelle!D13","v":0},{"$f":"Profiltabelle!E13","v":0},{"$f":"Profiltabelle!F13","v":0},{"$f":"Profiltabelle!G13","v":0},{"$f":"Profiltabelle!H13","v":0}]
[{"$error":"#N/A"},{"$f":"Profiltabelle!C14","v":0},{"$f":"Profiltabelle!D14","v":0},{"$f":"Profiltabelle!E14","v":0},{"$f":"Profiltabelle!F14","v":0},{"$f":"Profiltabelle!G14","v":0},{"$f":"Profiltabelle!H14","v":0}]
[{"$error":"#N/A"},{"$f":"Profiltabelle!C15","v":0},{"$f":"Profiltabelle!D15","v":0},{"$f":"Profiltabelle!E15","v":0},{"$f":"Profiltabelle!F15","v":0},{"$f":"Profiltabelle!G15","v":0},{"$f":"Profiltabelle!H15","v":0}]
[{"$error":"#N/A"},{"$f":"Profiltabelle!C16","v":0},{"$f":"Profiltabelle!D16","v":0},{"$f":"Profiltabelle!E16","v":0},{"$f":"Profiltabelle!F16","v":0},{"$f":"Profiltabelle!G16","v":0},{"$f":"Profiltabelle!H16","v":0}]
[{"$error":"#N/A"},{"$f":"Profiltabelle!C17","v":0},{"$f":"Profiltabelle!D17","v":0},{"$f":"Profiltabelle!E17","v":0},{"$f":"Profiltabelle!F17","v":0},{"$f":"Profiltabelle!G17","v":0},{"$f":"Profiltabelle!H17","v":0}]
[{"$error":"#N/A"},{"$f":"Profiltabelle!C18","v":0},{"$f":"Profiltabelle!D18","v":0},{"$f":"Profiltabelle!E18","v":0},{"$f":"Profiltabelle!F18","v":0},{"$f":"Profiltabelle!G18","v":0},{"$f":"Profiltabelle!H18","v":0}]
[{"$error":"#N/A"},{"$f":"Profiltabelle!C19","v":0},{"$f":"Profiltabelle!D19","v":0},{"$f":"Profiltabelle!E19","v":0},{"$f":"Profiltabelle!F19","v":0},{"$f":"Profiltabelle!G19","v":0},{"$f":"Profiltabelle!H19","v":0}]
[{"$error":"#N/A"},{"$f":"Profiltabelle!C20","v":0},{"$f":"Profiltabelle!D20","v":0},{"$f":"Profiltabelle!E20","v":0},{"$f":"Profiltabelle!F20","v":0},{"$f":"Profiltabelle!G20","v":0},{"$f":"Profiltabelle!H20","v":0}]
[{"$error":"#N/A"},{"$f":"Profiltabelle!C21","v":0},{"$f":"Profiltabelle!D21","v":0},{"$f":"Profiltabelle!E21","v":0},{"$f":"Profiltabelle!F21","v":0},{"$f":"Profiltabelle!G21","v":0},{"$f":"Profiltabelle!H21","v":0}]
[{"$error":"#N/A"},{"$f":"Profiltabelle!C22","v":0},{"$f":"Profiltabelle!D22","v":0},{"$f":"Profiltabelle!E22","v":0},{"$f":"Profiltabelle!F22","v":0},{"$f":"Profiltabelle!G22","v":0},{"$f":"Profiltabelle!H22","v":0}]
[{"$error":"#N/A"},{"$f":"Profiltabelle!C23","v":0},{"$f":"Profiltabelle!D23","v":0},{"$f":"Profiltabelle!E23","v":0},{"$f":"Profiltabelle!F23","v":0},{"$f":"Profiltabelle!G23","v":0},{"$f":"Profiltabelle!H23","v":0}]
[{"$error":"#N/A"},{"$f":"Profiltabelle!C24","v":0},{"$f":"Profiltabelle!D24","v":0},{"$f":"Profiltabelle!E24","v":0},{"$f":"Profiltabelle!F24","v":0},{"$f":"Profiltabelle!G24","v":0},{"$f":"Profiltabelle!H24","v":0}]
[{"$error":"#N/A"},{"$f":"Profiltabelle!C25","v":0},{"$f":"Profiltabelle!D25","v":0},{"$f":"Profiltabelle!E25","v":0},{"$f":"Profiltabelle!F25","v":0},{"$f":"Profiltabelle!G25","v":0},{"$f":"Profiltabelle!H25","v":0}]
[{"$error":"#N/A"},{"$f":"Profiltabelle!C26","v":0},{"$f":"Profiltabelle!D26","v":0},{"$f":"Profiltabelle!E26","v":0},{"$f":"Profiltabelle!F26","v":0},{"$f":"Profiltabelle!G26","v":0},{"$f":"Profiltabelle!H26","v":0}]
[{"$error":"#N/A"},{"$f":"Profiltabelle!C27","v":0},{"$f":"Profiltabelle!D27","v":0},{"$f":"Profiltabelle!E27","v":0},{"$f":"Profiltabelle!F27","v":0},{"$f":"Profiltabelle!G27","v":0},{"$f":"Profiltabelle!H27","v":0}]
[{"$error":"#N/A"},{"$f":"Profiltabelle!C28","v":0},{"$f":"Profiltabelle!D28","v":0},{"$f":"Profiltabelle!E28","v":0},{"$f":"Profiltabelle!F28","v":0},{"$f":"Profiltabelle!G28","v":0},{"$f":"Profiltabelle!H28","v":0}]
[{"$error":"#N/A"},{"$f":"Profiltabelle!C29","v":0},{"$f":"Profiltabelle!D29","v":0},{"$f":"Profiltabelle!E29","v":0},{"$f":"Profiltabelle!F29","v":0},{"$f":"Profiltabelle!G29","v":0},{"$f":"Profiltabelle!H29","v":0}]
[{"$error":"#N/A"},{"$f":"Profiltabelle!C30","v":0},{"$f":"Profiltabelle!D30","v":0},{"$f":"Profiltabelle!E30","v":0},{"$f":"Profiltabelle!F30","v":0},{"$f":"Profiltabelle!G30","v":0},{"$f":"Profiltabelle!H30","v":0}]
[{"$error":"#N/A"},{"$f":"Profiltabelle!C31","v":0},{"$f":"Profiltabelle!D31","v":0},{"$f":"Profiltabelle!E31","v":0},{"$f":"Profiltabelle!F31","v":0},{"$f":"Profiltabelle!G31","v":0},{"$f":"Profiltabelle!H31","v":0}]
[{"$error":"#N/A"},{"$f":"Profiltabelle!C32","v":0},{"$f":"Profiltabelle!D32","v":0},{"$f":"Profiltabelle!E32","v":0},{"$f":"Profiltabelle!F32","v":0},{"$f":"Profiltabelle!G32","v":0},{"$f":"Profiltabelle!H32","v":0}]
[{"$error":"#N/A"},{"$f":"Profiltabelle!C33","v":0},{"$f":"Profiltabelle!D33","v":0},{"$f":"Profiltabelle!E33","v":0},{"$f":"Profiltabelle!F33","v":0},{"$f":"Profiltabelle!G33","v":0},{"$f":"Profiltabelle!H33","v":0}]
[{"$error":"#N/A"},{"$f":"Profiltabelle!C34","v":0},{"$f":"Profiltabelle!D34","v":0},{"$f":"Profiltabelle!E34","v":0},{"$f":"Profiltabelle!F34","v":0},{"$f":"Profiltabelle!G34","v":0},{"$f":"Profiltabelle!H34","v":0}]
[{"$error":"#N/A"},{"$f":"Profiltabelle!C35","v":0},{"$f":"Profiltabelle!D35","v":0},{"$f":"Profiltabelle!E35","v":0},{"$f":"Profiltabelle!F35","v":0},{"$f":"Profiltabelle!G35","v":0},{"$f":"Profiltabelle!H35","v":0}]
[{"$error":"#N/A"},{"$f":"Profiltabelle!C36","v":0},{"$f":"Profiltabelle!D36","v":0},{"$f":"Profiltabelle!E36","v":0},{"$f":"Profiltabelle!F36","v":0},{"$f":"Profiltabelle!G36","v":0},{"$f":"Profiltabelle!H36","v":0}]
[{"$error":"#N/A"},{"$f":"Profiltabelle!C37","v":0},{"$f":"Profiltabelle!D37","v":0},{"$f":"Profiltabelle!E37","v":0},{"$f":"Profiltabelle!F37","v":0},{"$f":"Profiltabelle!G37","v":0},{"$f":"Profiltabelle!H37","v":0}]
[{"$error":"#N/A"},{"$f":"Profiltabelle!C38","v":0},{"$f":"Profiltabelle!D38","v":0},{"$f":"Profiltabelle!E38","v":0},{"$f":"Profiltabelle!F38","v":0},{"$f":"Profiltabelle!G38","v":0},{"$f":"Profiltabelle!H38","v":0}]
[{"$error":"#N/A"},{"$f":"Profiltabelle!C39","v":0},{"$f":"Profiltabelle!D39","v":0},{"$f":"Profiltabelle!E39","v":0},{"$f":"Profiltabelle!F39","v":0},{"$f":"Profiltabelle!G39","v":0},{"$f":"Profiltabelle!H39","v":0}]
[{"$error":"#N/A"},{"$f":"Profiltabelle!C40","v":0},{"$f":"Profiltabelle!D40","v":0},{"$f":"Profiltabelle!E40","v":0},{"$f":"Profiltabelle!F40","v":0},{"$f":"Profiltabelle!G40","v":0},{"$f":"Profiltabelle!H40","v":0}]
[{"$error":"#N/A"},{"$f":"Profiltabelle!C41","v":0},{"$f":"Profiltabelle!D41","v":0},{"$f":"Profiltabelle!E41","v":0},{"$f":"Profiltabelle!F41","v":0},{"$f":"Profiltabelle!G41","v":0},{"$f":"Profiltabelle!H41","v":0}]
[{"$error":"#N/A"},{"$f":"Profiltabelle!C42","v":0},{"$f":"Profiltabelle!D42","v":0},{"$f":"Profiltabelle!E42","v":0},{"$f":"Profiltabelle!F42","v":0},{"$f":"Profiltabelle!G42","v":0},{"$f":"Profiltabelle!H42","v":0}]
[{"$error":"#N/A"},{"$f":"Profiltabelle!C43","v":0},{"$f":"Profiltabelle!D43","v":0},{"$f":"Profiltabelle!E43","v":0},{"$f":"Profiltabelle!F43","v":0},{"$f":"Profiltabelle!G43","v":0},{"$f":"Profiltabelle!H43","v":0}]
[{"$error":"#N/A"},{"$f":"Profiltabelle!C44","v":0},{"$f":"Profiltabelle!D44","v":0},{"$f":"Profiltabelle!E44","v":0},{"$f":"Profiltabelle!F44","v":0},{"$f":"Profiltabelle!G44","v":0},{"$f":"Profiltabelle!H44","v":0}]
[{"$error":"#N/A"},{"$f":"Profiltabelle!C45","v":0},{"$f":"Profiltabelle!D45","v":0},{"$f":"Profiltabelle!E45","v":0},{"$f":"Profiltabelle!F45","v":0},{"$f":"Profiltabelle!G45","v":0},{"$f":"Profiltabelle!H45","v":0}]
[{"$error":"#N/A"},{"$f":"Profiltabelle!C46","v":0},{"$f":"Profiltabelle!D46","v":0},{"$f":"Profiltabelle!E46","v":0},{"$f":"Profiltabelle!F46","v":0},{"$f":"Profiltabelle!G46","v":0},{"$f":"Profiltabelle!H46","v":0}]
[{"$error":"#N/A"},{"$f":"Profiltabelle!C47","v":0},{"$f":"Profiltabelle!D47","v":0},{"$f":"Profiltabelle!E47","v":0},{"$f":"Profiltabelle!F47","v":0},{"$f":"Profiltabelle!G47","v":0},{"$f":"Profiltabelle!H47","v":0}]
[{"$error":"#N/A"},{"$f":"Profiltabelle!C48","v":0},{"$f":"Profiltabelle!D48","v":0},{"$f":"Profiltabelle!E48","v":0},{"$f":"Profiltabelle!F48","v":0},{"$f":"Profiltabelle!G48","v":0},{"$f":"Profiltabelle!H48","v":0}]
[{"$error":"#N/A"},{"$f":"Profiltabelle!C49","v":0},{"$f":"Profiltabelle!D49","v":0},{"$f":"Profiltabelle!E49","v":0},{"$f":"Profiltabelle!F49","v":0},{"$f":"Profiltabelle!G49","v":0},{"$f":"Profiltabelle!H49","v":0}]
[{"$error":"#N/A"},{"$f":"Profiltabelle!C50","v":0},{"$f":"Profiltabelle!D50","v":0},{"$f":"Profiltabelle!E50","v":0},{"$f":"Profiltabelle!F50","v":0},{"$f":"Profiltabelle!G50","v":0},{"$f":"Profiltabelle!H50","v":0}]
[{"$error":"#N/A"},{"$f":"Profiltabelle!C51","v":0},{"$f":"Profiltabelle!D51","v":0},{"$f":"Profiltabelle!E51","v":0},{"$f":"Profiltabelle!F51","v":0},{"$f":"Profiltabelle!G51","v":0},{"$f":"Profiltabelle!H51","v":0}]
[{"$error":"#N/A"},{"$f":"Profiltabelle!C52","v":0},{"$f":"Profiltabelle!D52","v":0},{"$f":"Profiltabelle!E52","v":0},{"$f":"Profiltabelle!F52","v":0},{"$f":"Profiltabelle!G52","v":0},{"$f":"Profiltabelle!H52","v":0}]
[{"$error":"#N/A"},{"$f":"Profiltabelle!C53","v":0},{"$f":"Profiltabelle!D53","v":0},{"$f":"Profiltabelle!E53","v":0},{"$f":"Profiltabelle!F53","v":0},{"$f":"Profiltabelle!G53","v":0},{"$f":"Profiltabelle!H53","v":0}]
[{"$error":"#N/A"},{"$f":"Profiltabelle!C54","v":0},{"$f":"Profiltabelle!D54","v":0},{"$f":"Profiltabelle!E54","v":0},{"$f":"Profiltabelle!F54","v":0},{"$f":"Profiltabelle!G54","v":0},{"$f":"Profiltabelle!H54","v":0}]
[{"$error":"#N/A"},{"$f":"Profiltabelle!C55","v":0},{"$f":"Profiltabelle!D55","v":0},{"$f":"Profiltabelle!E55","v":0},{"$f":"Profiltabelle!F55","v":0},{"$f":"Profiltabelle!G55","v":0},{"$f":"Profiltabelle!H55","v":0}]
[{"$error":"#N/A"},{"$f":"Profiltabelle!C56","v":0},{"$f":"Profiltabelle!D56","v":0},{"$f":"Profiltabelle!E56","v":0},{"$f":"Profiltabelle!F56","v":0},{"$f":"Profiltabelle!G56","v":0},{"$f":"Profiltabelle!H56","v":0}]
[{"$error":"#N/A"},{"$f":"Profiltabelle!C57","v":0},{"$f":"Profiltabelle!D57","v":0},{"$f":"Profiltabelle!E57","v":0},{"$f":"Profiltabelle!F57","v":0},{"$f":"Profiltabelle!G57","v":0},{"$f":"Profiltabelle!H57","v":0}]
[{"$error":"#N/A"},{"$f":"Profiltabelle!C58","v":0},{"$f":"Profiltabelle!D58","v":0},{"$f":"Profiltabelle!E58","v":0},{"$f":"Profiltabelle!F58","v":0},{"$f":"Profiltabelle!G58","v":0},{"$f":"Profiltabelle!H58","v":0}]
[{"$error":"#N/A"},{"$f":"Profiltabelle!C59","v":0},{"$f":"Profiltabelle!D59","v":0},{"$f":"Profiltabelle!E59","v":0},{"$f":"Profiltabelle!F59","v":0},{"$f":"Profiltabelle!G59","v":0},{"$f":"Profiltabelle!H59","v":0}]
[{"$error":"#N/A"},{"$f":"Profiltabelle!C60","v":0},{"$f":"Profiltabelle!D60","v":0},{"$f":"Profiltabelle!E60","v":0},{"$f":"Profiltabelle!F60","v":0},{"$f":"Profiltabelle!G60","v":0},{"$f":"Profiltabelle!H60","v":0}]
[{"$error":"#N/A"},{"$f":"Profiltabelle!C61","v":0},{"$f":"Profiltabelle!D61","v":0},{"$f":"Profiltabelle!E61","v":0},{"$f":"Profiltabelle!F61","v":0},{"$f":"Profiltabelle!G61","v":0},{"$f":"Profiltabelle!H61","v":0}]
[{"$error":"#N/A"},{"$f":"Profiltabelle!C62","v":0},{"$f":"Profiltabelle!D62","v":0},{"$f":"Profiltabelle!E62","v":0},{"$f":"Profiltabelle!F62","v":0},{"$f":"Profiltabelle!G62","v":0},{"$f":"Profiltabelle!H62","v":0}]
[{"$error":"#N/A"},{"$f":"Profiltabelle!C63","v":0},{"$f":"Profiltabelle!D63","v":0},{"$f":"Profiltabelle!E63","v":0},{"$f":"Profiltabelle!F63","v":0},{"$f":"Profiltabelle!G63","v":0},{"$f":"Profiltabelle!H63","v":0}]
[{"$error":"#N/A"},{"$f":"Profiltabelle!C64","v":0},{"$f":"Profiltabelle!D64","v":0},{"$f":"Profiltabelle!E64","v":0},{"$f":"Profiltabelle!F64","v":0},{"$f":"Profiltabelle!G64","v":0},{"$f":"Profiltabelle!H64","v":0}]
[{"$error":"#N/A"},{"$f":"Profiltabelle!C65","v":0},{"$f":"Profiltabelle!D65","v":0},{"$f":"Profiltabelle!E65","v":0},{"$f":"Profiltabelle!F65","v":0},{"$f":"Profiltabelle!G65","v":0},{"$f":"Profiltabelle!H65","v":0}]
[{"$error":"#N/A"},{"$f":"Profiltabelle!C66","v":0},{"$f":"Profiltabelle!D66","v":0},{"$f":"Profiltabelle!E66","v":0},{"$f":"Profiltabelle!F66","v":0},{"$f":"Profiltabelle!G66","v":0},{"$f":"Profiltabelle!H66","v":0}]
[{"$error":"#N/A"},{"$f":"Profiltabelle!C67","v":0},{"$f":"Profiltabelle!D67","v":0},{"$f":"Profiltabelle!E67","v":0},{"$f":"Profiltabelle!F67","v":0},{"$f":"Profiltabelle!G67","v":0},{"$f":"Profiltabelle!H67","v":0}]
[{"$error":"#N/A"},{"$f":"Profiltabelle!C68","v":0},{"$f":"Profiltabelle!D68","v":0},{"$f":"Profiltabelle!E68","v":0},{"$f":"Profiltabelle!F68","v":0},{"$f":"Profiltabelle!G68","v":0},{"$f":"Profiltabelle!H68","v":0}]
[{"$error":"#N/A"},{"$f":"Profiltabelle!C69","v":0},{"$f":"Profiltabelle!D69","v":0},{"$f":"Profiltabelle!E69","v":0},{"$f":"Profiltabelle!F69","v":0},{"$f":"Profiltabelle!G69","v":0},{"$f":"Profiltabelle!H69","v":0}]
[{"$error":"#N/A"},{"$f":"Profiltabelle!C70","v":0},{"$f":"Profiltabelle!D70","v":0},{"$f":"Profiltabelle!E70","v":0},{"$f":"Profiltabelle!F70","v":0},{"$f":"Profiltabelle!G70","v":0},{"$f":"Profiltabelle!H70","v":0}]
[{"$error":"#N/A"},{"$f":"Profiltabelle!C71","v":0},{"$f":"Profiltabelle!D71","v":0},{"$f":"Profiltabelle!E71","v":0},{"$f":"Profiltabelle!F71","v":0},{"$f":"Profiltabelle!G71","v":0},{"$f":"Profiltabelle!H71","v":0}]
[{"$error":"#N/A"},{"$f":"Profiltabelle!C72","v":0},{"$f":"Profiltabelle!D72","v":0},{"$f":"Profiltabelle!E72","v":0},{"$f":"Profiltabelle!F72","v":0},{"$f":"Profiltabelle!G72","v":0},{"$f":"Profiltabelle!H72","v":0}]
[{"$error":"#N/A"},{"$f":"Profiltabelle!C73","v":0},{"$f":"Profiltabelle!D73","v":0},{"$f":"Profiltabelle!E73","v":0},{"$f":"Profiltabelle!F73","v":0},{"$f":"Profiltabelle!G73","v":0},{"$f":"Profiltabelle!H73","v":0}]
[{"$error":"#N/A"},{"$f":"Profiltabelle!C74","v":0},{"$f":"Profiltabelle!D74","v":0},{"$f":"Profiltabelle!E74","v":0},{"$f":"Profiltabelle!F74","v":0},{"$f":"Profiltabelle!G74","v":0},{"$f":"Profiltabelle!H74","v":0}]
[{"$error":"#N/A"},{"$f":"Profiltabelle!C75","v":0},{"$f":"Profiltabelle!D75","v":0},{"$f":"Profiltabelle!E75","v":0},{"$f":"Profiltabelle!F75","v":0},{"$f":"Profiltabelle!G75","v":0},{"$f":"Profiltabelle!H75","v":0}]
[{"$error":"#N/A"},{"$f":"Profiltabelle!C76","v":0},{"$f":"Profiltabelle!D76","v":0},{"$f":"Profiltabelle!E76","v":0},{"$f":"Profiltabelle!F76","v":0},{"$f":"Profiltabelle!G76","v":0},{"$f":"Profiltabelle!H76","v":0}]
[{"$error":"#N/A"},{"$f":"Profiltabelle!C77","v":0},{"$f":"Profiltabelle!D77","v":0},{"$f":"Profiltabelle!E77","v":0},{"$f":"Profiltabelle!F77","v":0},{"$f":"Profiltabelle!G77","v":0},{"$f":"Profiltabelle!H77","v":0}]
[{"$error":"#N/A"},{"$f":"Profiltabelle!C78","v":0},{"$f":"Profiltabelle!D78","v":0},{"$f":"Profiltabelle!E78","v":0},{"$f":"Profiltabelle!F78","v":0},{"$f":"Profiltabelle!G78","v":0},{"$f":"Profiltabelle!H78","v":0}]
[{"$error":"#N/A"},{"$f":"Profiltabelle!C79","v":0},{"$f":"Profiltabelle!D79","v":0},{"$f":"Profiltabelle!E79","v":0},{"$f":"Profiltabelle!F79","v":0},{"$f":"Profiltabelle!G79","v":0},{"$f":"Profiltabelle!H79","v":0}]
[{"$error":"#N/A"},{"$f":"Profiltabelle!C80","v":0},{"$f":"Profiltabelle!D80","v":0},{"$f":"Profiltabelle!E80","v":0},{"$f":"Profiltabelle!F80","v":0},{"$f":"Profiltabelle!G80","v":0},{"$f":"Profiltabelle!H80","v":0}]
[{"$error":"#N/A"},{"$f":"Profiltabelle!C81","v":0},{"$f":"Profiltabelle!D81","v":0},{"$f":"Profiltabelle!E81","v":0},{"$f":"Profiltabelle!F81","v":0},{"$f":"Profiltabelle!G81","v":0},{"$f":"Profiltabelle!H81","v":0}]
[{"$error":"#N/A"},{"$f":"Profiltabelle!C82","v":0},{"$f":"Profiltabelle!D82","v":0},{"$f":"Profiltabelle!E82","v":0},{"$f":"Profiltabelle!F82","v":0},{"$f":"Profiltabelle!G82","v":0},{"$f":"Profiltabelle!H82","v":0}]
[{"$error":"#N/A"},{"$f":"Profiltabelle!C83","v":0},{"$f":"Profiltabelle!D83","v":0},{"$f":"Profiltabelle!E83","v":0},{"$f":"Profiltabelle!F83","v":0},{"$f":"Profiltabelle!G83","v":0},{"$f":"Profiltabelle!H83","v":0}]
[{"$error":"#N/A"},{"$f":"Profiltabelle!C84","v":0},{"$f":"Profiltabelle!D84","v":0},{"$f":"Profiltabelle!E84","v":0},{"$f":"Profiltabelle!F84","v":0},{"$f":"Profiltabelle!G84","v":0},{"$f":"Profiltabelle!H84","v":0}]
[{"$error":"#N/A"},{"$f":"Profiltabelle!C85","v":0},{"$f":"Profiltabelle!D85","v":0},{"$f":"Profiltabelle!E85","v":0},{"$f":"Profiltabelle!F85","v":0},{"$f":"Profiltabelle!G85","v":0},{"$f":"Profiltabelle!H85","v":0}]
[{"$error":"#N/A"},{"$f":"Profiltabelle!C86","v":0},{"$f":"Profiltabelle!D86","v":0},{"$f":"Profiltabelle!E86","v":0},{"$f":"Profiltabelle!F86","v":0},{"$f":"Profiltabelle!G86","v":0},{"$f":"Profiltabelle!H86","v":0}]
[{"$error":"#N/A"},{"$f":"Profiltabelle!C87","v":0},{"$f":"Profiltabelle!D87","v":0},{"$f":"Profiltabelle!E87","v":0},{"$f":"Profiltabelle!F87","v":0},{"$f":"Profiltabelle!G87","v":0},{"$f":"Profiltabelle!H87","v":0}]
[{"$error":"#N/A"},{"$f":"Profiltabelle!C88","v":0},{"$f":"Profiltabelle!D88","v":0},{"$f":"Profiltabelle!E88","v":0},{"$f":"Profiltabelle!F88","v":0},{"$f":"Profiltabelle!G88","v":0},{"$f":"Profiltabelle!H88","v":0}]
[{"$error":"#N/A"},{"$f":"Profiltabelle!C89","v":0},{"$f":"Profiltabelle!D89","v":0},{"$f":"Profiltabelle!E89","v":0},{"$f":"Profiltabelle!F89","v":0},{"$f":"Profiltabelle!G89","v":0},{"$f":"Profiltabelle!H89","v":0}]
[{"$error":"#N/A"},{"$f":"Profiltabelle!C90","v":0},{"$f":"Profiltabelle!D90","v":0},{"$f":"Profiltabelle!E90","v":0},{"$f":"Profiltabelle!F90","v":0},{"$f":"Profiltabelle!G90","v":0},{"$f":"Profiltabelle!H90","v":0}]
[{"$error":"#N/A"},{"$f":"Profiltabelle!C91","v":0},{"$f":"Profiltabelle!D91","v":0},{"$f":"Profiltabelle!E91","v":0},{"$f":"Profiltabelle!F91","v":0},{"$f":"Profiltabelle!G91","v":0},{"$f":"Profiltabelle!H91","v":0}]
[{"$error":"#N/A"},{"$f":"Profiltabelle!C92","v":0},{"$f":"Profiltabelle!D92","v":0},{"$f":"Profiltabelle!E92","v":0},{"$f":"Profiltabelle!F92","v":0},{"$f":"Profiltabelle!G92","v":0},{"$f":"Profiltabelle!H92","v":0}]
[{"$error":"#N/A"},{"$f":"Profiltabelle!C93","v":0},{"$f":"Profiltabelle!D93","v":0},{"$f":"Profiltabelle!E93","v":0},{"$f":"Profiltabelle!F93","v":0},{"$f":"Profiltabelle!G93","v":0},{"$f":"Profiltabelle!H93","v":0}]
[{"$error":"#N/A"},{"$f":"Profiltabelle!C94","v":0},{"$f":"Profiltabelle!D94","v":0},{"$f":"Profiltabelle!E94","v":0},{"$f":"Profiltabelle!F94","v":0},{"$f":"Profiltabelle!G94","v":0},{"$f":"Profiltabelle!H94","v":0}]
[{"$error":"#N/A"},{"$f":"Profiltabelle!C95","v":0},{"$f":"Profiltabelle!D95","v":0},{"$f":"Profiltabelle!E95","v":0},{"$f":"Profiltabelle!F95","v":0},{"$f":"Profiltabelle!G95","v":0},{"$f":"Profiltabelle!H95","v":0}]
[{"$error":"#N/A"},{"$f":"Profiltabelle!C96","v":0},{"$f":"Profiltabelle!D96","v":0},{"$f":"Profiltabelle!E96","v":0},{"$f":"Profiltabelle!F96","v":0},{"$f":"Profiltabelle!G96","v":0},{"$f":"Profiltabelle!H96","v":0}]
[{"$error":"#N/A"},{"$f":"Profiltabelle!C97","v":0},{"$f":"Profiltabelle!D97","v":0},{"$f":"Profiltabelle!E97","v":0},{"$f":"Profiltabelle!F97","v":0},{"$f":"Profiltabelle!G97","v":0},{"$f":"Profiltabelle!H97","v":0}]
[{"$error":"#N/A"},{"$f":"Profiltabelle!C98","v":0},{"$f":"Profiltabelle!D98","v":0},{"$f":"Profiltabelle!E98","v":0},{"$f":"Profiltabelle!F98","v":0},{"$f":"Profiltabelle!G98","v":0},{"$f":"Profiltabelle!H98","v":0}]
[{"$error":"#N/A"},{"$f":"Profiltabelle!C99","v":0},{"$f":"Profiltabelle!D99","v":0},{"$f":"Profiltabelle!E99","v":0},{"$f":"Profiltabelle!F99","v":0},{"$f":"Profiltabelle!G99","v":0},{"$f":"Profiltabelle!H99","v":0}]
[{"$error":"#N/A"},{"$f":"Profiltabelle!C100","v":0},{"$f":"Profiltabelle!D100","v":0},{"$f":"Profiltabelle!E100","v":0},{"$f":"Profiltabelle!F100","v":0},{"$f":"Profiltabelle!G100","v":0},{"$f":"Profiltabelle!H100","v":0}]
[{"$error":"#N/A"},{"$f":"Profiltabelle!C101","v":0},{"$f":"Profiltabelle!D101","v":0},{"$f":"Profiltabelle!E101","v":0},{"$f":"Profiltabelle!F101","v":0},{"$f":"Profiltabelle!G101","v":0},{"$f":"Profiltabelle!H101","v":0}]
[{"$error":"#N/A"},{"$f":"Profiltabelle!C102","v":0},{"$f":"Profiltabelle!D102","v":0},{"$f":"Profiltabelle!E102","v":0},{"$f":"Profiltabelle!F102","v":0},{"$f":"Profiltabelle!G102","v":0},{"$f":"Profiltabelle!H102","v":0}]
[{"$error":"#N/A"},{"$f":"Profiltabelle!C103","v":0},{"$f":"Profiltabelle!D103","v":0},{"$f":"Profiltabelle!E103","v":0},{"$f":"Profiltabelle!F103","v":0},{"$f":"Profiltabelle!G103","v":0},{"$f":"Profiltabelle!H103","v":0}]
[{"$error":"#N/A"},{"$f":"Profiltabelle!C104","v":0},{"$f":"Profiltabelle!D104","v":0},{"$f":"Profiltabelle!E104","v":0},{"$f":"Profiltabelle!F104","v":0},{"$f":"Profiltabelle!G104","v":0},{"$f":"Profiltabelle!H104","v":0}]
[{"$error":"#N/A"},{"$f":"Profiltabelle!C105","v":0},{"$f":"Profiltabelle!D105","v":0},{"$f":"Profiltabelle!E105","v":0},{"$f":"Profiltabelle!F105","v":0},{"$f":"Profiltabelle!G105","v":0},{"$f":"Profiltabelle!H105","v":0}]
[{"$error":"#N/A"},{"$f":"Profiltabelle!C106","v":0},{"$f":"Profiltabelle!D106","v":0},{"$f":"Profiltabelle!E106","v":0},{"$f":"Profiltabelle!F106","v":0},{"$f":"Profiltabelle!G106","v":0},{"$f":"Profiltabelle!H106","v":0}]
[{"$error":"#N/A"},{"$f":"Profiltabelle!C107","v":0},{"$f":"Profiltabelle!D107","v":0},{"$f":"Profiltabelle!E107","v":0},{"$f":"Profiltabelle!F107","v":0},{"$f":"Profiltabelle!G107","v":0},{"$f":"Profiltabelle!H107","v":0}]
[{"$error":"#N/A"},{"$f":"Profiltabelle!C108","v":0},{"$f":"Profiltabelle!D108","v":0},{"$f":"Profiltabelle!E108","v":0},{"$f":"Profiltabelle!F108","v":0},{"$f":"Profiltabelle!G108","v":0},{"$f":"Profiltabelle!H108","v":0}]
[{"$error":"#N/A"},{"$f":"Profiltabelle!C109","v":0},{"$f":"Profiltabelle!D109","v":0},{"$f":"Profiltabelle!E109","v":0},{"$f":"Profiltabelle!F109","v":0},{"$f":"Profiltabelle!G109","v":0},{"$f":"Profiltabelle!H109","v":0}]
[{"$error":"#N/A"},{"$f":"Profiltabelle!C110","v":0},{"$f":"Profiltabelle!D110","v":0},{"$f":"Profiltabelle!E110","v":0},{"$f":"Profiltabelle!F110","v":0},{"$f":"Profiltabelle!G110","v":0},{"$f":"Profiltabelle!H110","v":0}]
[{"$error":"#N/A"},{"$f":"Profiltabelle!C111","v":0},{"$f":"Profiltabelle!D111","v":0},{"$f":"Profiltabelle!E111","v":0},{"$f":"Profiltabelle!F111","v":0},{"$f":"Profiltabelle!G111","v":0},{"$f":"Profiltabelle!H111","v":0}]
[{"$error":"#N/A"},{"$f":"Profiltabelle!C112","v":0},{"$f":"Profiltabelle!D112","v":0},{"$f":"Profiltabelle!E112","v":0},{"$f":"Profiltabelle!F112","v":0},{"$f":"Profiltabelle!G112","v":0},{"$f":"Profiltabelle!H112","v":0}]
[{"$error":"#N/A"},{"$f":"Profiltabelle!C113","v":0},{"$f":"Profiltabelle!D113","v":0},{"$f":"Profiltabelle!E113","v":0},{"$f":"Profiltabelle!F113","v":0},{"$f":"Profiltabelle!G113","v":0},{"$f":"Profiltabelle!H113","v":0}]
[{"$error":"#N/A"},{"$f":"Profiltabelle!C114","v":0},{"$f":"Profiltabelle!D114","v":0},{"$f":"Profiltabelle!E114","v":0},{"$f":"Profiltabelle!F114","v":0},{"$f":"Profiltabelle!G114","v":0},{"$f":"Profiltabelle!H114","v":0}]
[{"$error":"#N/A"},{"$f":"Profiltabelle!C115","v":0},{"$f":"Profiltabelle!D115","v":0},{"$f":"Profiltabelle!E115","v":0},{"$f":"Profiltabelle!F115","v":0},{"$f":"Profiltabelle!G115","v":0},{"$f":"Profiltabelle!H115","v":0}]
[{"$error":"#N/A"},{"$f":"Profiltabelle!C116","v":0},{"$f":"Profiltabelle!D116","v":0},{"$f":"Profiltabelle!E116","v":0},{"$f":"Profiltabelle!F116","v":0},{"$f":"Profiltabelle!G116","v":0},{"$f":"Profiltabelle!H116","v":0}]
[{"$error":"#N/A"},{"$f":"Profiltabelle!C117","v":0},{"$f":"Profiltabelle!D117","v":0},{"$f":"Profiltabelle!E117","v":0},{"$f":"Profiltabelle!F117","v":0},{"$f":"Profiltabelle!G117","v":0},{"$f":"Profiltabelle!H117","v":0}]
[{"$error":"#N/A"},{"$f":"Profiltabelle!C118","v":0},{"$f":"Profiltabelle!D118","v":0},{"$f":"Profiltabelle!E118","v":0},{"$f":"Profiltabelle!F118","v":0},{"$f":"Profiltabelle!G118","v":0},{"$f":"Profiltabelle!H118","v":0}]
[{"$error":"#N/A"},{"$f":"Profiltabelle!C119","v":0},{"$f":"Profiltabelle!D119","v":0},{"$f":"Profiltabelle!E119","v":0},{"$f":"Profiltabelle!F119","v":0},{"$f":"Profiltabelle!G119","v":0},{"$f":"Profiltabelle!H119","v":0}]
[{"$error":"#N/A"},{"$f":"Profiltabelle!C120","v":0},{"$f":"Profiltabelle!D120","v":0},{"$f":"Profiltabelle!E120","v":0},{"$f":"Profiltabelle!F120","v":0},{"$f":"Profiltabelle!G120","v":0},{"$f":"Profiltabelle!H120","v":0}]
[{"$error":"#N/A"},{"$f":"Profiltabelle!C121","v":0},{"$f":"Profiltabelle!D121","v":0},{"$f":"Profiltabelle!E121","v":0},{"$f":"Profiltabelle!F121","v":0},{"$f":"Profiltabelle!G121","v":0},{"$f":"Profiltabelle!H121","v":0}]
[{"$error":"#N/A"},{"$f":"Profiltabelle!C122","v":0},{"$f":"Profiltabelle!D122","v":0},{"$f":"Profiltabelle!E122","v":0},{"$f":"Profiltabelle!F122","v":0},{"$f":"Profiltabelle!G122","v":0},{"$f":"Profiltabelle!H122","v":0}]
[{"$error":"#N/A"},{"$f":"Profiltabelle!C123","v":0},{"$f":"Profiltabelle!D123","v":0},{"$f":"Profiltabelle!E123","v":0},{"$f":"Profiltabelle!F123","v":0},{"$f":"Profiltabelle!G123","v":0},{"$f":"Profiltabelle!H123","v":0}]
[{"$error":"#N/A"},{"$f":"Profiltabelle!C124","v":0},{"$f":"Profiltabelle!D124","v":0},{"$f":"Profiltabelle!E124","v":0},{"$f":"Profiltabelle!F124","v":0},{"$f":"Profiltabelle!G124","v":0},{"$f":"Profiltabelle!H124","v":0}]
[{"$error":"#N/A"},{"$f":"Profiltabelle!C125","v":0},{"$f":"Profiltabelle!D125","v":0},{"$f":"Profiltabelle!E125","v":0},{"$f":"Profiltabelle!F125","v":0},{"$f":"Profiltabelle!G125","v":0},{"$f":"Profiltabelle!H125","v":0}]
[{"$error":"#N/A"},{"$f":"Profiltabelle!C126","v":0},{"$f":"Profiltabelle!D126","v":0},{"$f":"Profiltabelle!E126","v":0},{"$f":"Profiltabelle!F126","v":0},{"$f":"Profiltabelle!G126","v":0},{"$f":"Profiltabelle!H126","v":0}]
[{"$error":"#N/A"},{"$f":"Profiltabelle!C127","v":0},{"$f":"Profiltabelle!D127","v":0},{"$f":"Profiltabelle!E127","v":0},{"$f":"Profiltabelle!F127","v":0},{"$f":"Profiltabelle!G127","v":0},{"$f":"Profiltabelle!H127","v":0}]
[{"$error":"#N/A"},{"$f":"Profiltabelle!C128","v":0},{"$f":"Profiltabelle!D128","v":0},{"$f":"Profiltabelle!E128","v":0},{"$f":"Profiltabelle!F128","v":0},{"$f":"Profiltabelle!G128","v":0},{"$f":"Profiltabelle!H128","v":0}]
[{"$error":"#N/A"},{"$f":"Profiltabelle!C129","v":0},{"$f":"Profiltabelle!D129","v":0},{"$f":"Profiltabelle!E129","v":0},{"$f":"Profiltabelle!F129","v":0},{"$f":"Profiltabelle!G129","v":0},{"$f":"Profiltabelle!H129","v":0}]
[{"$error":"#N/A"},{"$f":"Profiltabelle!C130","v":0},{"$f":"Profiltabelle!D130","v":0},{"$f":"Profiltabelle!E130","v":0},{"$f":"Profiltabelle!F130","v":0},{"$f":"Profiltabelle!G130","v":0},{"$f":"Profiltabelle!H130","v":0}]
[{"$error":"#N/A"},{"$f":"Profiltabelle!C131","v":0},{"$f":"Profiltabelle!D131","v":0},{"$f":"Profiltabelle!E131","v":0},{"$f":"Profiltabelle!F131","v":0},{"$f":"Profiltabelle!G131","v":0},{"$f":"Profiltabelle!H131","v":0}]
[{"$error":"#N/A"},{"$f":"Profiltabelle!C132","v":0},{"$f":"Profiltabelle!D132","v":0},{"$f":"Profiltabelle!E132","v":0},{"$f":"Profiltabelle!F132","v":0},{"$f":"Profiltabelle!G132","v":0},{"$f":"Profiltabelle!H132","v":0}]
[{"$error":"#N/A"},{"$f":"Profiltabelle!C133","v":0},{"$f":"Profiltabelle!D133","v":0},{"$f":"Profiltabelle!E133","v":0},{"$f":"Profiltabelle!F133","v":0},{"$f":"Profiltabelle!G133","v":0},{"$f":"Profiltabelle!H133","v":0}]
[{"$error":"#N/A"},{"$f":"Profiltabelle!C134","v":0},{"$f":"Profiltabelle!D134","v":0},{"$f":"Profiltabelle!E134","v":0},{"$f":"Profiltabelle!F134","v":0},{"$f":"Profiltabelle!G134","v":0},{"$f":"Profiltabelle!H134","v":0}]
[{"$error":"#N/A"},{"$f":"Profiltabelle!C135","v":0},{"$f":"Profiltabelle!D135","v":0},{"$f":"Profiltabelle!E135","v":0},{"$f":"Profiltabelle!F135","v":0},{"$f":"Profiltabelle!G135","v":0},{"$f":"Profiltabelle!H135","v":0}]
[{"$error":"#N/A"},{"$f":"Profiltabelle!C136","v":0},{"$f":"Profiltabelle!D136","v":0},{"$f":"Profiltabelle!E136","v":0},{"$f":"Profiltabelle!F136","v":0},{"$f":"Profiltabelle!G136","v":0},{"$f":"Profiltabelle!H136","v":0}]
[{"$error":"#N/A"},{"$f":"Profiltabelle!C137","v":0},{"$f":"Profiltabelle!D137","v":0},{"$f":"Profiltabelle!E137","v":0},{"$f":"Profiltabelle!F137","v":0},{"$f":"Profiltabelle!G137","v":0},{"$f":"Profiltabelle!H137","v":0}]
[{"$error":"#N/A"},{"$f":"Profiltabelle!C138","v":0},{"$f":"Profiltabelle!D138","v":0},{"$f":"Profiltabelle!E138","v":0},{"$f":"Profiltabelle!F138","v":0},{"$f":"Profiltabelle!G138","v":0},{"$f":"Profiltabelle!H138","v":0}]
[{"$error":"#N/A"},{"$f":"Profiltabelle!C139","v":0},{"$f":"Profiltabelle!D139","v":0},{"$f":"Profiltabelle!E139","v":0},{"$f":"Profiltabelle!F139","v":0},{"$f":"Profiltabelle!G139","v":0},{"$f":"Profiltabelle!H139","v":0}]
[{"$error":"#N/A"},{"$f":"Profiltabelle!C140","v":0},{"$f":"Profiltabelle!D140","v":0},{"$f":"Profiltabelle!E140","v":0},{"$f":"Profiltabelle!F140","v":0},{"$f":"Profiltabelle!G140","v":0},{"$f":"Profiltabelle!H140","v":0}]
[{"$error":"#N/A"},{"$f":"Profiltabelle!C141","v":0},{"$f":"Profiltabelle!D141","v":0},{"$f":"Profiltabelle!E141","v":0},{"$f":"Profiltabelle!F141","v":0},{"$f":"Profiltabelle!G141","v":0},{"$f":"Profiltabelle!H141","v":0}]
[{"$error":"#N/A"},{"$f":"Profiltabelle!C142","v":0},{"$f":"Profiltabelle!D142","v":0},{"$f":"Profiltabelle!E142","v":0},{"$f":"Profiltabelle!F142","v":0},{"$f":"Profiltabelle!G142","v":0},{"$f":"Profiltabelle!H142","v":0}]
[{"$error":"#N/A"},{"$f":"Profiltabelle!C143","v":0},{"$f":"Profiltabelle!D143","v":0},{"$f":"Profiltabelle!E143","v":0},{"$f":"Profiltabelle!F143","v":0},{"$f":"Profiltabelle!G143","v":0},{"$f":"Profiltabelle!H143","v":0}]
[{"$error":"#N/A"},{"$f":"Profiltabelle!C144","v":0},{"$f":"Profiltabelle!D144","v":0},{"$f":"Profiltabelle!E144","v":0},{"$f":"Profiltabelle!F144","v":0},{"$f":"Profiltabelle!G144","v":0},{"$f":"Profiltabelle!H144","v":0}]
[{"$error":"#N/A"},{"$f":"Profiltabelle!C145","v":0},{"$f":"Profiltabelle!D145","v":0},{"$f":"Profiltabelle!E145","v":0},{"$f":"Profiltabelle!F145","v":0},{"$f":"Profiltabelle!G145","v":0},{"$f":"Profiltabelle!H145","v":0}]
[{"$error":"#N/A"},{"$f":"Profiltabelle!C146","v":0},{"$f":"Profiltabelle!D146","v":0},{"$f":"Profiltabelle!E146","v":0},{"$f":"Profiltabelle!F146","v":0},{"$f":"Profiltabelle!G146","v":0},{"$f":"Profiltabelle!H146","v":0}]
[{"$error":"#N/A"},{"$f":"Profiltabelle!C147","v":0},{"$f":"Profiltabelle!D147","v":0},{"$f":"Profiltabelle!E147","v":0},{"$f":"Profiltabelle!F147","v":0},{"$f":"Profiltabelle!G147","v":0},{"$f":"Profiltabelle!H147","v":0}]
[{"$error":"#N/A"},{"$f":"Profiltabelle!C148","v":0},{"$f":"Profiltabelle!D148","v":0},{"$f":"Profiltabelle!E148","v":0},{"$f":"Profiltabelle!F148","v":0},{"$f":"Profiltabelle!G148","v":0},{"$f":"Profiltabelle!H148","v":0}]
[{"$error":"#N/A"},{"$f":"Profiltabelle!C149","v":0},{"$f":"Profiltabelle!D149","v":0},{"$f":"Profiltabelle!E149","v":0},{"$f":"Profiltabelle!F149","v":0},{"$f":"Profiltabelle!G149","v":0},{"$f":"Profiltabelle!H149","v":0}]
[{"$error":"#N/A"},{"$f":"Profiltabelle!C150","v":0},{"$f":"Profiltabelle!D150","v":0},{"$f":"Profiltabelle!E150","v":0},{"$f":"Profiltabelle!F150","v":0},{"$f":"Profiltabelle!G150","v":0},{"$f":"Profiltabelle!H150","v":0}]
[{"$error":"#N/A"},{"$f":"Profiltabelle!C151","v":0},{"$f":"Profiltabelle!D151","v":0},{"$f":"Profiltabelle!E151","v":0},{"$f":"Profiltabelle!F151","v":0},{"$f":"Profiltabelle!G151","v":0},{"$f":"Profiltabelle!H151","v":0}]
[{"$error":"#N/A"},{"$f":"Profiltabelle!C152","v":0},{"$f":"Profiltabelle!D152","v":0},{"$f":"Profiltabelle!E152","v":0},{"$f":"Profiltabelle!F152","v":0},{"$f":"Profiltabelle!G152","v":0},{"$f":"Profiltabelle!H152","v":0}]
[{"$error":"#N/A"},{"$f":"Profiltabelle!C153","v":0},{"$f":"Profiltabelle!D153","v":0},{"$f":"Profiltabelle!E153","v":0},{"$f":"Profiltabelle!F153","v":0},{"$f":"Profiltabelle!G153","v":0},{"$f":"Profiltabelle!H153","v":0}]
[{"$error":"#N/A"},{"$f":"Profiltabelle!C154","v":0},{"$f":"Profiltabelle!D154","v":0},{"$f":"Profiltabelle!E154","v":0},{"$f":"Profiltabelle!F154","v":0},{"$f":"Profiltabelle!G154","v":0},{"$f":"Profiltabelle!H154","v":0}]
[{"$error":"#N/A"},{"$f":"Profiltabelle!C155","v":0},{"$f":"Profiltabelle!D155","v":0},{"$f":"Profiltabelle!E155","v":0},{"$f":"Profiltabelle!F155","v":0},{"$f":"Profiltabelle!G155","v":0},{"$f":"Profiltabelle!H155","v":0}]
[{"$error":"#N/A"},{"$f":"Profiltabelle!C156","v":0},{"$f":"Profiltabelle!D156","v":0},{"$f":"Profiltabelle!E156","v":0},{"$f":"Profiltabelle!F156","v":0},{"$f":"Profiltabelle!G156","v":0},{"$f":"Profiltabelle!H156","v":0}]
[{"$error":"#N/A"},{"$f":"Profiltabelle!C157","v":0},{"$f":"Profiltabelle!D157","v":0},{"$f":"Profiltabelle!E157","v":0},{"$f":"Profiltabelle!F157","v":0},{"$f":"Profiltabelle!G157","v":0},{"$f":"Profiltabelle!H157","v":0}]
[{"$error":"#N/A"},{"$f":"Profiltabelle!C158","v":0},{"$f":"Profiltabelle!D158","v":0},{"$f":"Profiltabelle!E158","v":0},{"$f":"Profiltabelle!F158","v":0},{"$f":"Profiltabelle!G158","v":0},{"$f":"Profiltabelle!H158","v":0}]
[{"$error":"#N/A"},{"$f":"Profiltabelle!C159","v":0},{"$f":"Profiltabelle!D159","v":0},{"$f":"Profiltabelle!E159","v":0},{"$f":"Profiltabelle!F159","v":0},{"$f":"Profiltabelle!G159","v":0},{"$f":"Profiltabelle!H159","v":0}]
[{"$error":"#N/A"},{"$f":"Profiltabelle!C160","v":0},{"$f":"Profiltabelle!D160","v":0},{"$f":"Profiltabelle!E160","v":0},{"$f":"Profiltabelle!F160","v":0},{"$f":"Profiltabelle!G160","v":0},{"$f":"Profiltabelle!H160","v":0}]
[null,null,null,null,null,null,{"$f":"SUBTOTAL(103,Tabelle132467[WPU 7 WiPo])","v":149}]

{"sheet":"Kurs5","index":7,"n_rows":154,"n_cols":14,"rows_kept":154,"cut":false,"hidden":false,"merged":[]}
["1. Wunsch",{"$f":"SUMIFS(B$5:B$153,$F$5:$F$153,\"1\",B$5:B$153,\"1\")","v":0},0,0,0,0,0]
["2. Wunsch",{"$f":"SUMIFS(B$5:B$153,$F$5:$F$153,\"1\",B$5:B$153,\"2\")/2","v":0},0,0,0,0,0]
["3. Wunsch",{"$f":"SUMIFS(B$5:B$153,$F$5:$F$153,\"1\",B$5:B$153,\"3\")/3","v":0},0,0,0,0,0]
["Namen","WPU 7 Biogarten","WPU 7 Französisch","WPU 7 Gesund und fit","WPU 7 Informatik","WPU 7 Technik","WPU 7 WiPo",null,null,null,null,null,null,{"$f":"$F$4","v":"WPU 7 Technik"}]
[{"$error":"#N/A"},{"$f":"Profiltabelle!C12","v":0},{"$f":"Profiltabelle!D12","v":0},{"$f":"Profiltabelle!E12","v":0},{"$f":"Profiltabelle!F12","v":0},{"$f":"Profiltabelle!G12","v":0},{"$f":"Profiltabelle!H12","v":0}]
[{"$error":"#N/A"},{"$f":"Profiltabelle!C13","v":0},{"$f":"Profiltabelle!D13","v":0},{"$f":"Profiltabelle!E13","v":0},{"$f":"Profiltabelle!F13","v":0},{"$f":"Profiltabelle!G13","v":0},{"$f":"Profiltabelle!H13","v":0}]
[{"$error":"#N/A"},{"$f":"Profiltabelle!C14","v":0},{"$f":"Profiltabelle!D14","v":0},{"$f":"Profiltabelle!E14","v":0},{"$f":"Profiltabelle!F14","v":0},{"$f":"Profiltabelle!G14","v":0},{"$f":"Profiltabelle!H14","v":0}]
[{"$error":"#N/A"},{"$f":"Profiltabelle!C15","v":0},{"$f":"Profiltabelle!D15","v":0},{"$f":"Profiltabelle!E15","v":0},{"$f":"Profiltabelle!F15","v":0},{"$f":"Profiltabelle!G15","v":0},{"$f":"Profiltabelle!H15","v":0}]
[{"$error":"#N/A"},{"$f":"Profiltabelle!C16","v":0},{"$f":"Profiltabelle!D16","v":0},{"$f":"Profiltabelle!E16","v":0},{"$f":"Profiltabelle!F16","v":0},{"$f":"Profiltabelle!G16","v":0},{"$f":"Profiltabelle!H16","v":0}]
[{"$error":"#N/A"},{"$f":"Profiltabelle!C17","v":0},{"$f":"Profiltabelle!D17","v":0},{"$f":"Profiltabelle!E17","v":0},{"$f":"Profiltabelle!F17","v":0},{"$f":"Profiltabelle!G17","v":0},{"$f":"Profiltabelle!H17","v":0}]
[{"$error":"#N/A"},{"$f":"Profiltabelle!C18","v":0},{"$f":"Profiltabelle!D18","v":0},{"$f":"Profiltabelle!E18","v":0},{"$f":"Profiltabelle!F18","v":0},{"$f":"Profiltabelle!G18","v":0},{"$f":"Profiltabelle!H18","v":0}]
[{"$error":"#N/A"},{"$f":"Profiltabelle!C19","v":0},{"$f":"Profiltabelle!D19","v":0},{"$f":"Profiltabelle!E19","v":0},{"$f":"Profiltabelle!F19","v":0},{"$f":"Profiltabelle!G19","v":0},{"$f":"Profiltabelle!H19","v":0}]
[{"$error":"#N/A"},{"$f":"Profiltabelle!C20","v":0},{"$f":"Profiltabelle!D20","v":0},{"$f":"Profiltabelle!E20","v":0},{"$f":"Profiltabelle!F20","v":0},{"$f":"Profiltabelle!G20","v":0},{"$f":"Profiltabelle!H20","v":0}]
[{"$error":"#N/A"},{"$f":"Profiltabelle!C21","v":0},{"$f":"Profiltabelle!D21","v":0},{"$f":"Profiltabelle!E21","v":0},{"$f":"Profiltabelle!F21","v":0},{"$f":"Profiltabelle!G21","v":0},{"$f":"Profiltabelle!H21","v":0}]
[{"$error":"#N/A"},{"$f":"Profiltabelle!C22","v":0},{"$f":"Profiltabelle!D22","v":0},{"$f":"Profiltabelle!E22","v":0},{"$f":"Profiltabelle!F22","v":0},{"$f":"Profiltabelle!G22","v":0},{"$f":"Profiltabelle!H22","v":0}]
[{"$error":"#N/A"},{"$f":"Profiltabelle!C23","v":0},{"$f":"Profiltabelle!D23","v":0},{"$f":"Profiltabelle!E23","v":0},{"$f":"Profiltabelle!F23","v":0},{"$f":"Profiltabelle!G23","v":0},{"$f":"Profiltabelle!H23","v":0}]
[{"$error":"#N/A"},{"$f":"Profiltabelle!C24","v":0},{"$f":"Profiltabelle!D24","v":0},{"$f":"Profiltabelle!E24","v":0},{"$f":"Profiltabelle!F24","v":0},{"$f":"Profiltabelle!G24","v":0},{"$f":"Profiltabelle!H24","v":0}]
[{"$error":"#N/A"},{"$f":"Profiltabelle!C25","v":0},{"$f":"Profiltabelle!D25","v":0},{"$f":"Profiltabelle!E25","v":0},{"$f":"Profiltabelle!F25","v":0},{"$f":"Profiltabelle!G25","v":0},{"$f":"Profiltabelle!H25","v":0}]
[{"$error":"#N/A"},{"$f":"Profiltabelle!C26","v":0},{"$f":"Profiltabelle!D26","v":0},{"$f":"Profiltabelle!E26","v":0},{"$f":"Profiltabelle!F26","v":0},{"$f":"Profiltabelle!G26","v":0},{"$f":"Profiltabelle!H26","v":0}]
[{"$error":"#N/A"},{"$f":"Profiltabelle!C27","v":0},{"$f":"Profiltabelle!D27","v":0},{"$f":"Profiltabelle!E27","v":0},{"$f":"Profiltabelle!F27","v":0},{"$f":"Profiltabelle!G27","v":0},{"$f":"Profiltabelle!H27","v":0}]
[{"$error":"#N/A"},{"$f":"Profiltabelle!C28","v":0},{"$f":"Profiltabelle!D28","v":0},{"$f":"Profiltabelle!E28","v":0},{"$f":"Profiltabelle!F28","v":0},{"$f":"Profiltabelle!G28","v":0},{"$f":"Profiltabelle!H28","v":0}]
[{"$error":"#N/A"},{"$f":"Profiltabelle!C29","v":0},{"$f":"Profiltabelle!D29","v":0},{"$f":"Profiltabelle!E29","v":0},{"$f":"Profiltabelle!F29","v":0},{"$f":"Profiltabelle!G29","v":0},{"$f":"Profiltabelle!H29","v":0}]
[{"$error":"#N/A"},{"$f":"Profiltabelle!C30","v":0},{"$f":"Profiltabelle!D30","v":0},{"$f":"Profiltabelle!E30","v":0},{"$f":"Profiltabelle!F30","v":0},{"$f":"Profiltabelle!G30","v":0},{"$f":"Profiltabelle!H30","v":0}]
[{"$error":"#N/A"},{"$f":"Profiltabelle!C31","v":0},{"$f":"Profiltabelle!D31","v":0},{"$f":"Profiltabelle!E31","v":0},{"$f":"Profiltabelle!F31","v":0},{"$f":"Profiltabelle!G31","v":0},{"$f":"Profiltabelle!H31","v":0}]
[{"$error":"#N/A"},{"$f":"Profiltabelle!C32","v":0},{"$f":"Profiltabelle!D32","v":0},{"$f":"Profiltabelle!E32","v":0},{"$f":"Profiltabelle!F32","v":0},{"$f":"Profiltabelle!G32","v":0},{"$f":"Profiltabelle!H32","v":0}]
[{"$error":"#N/A"},{"$f":"Profiltabelle!C33","v":0},{"$f":"Profiltabelle!D33","v":0},{"$f":"Profiltabelle!E33","v":0},{"$f":"Profiltabelle!F33","v":0},{"$f":"Profiltabelle!G33","v":0},{"$f":"Profiltabelle!H33","v":0}]
[{"$error":"#N/A"},{"$f":"Profiltabelle!C34","v":0},{"$f":"Profiltabelle!D34","v":0},{"$f":"Profiltabelle!E34","v":0},{"$f":"Profiltabelle!F34","v":0},{"$f":"Profiltabelle!G34","v":0},{"$f":"Profiltabelle!H34","v":0}]
[{"$error":"#N/A"},{"$f":"Profiltabelle!C35","v":0},{"$f":"Profiltabelle!D35","v":0},{"$f":"Profiltabelle!E35","v":0},{"$f":"Profiltabelle!F35","v":0},{"$f":"Profiltabelle!G35","v":0},{"$f":"Profiltabelle!H35","v":0}]
[{"$error":"#N/A"},{"$f":"Profiltabelle!C36","v":0},{"$f":"Profiltabelle!D36","v":0},{"$f":"Profiltabelle!E36","v":0},{"$f":"Profiltabelle!F36","v":0},{"$f":"Profiltabelle!G36","v":0},{"$f":"Profiltabelle!H36","v":0}]
[{"$error":"#N/A"},{"$f":"Profiltabelle!C37","v":0},{"$f":"Profiltabelle!D37","v":0},{"$f":"Profiltabelle!E37","v":0},{"$f":"Profiltabelle!F37","v":0},{"$f":"Profiltabelle!G37","v":0},{"$f":"Profiltabelle!H37","v":0}]
[{"$error":"#N/A"},{"$f":"Profiltabelle!C38","v":0},{"$f":"Profiltabelle!D38","v":0},{"$f":"Profiltabelle!E38","v":0},{"$f":"Profiltabelle!F38","v":0},{"$f":"Profiltabelle!G38","v":0},{"$f":"Profiltabelle!H38","v":0}]
[{"$error":"#N/A"},{"$f":"Profiltabelle!C39","v":0},{"$f":"Profiltabelle!D39","v":0},{"$f":"Profiltabelle!E39","v":0},{"$f":"Profiltabelle!F39","v":0},{"$f":"Profiltabelle!G39","v":0},{"$f":"Profiltabelle!H39","v":0}]
[{"$error":"#N/A"},{"$f":"Profiltabelle!C40","v":0},{"$f":"Profiltabelle!D40","v":0},{"$f":"Profiltabelle!E40","v":0},{"$f":"Profiltabelle!F40","v":0},{"$f":"Profiltabelle!G40","v":0},{"$f":"Profiltabelle!H40","v":0}]
[{"$error":"#N/A"},{"$f":"Profiltabelle!C41","v":0},{"$f":"Profiltabelle!D41","v":0},{"$f":"Profiltabelle!E41","v":0},{"$f":"Profiltabelle!F41","v":0},{"$f":"Profiltabelle!G41","v":0},{"$f":"Profiltabelle!H41","v":0}]
[{"$error":"#N/A"},{"$f":"Profiltabelle!C42","v":0},{"$f":"Profiltabelle!D42","v":0},{"$f":"Profiltabelle!E42","v":0},{"$f":"Profiltabelle!F42","v":0},{"$f":"Profiltabelle!G42","v":0},{"$f":"Profiltabelle!H42","v":0}]
[{"$error":"#N/A"},{"$f":"Profiltabelle!C43","v":0},{"$f":"Profiltabelle!D43","v":0},{"$f":"Profiltabelle!E43","v":0},{"$f":"Profiltabelle!F43","v":0},{"$f":"Profiltabelle!G43","v":0},{"$f":"Profiltabelle!H43","v":0}]
[{"$error":"#N/A"},{"$f":"Profiltabelle!C44","v":0},{"$f":"Profiltabelle!D44","v":0},{"$f":"Profiltabelle!E44","v":0},{"$f":"Profiltabelle!F44","v":0},{"$f":"Profiltabelle!G44","v":0},{"$f":"Profiltabelle!H44","v":0}]
[{"$error":"#N/A"},{"$f":"Profiltabelle!C45","v":0},{"$f":"Profiltabelle!D45","v":0},{"$f":"Profiltabelle!E45","v":0},{"$f":"Profiltabelle!F45","v":0},{"$f":"Profiltabelle!G45","v":0},{"$f":"Profiltabelle!H45","v":0}]
[{"$error":"#N/A"},{"$f":"Profiltabelle!C46","v":0},{"$f":"Profiltabelle!D46","v":0},{"$f":"Profiltabelle!E46","v":0},{"$f":"Profiltabelle!F46","v":0},{"$f":"Profiltabelle!G46","v":0},{"$f":"Profiltabelle!H46","v":0}]
[{"$error":"#N/A"},{"$f":"Profiltabelle!C47","v":0},{"$f":"Profiltabelle!D47","v":0},{"$f":"Profiltabelle!E47","v":0},{"$f":"Profiltabelle!F47","v":0},{"$f":"Profiltabelle!G47","v":0},{"$f":"Profiltabelle!H47","v":0}]
[{"$error":"#N/A"},{"$f":"Profiltabelle!C48","v":0},{"$f":"Profiltabelle!D48","v":0},{"$f":"Profiltabelle!E48","v":0},{"$f":"Profiltabelle!F48","v":0},{"$f":"Profiltabelle!G48","v":0},{"$f":"Profiltabelle!H48","v":0}]
[{"$error":"#N/A"},{"$f":"Profiltabelle!C49","v":0},{"$f":"Profiltabelle!D49","v":0},{"$f":"Profiltabelle!E49","v":0},{"$f":"Profiltabelle!F49","v":0},{"$f":"Profiltabelle!G49","v":0},{"$f":"Profiltabelle!H49","v":0}]
[{"$error":"#N/A"},{"$f":"Profiltabelle!C50","v":0},{"$f":"Profiltabelle!D50","v":0},{"$f":"Profiltabelle!E50","v":0},{"$f":"Profiltabelle!F50","v":0},{"$f":"Profiltabelle!G50","v":0},{"$f":"Profiltabelle!H50","v":0}]
[{"$error":"#N/A"},{"$f":"Profiltabelle!C51","v":0},{"$f":"Profiltabelle!D51","v":0},{"$f":"Profiltabelle!E51","v":0},{"$f":"Profiltabelle!F51","v":0},{"$f":"Profiltabelle!G51","v":0},{"$f":"Profiltabelle!H51","v":0}]
[{"$error":"#N/A"},{"$f":"Profiltabelle!C52","v":0},{"$f":"Profiltabelle!D52","v":0},{"$f":"Profiltabelle!E52","v":0},{"$f":"Profiltabelle!F52","v":0},{"$f":"Profiltabelle!G52","v":0},{"$f":"Profiltabelle!H52","v":0}]
[{"$error":"#N/A"},{"$f":"Profiltabelle!C53","v":0},{"$f":"Profiltabelle!D53","v":0},{"$f":"Profiltabelle!E53","v":0},{"$f":"Profiltabelle!F53","v":0},{"$f":"Profiltabelle!G53","v":0},{"$f":"Profiltabelle!H53","v":0}]
[{"$error":"#N/A"},{"$f":"Profiltabelle!C54","v":0},{"$f":"Profiltabelle!D54","v":0},{"$f":"Profiltabelle!E54","v":0},{"$f":"Profiltabelle!F54","v":0},{"$f":"Profiltabelle!G54","v":0},{"$f":"Profiltabelle!H54","v":0}]
[{"$error":"#N/A"},{"$f":"Profiltabelle!C55","v":0},{"$f":"Profiltabelle!D55","v":0},{"$f":"Profiltabelle!E55","v":0},{"$f":"Profiltabelle!F55","v":0},{"$f":"Profiltabelle!G55","v":0},{"$f":"Profiltabelle!H55","v":0}]
[{"$error":"#N/A"},{"$f":"Profiltabelle!C56","v":0},{"$f":"Profiltabelle!D56","v":0},{"$f":"Profiltabelle!E56","v":0},{"$f":"Profiltabelle!F56","v":0},{"$f":"Profiltabelle!G56","v":0},{"$f":"Profiltabelle!H56","v":0}]
[{"$error":"#N/A"},{"$f":"Profiltabelle!C57","v":0},{"$f":"Profiltabelle!D57","v":0},{"$f":"Profiltabelle!E57","v":0},{"$f":"Profiltabelle!F57","v":0},{"$f":"Profiltabelle!G57","v":0},{"$f":"Profiltabelle!H57","v":0}]
[{"$error":"#N/A"},{"$f":"Profiltabelle!C58","v":0},{"$f":"Profiltabelle!D58","v":0},{"$f":"Profiltabelle!E58","v":0},{"$f":"Profiltabelle!F58","v":0},{"$f":"Profiltabelle!G58","v":0},{"$f":"Profiltabelle!H58","v":0}]
[{"$error":"#N/A"},{"$f":"Profiltabelle!C59","v":0},{"$f":"Profiltabelle!D59","v":0},{"$f":"Profiltabelle!E59","v":0},{"$f":"Profiltabelle!F59","v":0},{"$f":"Profiltabelle!G59","v":0},{"$f":"Profiltabelle!H59","v":0}]
[{"$error":"#N/A"},{"$f":"Profiltabelle!C60","v":0},{"$f":"Profiltabelle!D60","v":0},{"$f":"Profiltabelle!E60","v":0},{"$f":"Profiltabelle!F60","v":0},{"$f":"Profiltabelle!G60","v":0},{"$f":"Profiltabelle!H60","v":0}]
[{"$error":"#N/A"},{"$f":"Profiltabelle!C61","v":0},{"$f":"Profiltabelle!D61","v":0},{"$f":"Profiltabelle!E61","v":0},{"$f":"Profiltabelle!F61","v":0},{"$f":"Profiltabelle!G61","v":0},{"$f":"Profiltabelle!H61","v":0}]
[{"$error":"#N/A"},{"$f":"Profiltabelle!C62","v":0},{"$f":"Profiltabelle!D62","v":0},{"$f":"Profiltabelle!E62","v":0},{"$f":"Profiltabelle!F62","v":0},{"$f":"Profiltabelle!G62","v":0},{"$f":"Profiltabelle!H62","v":0}]
[{"$error":"#N/A"},{"$f":"Profiltabelle!C63","v":0},{"$f":"Profiltabelle!D63","v":0},{"$f":"Profiltabelle!E63","v":0},{"$f":"Profiltabelle!F63","v":0},{"$f":"Profiltabelle!G63","v":0},{"$f":"Profiltabelle!H63","v":0}]
[{"$error":"#N/A"},{"$f":"Profiltabelle!C64","v":0},{"$f":"Profiltabelle!D64","v":0},{"$f":"Profiltabelle!E64","v":0},{"$f":"Profiltabelle!F64","v":0},{"$f":"Profiltabelle!G64","v":0},{"$f":"Profiltabelle!H64","v":0}]
[{"$error":"#N/A"},{"$f":"Profiltabelle!C65","v":0},{"$f":"Profiltabelle!D65","v":0},{"$f":"Profiltabelle!E65","v":0},{"$f":"Profiltabelle!F65","v":0},{"$f":"Profiltabelle!G65","v":0},{"$f":"Profiltabelle!H65","v":0}]
[{"$error":"#N/A"},{"$f":"Profiltabelle!C66","v":0},{"$f":"Profiltabelle!D66","v":0},{"$f":"Profiltabelle!E66","v":0},{"$f":"Profiltabelle!F66","v":0},{"$f":"Profiltabelle!G66","v":0},{"$f":"Profiltabelle!H66","v":0}]
[{"$error":"#N/A"},{"$f":"Profiltabelle!C67","v":0},{"$f":"Profiltabelle!D67","v":0},{"$f":"Profiltabelle!E67","v":0},{"$f":"Profiltabelle!F67","v":0},{"$f":"Profiltabelle!G67","v":0},{"$f":"Profiltabelle!H67","v":0}]
[{"$error":"#N/A"},{"$f":"Profiltabelle!C68","v":0},{"$f":"Profiltabelle!D68","v":0},{"$f":"Profiltabelle!E68","v":0},{"$f":"Profiltabelle!F68","v":0},{"$f":"Profiltabelle!G68","v":0},{"$f":"Profiltabelle!H68","v":0}]
[{"$error":"#N/A"},{"$f":"Profiltabelle!C69","v":0},{"$f":"Profiltabelle!D69","v":0},{"$f":"Profiltabelle!E69","v":0},{"$f":"Profiltabelle!F69","v":0},{"$f":"Profiltabelle!G69","v":0},{"$f":"Profiltabelle!H69","v":0}]
[{"$error":"#N/A"},{"$f":"Profiltabelle!C70","v":0},{"$f":"Profiltabelle!D70","v":0},{"$f":"Profiltabelle!E70","v":0},{"$f":"Profiltabelle!F70","v":0},{"$f":"Profiltabelle!G70","v":0},{"$f":"Profiltabelle!H70","v":0}]
[{"$error":"#N/A"},{"$f":"Profiltabelle!C71","v":0},{"$f":"Profiltabelle!D71","v":0},{"$f":"Profiltabelle!E71","v":0},{"$f":"Profiltabelle!F71","v":0},{"$f":"Profiltabelle!G71","v":0},{"$f":"Profiltabelle!H71","v":0}]
[{"$error":"#N/A"},{"$f":"Profiltabelle!C72","v":0},{"$f":"Profiltabelle!D72","v":0},{"$f":"Profiltabelle!E72","v":0},{"$f":"Profiltabelle!F72","v":0},{"$f":"Profiltabelle!G72","v":0},{"$f":"Profiltabelle!H72","v":0}]
[{"$error":"#N/A"},{"$f":"Profiltabelle!C73","v":0},{"$f":"Profiltabelle!D73","v":0},{"$f":"Profiltabelle!E73","v":0},{"$f":"Profiltabelle!F73","v":0},{"$f":"Profiltabelle!G73","v":0},{"$f":"Profiltabelle!H73","v":0}]
[{"$error":"#N/A"},{"$f":"Profiltabelle!C74","v":0},{"$f":"Profiltabelle!D74","v":0},{"$f":"Profiltabelle!E74","v":0},{"$f":"Profiltabelle!F74","v":0},{"$f":"Profiltabelle!G74","v":0},{"$f":"Profiltabelle!H74","v":0}]
[{"$error":"#N/A"},{"$f":"Profiltabelle!C75","v":0},{"$f":"Profiltabelle!D75","v":0},{"$f":"Profiltabelle!E75","v":0},{"$f":"Profiltabelle!F75","v":0},{"$f":"Profiltabelle!G75","v":0},{"$f":"Profiltabelle!H75","v":0}]
[{"$error":"#N/A"},{"$f":"Profiltabelle!C76","v":0},{"$f":"Profiltabelle!D76","v":0},{"$f":"Profiltabelle!E76","v":0},{"$f":"Profiltabelle!F76","v":0},{"$f":"Profiltabelle!G76","v":0},{"$f":"Profiltabelle!H76","v":0}]
[{"$error":"#N/A"},{"$f":"Profiltabelle!C77","v":0},{"$f":"Profiltabelle!D77","v":0},{"$f":"Profiltabelle!E77","v":0},{"$f":"Profiltabelle!F77","v":0},{"$f":"Profiltabelle!G77","v":0},{"$f":"Profiltabelle!H77","v":0}]
[{"$error":"#N/A"},{"$f":"Profiltabelle!C78","v":0},{"$f":"Profiltabelle!D78","v":0},{"$f":"Profiltabelle!E78","v":0},{"$f":"Profiltabelle!F78","v":0},{"$f":"Profiltabelle!G78","v":0},{"$f":"Profiltabelle!H78","v":0}]
[{"$error":"#N/A"},{"$f":"Profiltabelle!C79","v":0},{"$f":"Profiltabelle!D79","v":0},{"$f":"Profiltabelle!E79","v":0},{"$f":"Profiltabelle!F79","v":0},{"$f":"Profiltabelle!G79","v":0},{"$f":"Profiltabelle!H79","v":0}]
[{"$error":"#N/A"},{"$f":"Profiltabelle!C80","v":0},{"$f":"Profiltabelle!D80","v":0},{"$f":"Profiltabelle!E80","v":0},{"$f":"Profiltabelle!F80","v":0},{"$f":"Profiltabelle!G80","v":0},{"$f":"Profiltabelle!H80","v":0}]
[{"$error":"#N/A"},{"$f":"Profiltabelle!C81","v":0},{"$f":"Profiltabelle!D81","v":0},{"$f":"Profiltabelle!E81","v":0},{"$f":"Profiltabelle!F81","v":0},{"$f":"Profiltabelle!G81","v":0},{"$f":"Profiltabelle!H81","v":0}]
[{"$error":"#N/A"},{"$f":"Profiltabelle!C82","v":0},{"$f":"Profiltabelle!D82","v":0},{"$f":"Profiltabelle!E82","v":0},{"$f":"Profiltabelle!F82","v":0},{"$f":"Profiltabelle!G82","v":0},{"$f":"Profiltabelle!H82","v":0}]
[{"$error":"#N/A"},{"$f":"Profiltabelle!C83","v":0},{"$f":"Profiltabelle!D83","v":0},{"$f":"Profiltabelle!E83","v":0},{"$f":"Profiltabelle!F83","v":0},{"$f":"Profiltabelle!G83","v":0},{"$f":"Profiltabelle!H83","v":0}]
[{"$error":"#N/A"},{"$f":"Profiltabelle!C84","v":0},{"$f":"Profiltabelle!D84","v":0},{"$f":"Profiltabelle!E84","v":0},{"$f":"Profiltabelle!F84","v":0},{"$f":"Profiltabelle!G84","v":0},{"$f":"Profiltabelle!H84","v":0}]
[{"$error":"#N/A"},{"$f":"Profiltabelle!C85","v":0},{"$f":"Profiltabelle!D85","v":0},{"$f":"Profiltabelle!E85","v":0},{"$f":"Profiltabelle!F85","v":0},{"$f":"Profiltabelle!G85","v":0},{"$f":"Profiltabelle!H85","v":0}]
[{"$error":"#N/A"},{"$f":"Profiltabelle!C86","v":0},{"$f":"Profiltabelle!D86","v":0},{"$f":"Profiltabelle!E86","v":0},{"$f":"Profiltabelle!F86","v":0},{"$f":"Profiltabelle!G86","v":0},{"$f":"Profiltabelle!H86","v":0}]
[{"$error":"#N/A"},{"$f":"Profiltabelle!C87","v":0},{"$f":"Profiltabelle!D87","v":0},{"$f":"Profiltabelle!E87","v":0},{"$f":"Profiltabelle!F87","v":0},{"$f":"Profiltabelle!G87","v":0},{"$f":"Profiltabelle!H87","v":0}]
[{"$error":"#N/A"},{"$f":"Profiltabelle!C88","v":0},{"$f":"Profiltabelle!D88","v":0},{"$f":"Profiltabelle!E88","v":0},{"$f":"Profiltabelle!F88","v":0},{"$f":"Profiltabelle!G88","v":0},{"$f":"Profiltabelle!H88","v":0}]
[{"$error":"#N/A"},{"$f":"Profiltabelle!C89","v":0},{"$f":"Profiltabelle!D89","v":0},{"$f":"Profiltabelle!E89","v":0},{"$f":"Profiltabelle!F89","v":0},{"$f":"Profiltabelle!G89","v":0},{"$f":"Profiltabelle!H89","v":0}]
[{"$error":"#N/A"},{"$f":"Profiltabelle!C90","v":0},{"$f":"Profiltabelle!D90","v":0},{"$f":"Profiltabelle!E90","v":0},{"$f":"Profiltabelle!F90","v":0},{"$f":"Profiltabelle!G90","v":0},{"$f":"Profiltabelle!H90","v":0}]
[{"$error":"#N/A"},{"$f":"Profiltabelle!C91","v":0},{"$f":"Profiltabelle!D91","v":0},{"$f":"Profiltabelle!E91","v":0},{"$f":"Profiltabelle!F91","v":0},{"$f":"Profiltabelle!G91","v":0},{"$f":"Profiltabelle!H91","v":0}]
[{"$error":"#N/A"},{"$f":"Profiltabelle!C92","v":0},{"$f":"Profiltabelle!D92","v":0},{"$f":"Profiltabelle!E92","v":0},{"$f":"Profiltabelle!F92","v":0},{"$f":"Profiltabelle!G92","v":0},{"$f":"Profiltabelle!H92","v":0}]
[{"$error":"#N/A"},{"$f":"Profiltabelle!C93","v":0},{"$f":"Profiltabelle!D93","v":0},{"$f":"Profiltabelle!E93","v":0},{"$f":"Profiltabelle!F93","v":0},{"$f":"Profiltabelle!G93","v":0},{"$f":"Profiltabelle!H93","v":0}]
[{"$error":"#N/A"},{"$f":"Profiltabelle!C94","v":0},{"$f":"Profiltabelle!D94","v":0},{"$f":"Profiltabelle!E94","v":0},{"$f":"Profiltabelle!F94","v":0},{"$f":"Profiltabelle!G94","v":0},{"$f":"Profiltabelle!H94","v":0}]
[{"$error":"#N/A"},{"$f":"Profiltabelle!C95","v":0},{"$f":"Profiltabelle!D95","v":0},{"$f":"Profiltabelle!E95","v":0},{"$f":"Profiltabelle!F95","v":0},{"$f":"Profiltabelle!G95","v":0},{"$f":"Profiltabelle!H95","v":0}]
[{"$error":"#N/A"},{"$f":"Profiltabelle!C96","v":0},{"$f":"Profiltabelle!D96","v":0},{"$f":"Profiltabelle!E96","v":0},{"$f":"Profiltabelle!F96","v":0},{"$f":"Profiltabelle!G96","v":0},{"$f":"Profiltabelle!H96","v":0}]
[{"$error":"#N/A"},{"$f":"Profiltabelle!C97","v":0},{"$f":"Profiltabelle!D97","v":0},{"$f":"Profiltabelle!E97","v":0},{"$f":"Profiltabelle!F97","v":0},{"$f":"Profiltabelle!G97","v":0},{"$f":"Profiltabelle!H97","v":0}]
[{"$error":"#N/A"},{"$f":"Profiltabelle!C98","v":0},{"$f":"Profiltabelle!D98","v":0},{"$f":"Profiltabelle!E98","v":0},{"$f":"Profiltabelle!F98","v":0},{"$f":"Profiltabelle!G98","v":0},{"$f":"Profiltabelle!H98","v":0}]
[{"$error":"#N/A"},{"$f":"Profiltabelle!C99","v":0},{"$f":"Profiltabelle!D99","v":0},{"$f":"Profiltabelle!E99","v":0},{"$f":"Profiltabelle!F99","v":0},{"$f":"Profiltabelle!G99","v":0},{"$f":"Profiltabelle!H99","v":0}]
[{"$error":"#N/A"},{"$f":"Profiltabelle!C100","v":0},{"$f":"Profiltabelle!D100","v":0},{"$f":"Profiltabelle!E100","v":0},{"$f":"Profiltabelle!F100","v":0},{"$f":"Profiltabelle!G100","v":0},{"$f":"Profiltabelle!H100","v":0}]
[{"$error":"#N/A"},{"$f":"Profiltabelle!C101","v":0},{"$f":"Profiltabelle!D101","v":0},{"$f":"Profiltabelle!E101","v":0},{"$f":"Profiltabelle!F101","v":0},{"$f":"Profiltabelle!G101","v":0},{"$f":"Profiltabelle!H101","v":0}]
[{"$error":"#N/A"},{"$f":"Profiltabelle!C102","v":0},{"$f":"Profiltabelle!D102","v":0},{"$f":"Profiltabelle!E102","v":0},{"$f":"Profiltabelle!F102","v":0},{"$f":"Profiltabelle!G102","v":0},{"$f":"Profiltabelle!H102","v":0}]
[{"$error":"#N/A"},{"$f":"Profiltabelle!C103","v":0},{"$f":"Profiltabelle!D103","v":0},{"$f":"Profiltabelle!E103","v":0},{"$f":"Profiltabelle!F103","v":0},{"$f":"Profiltabelle!G103","v":0},{"$f":"Profiltabelle!H103","v":0}]
[{"$error":"#N/A"},{"$f":"Profiltabelle!C104","v":0},{"$f":"Profiltabelle!D104","v":0},{"$f":"Profiltabelle!E104","v":0},{"$f":"Profiltabelle!F104","v":0},{"$f":"Profiltabelle!G104","v":0},{"$f":"Profiltabelle!H104","v":0}]
[{"$error":"#N/A"},{"$f":"Profiltabelle!C105","v":0},{"$f":"Profiltabelle!D105","v":0},{"$f":"Profiltabelle!E105","v":0},{"$f":"Profiltabelle!F105","v":0},{"$f":"Profiltabelle!G105","v":0},{"$f":"Profiltabelle!H105","v":0}]
[{"$error":"#N/A"},{"$f":"Profiltabelle!C106","v":0},{"$f":"Profiltabelle!D106","v":0},{"$f":"Profiltabelle!E106","v":0},{"$f":"Profiltabelle!F106","v":0},{"$f":"Profiltabelle!G106","v":0},{"$f":"Profiltabelle!H106","v":0}]
[{"$error":"#N/A"},{"$f":"Profiltabelle!C107","v":0},{"$f":"Profiltabelle!D107","v":0},{"$f":"Profiltabelle!E107","v":0},{"$f":"Profiltabelle!F107","v":0},{"$f":"Profiltabelle!G107","v":0},{"$f":"Profiltabelle!H107","v":0}]
[{"$error":"#N/A"},{"$f":"Profiltabelle!C108","v":0},{"$f":"Profiltabelle!D108","v":0},{"$f":"Profiltabelle!E108","v":0},{"$f":"Profiltabelle!F108","v":0},{"$f":"Profiltabelle!G108","v":0},{"$f":"Profiltabelle!H108","v":0}]
[{"$error":"#N/A"},{"$f":"Profiltabelle!C109","v":0},{"$f":"Profiltabelle!D109","v":0},{"$f":"Profiltabelle!E109","v":0},{"$f":"Profiltabelle!F109","v":0},{"$f":"Profiltabelle!G109","v":0},{"$f":"Profiltabelle!H109","v":0}]
[{"$error":"#N/A"},{"$f":"Profiltabelle!C110","v":0},{"$f":"Profiltabelle!D110","v":0},{"$f":"Profiltabelle!E110","v":0},{"$f":"Profiltabelle!F110","v":0},{"$f":"Profiltabelle!G110","v":0},{"$f":"Profiltabelle!H110","v":0}]
[{"$error":"#N/A"},{"$f":"Profiltabelle!C111","v":0},{"$f":"Profiltabelle!D111","v":0},{"$f":"Profiltabelle!E111","v":0},{"$f":"Profiltabelle!F111","v":0},{"$f":"Profiltabelle!G111","v":0},{"$f":"Profiltabelle!H111","v":0}]
[{"$error":"#N/A"},{"$f":"Profiltabelle!C112","v":0},{"$f":"Profiltabelle!D112","v":0},{"$f":"Profiltabelle!E112","v":0},{"$f":"Profiltabelle!F112","v":0},{"$f":"Profiltabelle!G112","v":0},{"$f":"Profiltabelle!H112","v":0}]
[{"$error":"#N/A"},{"$f":"Profiltabelle!C113","v":0},{"$f":"Profiltabelle!D113","v":0},{"$f":"Profiltabelle!E113","v":0},{"$f":"Profiltabelle!F113","v":0},{"$f":"Profiltabelle!G113","v":0},{"$f":"Profiltabelle!H113","v":0}]
[{"$error":"#N/A"},{"$f":"Profiltabelle!C114","v":0},{"$f":"Profiltabelle!D114","v":0},{"$f":"Profiltabelle!E114","v":0},{"$f":"Profiltabelle!F114","v":0},{"$f":"Profiltabelle!G114","v":0},{"$f":"Profiltabelle!H114","v":0}]
[{"$error":"#N/A"},{"$f":"Profiltabelle!C115","v":0},{"$f":"Profiltabelle!D115","v":0},{"$f":"Profiltabelle!E115","v":0},{"$f":"Profiltabelle!F115","v":0},{"$f":"Profiltabelle!G115","v":0},{"$f":"Profiltabelle!H115","v":0}]
[{"$error":"#N/A"},{"$f":"Profiltabelle!C116","v":0},{"$f":"Profiltabelle!D116","v":0},{"$f":"Profiltabelle!E116","v":0},{"$f":"Profiltabelle!F116","v":0},{"$f":"Profiltabelle!G116","v":0},{"$f":"Profiltabelle!H116","v":0}]
[{"$error":"#N/A"},{"$f":"Profiltabelle!C117","v":0},{"$f":"Profiltabelle!D117","v":0},{"$f":"Profiltabelle!E117","v":0},{"$f":"Profiltabelle!F117","v":0},{"$f":"Profiltabelle!G117","v":0},{"$f":"Profiltabelle!H117","v":0}]
[{"$error":"#N/A"},{"$f":"Profiltabelle!C118","v":0},{"$f":"Profiltabelle!D118","v":0},{"$f":"Profiltabelle!E118","v":0},{"$f":"Profiltabelle!F118","v":0},{"$f":"Profiltabelle!G118","v":0},{"$f":"Profiltabelle!H118","v":0}]
[{"$error":"#N/A"},{"$f":"Profiltabelle!C119","v":0},{"$f":"Profiltabelle!D119","v":0},{"$f":"Profiltabelle!E119","v":0},{"$f":"Profiltabelle!F119","v":0},{"$f":"Profiltabelle!G119","v":0},{"$f":"Profiltabelle!H119","v":0}]
[{"$error":"#N/A"},{"$f":"Profiltabelle!C120","v":0},{"$f":"Profiltabelle!D120","v":0},{"$f":"Profiltabelle!E120","v":0},{"$f":"Profiltabelle!F120","v":0},{"$f":"Profiltabelle!G120","v":0},{"$f":"Profiltabelle!H120","v":0}]
[{"$error":"#N/A"},{"$f":"Profiltabelle!C121","v":0},{"$f":"Profiltabelle!D121","v":0},{"$f":"Profiltabelle!E121","v":0},{"$f":"Profiltabelle!F121","v":0},{"$f":"Profiltabelle!G121","v":0},{"$f":"Profiltabelle!H121","v":0}]
[{"$error":"#N/A"},{"$f":"Profiltabelle!C122","v":0},{"$f":"Profiltabelle!D122","v":0},{"$f":"Profiltabelle!E122","v":0},{"$f":"Profiltabelle!F122","v":0},{"$f":"Profiltabelle!G122","v":0},{"$f":"Profiltabelle!H122","v":0}]
[{"$error":"#N/A"},{"$f":"Profiltabelle!C123","v":0},{"$f":"Profiltabelle!D123","v":0},{"$f":"Profiltabelle!E123","v":0},{"$f":"Profiltabelle!F123","v":0},{"$f":"Profiltabelle!G123","v":0},{"$f":"Profiltabelle!H123","v":0}]
[{"$error":"#N/A"},{"$f":"Profiltabelle!C124","v":0},{"$f":"Profiltabelle!D124","v":0},{"$f":"Profiltabelle!E124","v":0},{"$f":"Profiltabelle!F124","v":0},{"$f":"Profiltabelle!G124","v":0},{"$f":"Profiltabelle!H124","v":0}]
[{"$error":"#N/A"},{"$f":"Profiltabelle!C125","v":0},{"$f":"Profiltabelle!D125","v":0},{"$f":"Profiltabelle!E125","v":0},{"$f":"Profiltabelle!F125","v":0},{"$f":"Profiltabelle!G125","v":0},{"$f":"Profiltabelle!H125","v":0}]
[{"$error":"#N/A"},{"$f":"Profiltabelle!C126","v":0},{"$f":"Profiltabelle!D126","v":0},{"$f":"Profiltabelle!E126","v":0},{"$f":"Profiltabelle!F126","v":0},{"$f":"Profiltabelle!G126","v":0},{"$f":"Profiltabelle!H126","v":0}]
[{"$error":"#N/A"},{"$f":"Profiltabelle!C127","v":0},{"$f":"Profiltabelle!D127","v":0},{"$f":"Profiltabelle!E127","v":0},{"$f":"Profiltabelle!F127","v":0},{"$f":"Profiltabelle!G127","v":0},{"$f":"Profiltabelle!H127","v":0}]
[{"$error":"#N/A"},{"$f":"Profiltabelle!C128","v":0},{"$f":"Profiltabelle!D128","v":0},{"$f":"Profiltabelle!E128","v":0},{"$f":"Profiltabelle!F128","v":0},{"$f":"Profiltabelle!G128","v":0},{"$f":"Profiltabelle!H128","v":0}]
[{"$error":"#N/A"},{"$f":"Profiltabelle!C129","v":0},{"$f":"Profiltabelle!D129","v":0},{"$f":"Profiltabelle!E129","v":0},{"$f":"Profiltabelle!F129","v":0},{"$f":"Profiltabelle!G129","v":0},{"$f":"Profiltabelle!H129","v":0}]
[{"$error":"#N/A"},{"$f":"Profiltabelle!C130","v":0},{"$f":"Profiltabelle!D130","v":0},{"$f":"Profiltabelle!E130","v":0},{"$f":"Profiltabelle!F130","v":0},{"$f":"Profiltabelle!G130","v":0},{"$f":"Profiltabelle!H130","v":0}]
[{"$error":"#N/A"},{"$f":"Profiltabelle!C131","v":0},{"$f":"Profiltabelle!D131","v":0},{"$f":"Profiltabelle!E131","v":0},{"$f":"Profiltabelle!F131","v":0},{"$f":"Profiltabelle!G131","v":0},{"$f":"Profiltabelle!H131","v":0}]
[{"$error":"#N/A"},{"$f":"Profiltabelle!C132","v":0},{"$f":"Profiltabelle!D132","v":0},{"$f":"Profiltabelle!E132","v":0},{"$f":"Profiltabelle!F132","v":0},{"$f":"Profiltabelle!G132","v":0},{"$f":"Profiltabelle!H132","v":0}]
[{"$error":"#N/A"},{"$f":"Profiltabelle!C133","v":0},{"$f":"Profiltabelle!D133","v":0},{"$f":"Profiltabelle!E133","v":0},{"$f":"Profiltabelle!F133","v":0},{"$f":"Profiltabelle!G133","v":0},{"$f":"Profiltabelle!H133","v":0}]
[{"$error":"#N/A"},{"$f":"Profiltabelle!C134","v":0},{"$f":"Profiltabelle!D134","v":0},{"$f":"Profiltabelle!E134","v":0},{"$f":"Profiltabelle!F134","v":0},{"$f":"Profiltabelle!G134","v":0},{"$f":"Profiltabelle!H134","v":0}]
[{"$error":"#N/A"},{"$f":"Profiltabelle!C135","v":0},{"$f":"Profiltabelle!D135","v":0},{"$f":"Profiltabelle!E135","v":0},{"$f":"Profiltabelle!F135","v":0},{"$f":"Profiltabelle!G135","v":0},{"$f":"Profiltabelle!H135","v":0}]
[{"$error":"#N/A"},{"$f":"Profiltabelle!C136","v":0},{"$f":"Profiltabelle!D136","v":0},{"$f":"Profiltabelle!E136","v":0},{"$f":"Profiltabelle!F136","v":0},{"$f":"Profiltabelle!G136","v":0},{"$f":"Profiltabelle!H136","v":0}]
[{"$error":"#N/A"},{"$f":"Profiltabelle!C137","v":0},{"$f":"Profiltabelle!D137","v":0},{"$f":"Profiltabelle!E137","v":0},{"$f":"Profiltabelle!F137","v":0},{"$f":"Profiltabelle!G137","v":0},{"$f":"Profiltabelle!H137","v":0}]
[{"$error":"#N/A"},{"$f":"Profiltabelle!C138","v":0},{"$f":"Profiltabelle!D138","v":0},{"$f":"Profiltabelle!E138","v":0},{"$f":"Profiltabelle!F138","v":0},{"$f":"Profiltabelle!G138","v":0},{"$f":"Profiltabelle!H138","v":0}]
[{"$error":"#N/A"},{"$f":"Profiltabelle!C139","v":0},{"$f":"Profiltabelle!D139","v":0},{"$f":"Profiltabelle!E139","v":0},{"$f":"Profiltabelle!F139","v":0},{"$f":"Profiltabelle!G139","v":0},{"$f":"Profiltabelle!H139","v":0}]
[{"$error":"#N/A"},{"$f":"Profiltabelle!C140","v":0},{"$f":"Profiltabelle!D140","v":0},{"$f":"Profiltabelle!E140","v":0},{"$f":"Profiltabelle!F140","v":0},{"$f":"Profiltabelle!G140","v":0},{"$f":"Profiltabelle!H140","v":0}]
[{"$error":"#N/A"},{"$f":"Profiltabelle!C141","v":0},{"$f":"Profiltabelle!D141","v":0},{"$f":"Profiltabelle!E141","v":0},{"$f":"Profiltabelle!F141","v":0},{"$f":"Profiltabelle!G141","v":0},{"$f":"Profiltabelle!H141","v":0}]
[{"$error":"#N/A"},{"$f":"Profiltabelle!C142","v":0},{"$f":"Profiltabelle!D142","v":0},{"$f":"Profiltabelle!E142","v":0},{"$f":"Profiltabelle!F142","v":0},{"$f":"Profiltabelle!G142","v":0},{"$f":"Profiltabelle!H142","v":0}]
[{"$error":"#N/A"},{"$f":"Profiltabelle!C143","v":0},{"$f":"Profiltabelle!D143","v":0},{"$f":"Profiltabelle!E143","v":0},{"$f":"Profiltabelle!F143","v":0},{"$f":"Profiltabelle!G143","v":0},{"$f":"Profiltabelle!H143","v":0}]
[{"$error":"#N/A"},{"$f":"Profiltabelle!C144","v":0},{"$f":"Profiltabelle!D144","v":0},{"$f":"Profiltabelle!E144","v":0},{"$f":"Profiltabelle!F144","v":0},{"$f":"Profiltabelle!G144","v":0},{"$f":"Profiltabelle!H144","v":0}]
[{"$error":"#N/A"},{"$f":"Profiltabelle!C145","v":0},{"$f":"Profiltabelle!D145","v":0},{"$f":"Profiltabelle!E145","v":0},{"$f":"Profiltabelle!F145","v":0},{"$f":"Profiltabelle!G145","v":0},{"$f":"Profiltabelle!H145","v":0}]
[{"$error":"#N/A"},{"$f":"Profiltabelle!C146","v":0},{"$f":"Profiltabelle!D146","v":0},{"$f":"Profiltabelle!E146","v":0},{"$f":"Profiltabelle!F146","v":0},{"$f":"Profiltabelle!G146","v":0},{"$f":"Profiltabelle!H146","v":0}]
[{"$error":"#N/A"},{"$f":"Profiltabelle!C147","v":0},{"$f":"Profiltabelle!D147","v":0},{"$f":"Profiltabelle!E147","v":0},{"$f":"Profiltabelle!F147","v":0},{"$f":"Profiltabelle!G147","v":0},{"$f":"Profiltabelle!H147","v":0}]
[{"$error":"#N/A"},{"$f":"Profiltabelle!C148","v":0},{"$f":"Profiltabelle!D148","v":0},{"$f":"Profiltabelle!E148","v":0},{"$f":"Profiltabelle!F148","v":0},{"$f":"Profiltabelle!G148","v":0},{"$f":"Profiltabelle!H148","v":0}]
[{"$error":"#N/A"},{"$f":"Profiltabelle!C149","v":0},{"$f":"Profiltabelle!D149","v":0},{"$f":"Profiltabelle!E149","v":0},{"$f":"Profiltabelle!F149","v":0},{"$f":"Profiltabelle!G149","v":0},{"$f":"Profiltabelle!H149","v":0}]
[{"$error":"#N/A"},{"$f":"Profiltabelle!C150","v":0},{"$f":"Profiltabelle!D150","v":0},{"$f":"Profiltabelle!E150","v":0},{"$f":"Profiltabelle!F150","v":0},{"$f":"Profiltabelle!G150","v":0},{"$f":"Profiltabelle!H150","v":0}]
[{"$error":"#N/A"},{"$f":"Profiltabelle!C151","v":0},{"$f":"Profiltabelle!D151","v":0},{"$f":"Profiltabelle!E151","v":0},{"$f":"Profiltabelle!F151","v":0},{"$f":"Profiltabelle!G151","v":0},{"$f":"Profiltabelle!H151","v":0}]
[{"$error":"#N/A"},{"$f":"Profiltabelle!C152","v":0},{"$f":"Profiltabelle!D152","v":0},{"$f":"Profiltabelle!E152","v":0},{"$f":"Profiltabelle!F152","v":0},{"$f":"Profiltabelle!G152","v":0},{"$f":"Profiltabelle!H152","v":0}]
[{"$error":"#N/A"},{"$f":"Profiltabelle!C153","v":0},{"$f":"Profiltabelle!D153","v":0},{"$f":"Profiltabelle!E153","v":0},{"$f":"Profiltabelle!F153","v":0},{"$f":"Profiltabelle!G153","v":0},{"$f":"Profiltabelle!H153","v":0}]
[{"$error":"#N/A"},{"$f":"Profiltabelle!C154","v":0},{"$f":"Profiltabelle!D154","v":0},{"$f":"Profiltabelle!E154","v":0},{"$f":"Profiltabelle!F154","v":0},{"$f":"Profiltabelle!G154","v":0},{"$f":"Profiltabelle!H154","v":0}]
[{"$error":"#N/A"},{"$f":"Profiltabelle!C155","v":0},{"$f":"Profiltabelle!D155","v":0},{"$f":"Profiltabelle!E155","v":0},{"$f":"Profiltabelle!F155","v":0},{"$f":"Profiltabelle!G155","v":0},{"$f":"Profiltabelle!H155","v":0}]
[{"$error":"#N/A"},{"$f":"Profiltabelle!C156","v":0},{"$f":"Profiltabelle!D156","v":0},{"$f":"Profiltabelle!E156","v":0},{"$f":"Profiltabelle!F156","v":0},{"$f":"Profiltabelle!G156","v":0},{"$f":"Profiltabelle!H156","v":0}]
[{"$error":"#N/A"},{"$f":"Profiltabelle!C157","v":0},{"$f":"Profiltabelle!D157","v":0},{"$f":"Profiltabelle!E157","v":0},{"$f":"Profiltabelle!F157","v":0},{"$f":"Profiltabelle!G157","v":0},{"$f":"Profiltabelle!H157","v":0}]
[{"$error":"#N/A"},{"$f":"Profiltabelle!C158","v":0},{"$f":"Profiltabelle!D158","v":0},{"$f":"Profiltabelle!E158","v":0},{"$f":"Profiltabelle!F158","v":0},{"$f":"Profiltabelle!G158","v":0},{"$f":"Profiltabelle!H158","v":0}]
[{"$error":"#N/A"},{"$f":"Profiltabelle!C159","v":0},{"$f":"Profiltabelle!D159","v":0},{"$f":"Profiltabelle!E159","v":0},{"$f":"Profiltabelle!F159","v":0},{"$f":"Profiltabelle!G159","v":0},{"$f":"Profiltabelle!H159","v":0}]
[{"$error":"#N/A"},{"$f":"Profiltabelle!C160","v":0},{"$f":"Profiltabelle!D160","v":0},{"$f":"Profiltabelle!E160","v":0},{"$f":"Profiltabelle!F160","v":0},{"$f":"Profiltabelle!G160","v":0},{"$f":"Profiltabelle!H160","v":0}]
[null,null,null,null,null,null,{"$f":"SUBTOTAL(103,Tabelle132468[WPU 7 WiPo])","v":149}]

{"sheet":"Kurs6","index":8,"n_rows":154,"n_cols":14,"rows_kept":154,"cut":false,"hidden":false,"merged":[]}
["1. Wunsch",{"$f":"SUMIFS(B$5:B$153,$G$5:$G$153,\"1\",B$5:B$153,\"1\")","v":0},0,0,0,0,0]
["2. Wunsch",{"$f":"SUMIFS(B$5:B$153,$G$5:$G$153,\"1\",B$5:B$153,\"2\")/2","v":0},0,0,0,0,0]
["3. Wunsch",{"$f":"SUMIFS(B$5:B$153,$G$5:$G$153,\"1\",B$5:B$153,\"3\")/3","v":0},0,0,0,0,0]
["Namen","WPU 7 Biogarten","WPU 7 Französisch","WPU 7 Gesund und fit","WPU 7 Informatik","WPU 7 Technik","WPU 7 WiPo",null,null,null,null,null,null,{"$f":"$G$4","v":"WPU 7 WiPo"}]
[{"$error":"#N/A"},{"$f":"Profiltabelle!C12","v":0},{"$f":"Profiltabelle!D12","v":0},{"$f":"Profiltabelle!E12","v":0},{"$f":"Profiltabelle!F12","v":0},{"$f":"Profiltabelle!G12","v":0},{"$f":"Profiltabelle!H12","v":0}]
[{"$error":"#N/A"},{"$f":"Profiltabelle!C13","v":0},{"$f":"Profiltabelle!D13","v":0},{"$f":"Profiltabelle!E13","v":0},{"$f":"Profiltabelle!F13","v":0},{"$f":"Profiltabelle!G13","v":0},{"$f":"Profiltabelle!H13","v":0}]
[{"$error":"#N/A"},{"$f":"Profiltabelle!C14","v":0},{"$f":"Profiltabelle!D14","v":0},{"$f":"Profiltabelle!E14","v":0},{"$f":"Profiltabelle!F14","v":0},{"$f":"Profiltabelle!G14","v":0},{"$f":"Profiltabelle!H14","v":0}]
[{"$error":"#N/A"},{"$f":"Profiltabelle!C15","v":0},{"$f":"Profiltabelle!D15","v":0},{"$f":"Profiltabelle!E15","v":0},{"$f":"Profiltabelle!F15","v":0},{"$f":"Profiltabelle!G15","v":0},{"$f":"Profiltabelle!H15","v":0}]
[{"$error":"#N/A"},{"$f":"Profiltabelle!C16","v":0},{"$f":"Profiltabelle!D16","v":0},{"$f":"Profiltabelle!E16","v":0},{"$f":"Profiltabelle!F16","v":0},{"$f":"Profiltabelle!G16","v":0},{"$f":"Profiltabelle!H16","v":0}]
[{"$error":"#N/A"},{"$f":"Profiltabelle!C17","v":0},{"$f":"Profiltabelle!D17","v":0},{"$f":"Profiltabelle!E17","v":0},{"$f":"Profiltabelle!F17","v":0},{"$f":"Profiltabelle!G17","v":0},{"$f":"Profiltabelle!H17","v":0}]
[{"$error":"#N/A"},{"$f":"Profiltabelle!C18","v":0},{"$f":"Profiltabelle!D18","v":0},{"$f":"Profiltabelle!E18","v":0},{"$f":"Profiltabelle!F18","v":0},{"$f":"Profiltabelle!G18","v":0},{"$f":"Profiltabelle!H18","v":0}]
[{"$error":"#N/A"},{"$f":"Profiltabelle!C19","v":0},{"$f":"Profiltabelle!D19","v":0},{"$f":"Profiltabelle!E19","v":0},{"$f":"Profiltabelle!F19","v":0},{"$f":"Profiltabelle!G19","v":0},{"$f":"Profiltabelle!H19","v":0}]
[{"$error":"#N/A"},{"$f":"Profiltabelle!C20","v":0},{"$f":"Profiltabelle!D20","v":0},{"$f":"Profiltabelle!E20","v":0},{"$f":"Profiltabelle!F20","v":0},{"$f":"Profiltabelle!G20","v":0},{"$f":"Profiltabelle!H20","v":0}]
[{"$error":"#N/A"},{"$f":"Profiltabelle!C21","v":0},{"$f":"Profiltabelle!D21","v":0},{"$f":"Profiltabelle!E21","v":0},{"$f":"Profiltabelle!F21","v":0},{"$f":"Profiltabelle!G21","v":0},{"$f":"Profiltabelle!H21","v":0}]
[{"$error":"#N/A"},{"$f":"Profiltabelle!C22","v":0},{"$f":"Profiltabelle!D22","v":0},{"$f":"Profiltabelle!E22","v":0},{"$f":"Profiltabelle!F22","v":0},{"$f":"Profiltabelle!G22","v":0},{"$f":"Profiltabelle!H22","v":0}]
[{"$error":"#N/A"},{"$f":"Profiltabelle!C23","v":0},{"$f":"Profiltabelle!D23","v":0},{"$f":"Profiltabelle!E23","v":0},{"$f":"Profiltabelle!F23","v":0},{"$f":"Profiltabelle!G23","v":0},{"$f":"Profiltabelle!H23","v":0}]
[{"$error":"#N/A"},{"$f":"Profiltabelle!C24","v":0},{"$f":"Profiltabelle!D24","v":0},{"$f":"Profiltabelle!E24","v":0},{"$f":"Profiltabelle!F24","v":0},{"$f":"Profiltabelle!G24","v":0},{"$f":"Profiltabelle!H24","v":0}]
[{"$error":"#N/A"},{"$f":"Profiltabelle!C25","v":0},{"$f":"Profiltabelle!D25","v":0},{"$f":"Profiltabelle!E25","v":0},{"$f":"Profiltabelle!F25","v":0},{"$f":"Profiltabelle!G25","v":0},{"$f":"Profiltabelle!H25","v":0}]
[{"$error":"#N/A"},{"$f":"Profiltabelle!C26","v":0},{"$f":"Profiltabelle!D26","v":0},{"$f":"Profiltabelle!E26","v":0},{"$f":"Profiltabelle!F26","v":0},{"$f":"Profiltabelle!G26","v":0},{"$f":"Profiltabelle!H26","v":0}]
[{"$error":"#N/A"},{"$f":"Profiltabelle!C27","v":0},{"$f":"Profiltabelle!D27","v":0},{"$f":"Profiltabelle!E27","v":0},{"$f":"Profiltabelle!F27","v":0},{"$f":"Profiltabelle!G27","v":0},{"$f":"Profiltabelle!H27","v":0}]
[{"$error":"#N/A"},{"$f":"Profiltabelle!C28","v":0},{"$f":"Profiltabelle!D28","v":0},{"$f":"Profiltabelle!E28","v":0},{"$f":"Profiltabelle!F28","v":0},{"$f":"Profiltabelle!G28","v":0},{"$f":"Profiltabelle!H28","v":0}]
[{"$error":"#N/A"},{"$f":"Profiltabelle!C29","v":0},{"$f":"Profiltabelle!D29","v":0},{"$f":"Profiltabelle!E29","v":0},{"$f":"Profiltabelle!F29","v":0},{"$f":"Profiltabelle!G29","v":0},{"$f":"Profiltabelle!H29","v":0}]
[{"$error":"#N/A"},{"$f":"Profiltabelle!C30","v":0},{"$f":"Profiltabelle!D30","v":0},{"$f":"Profiltabelle!E30","v":0},{"$f":"Profiltabelle!F30","v":0},{"$f":"Profiltabelle!G30","v":0},{"$f":"Profiltabelle!H30","v":0}]
[{"$error":"#N/A"},{"$f":"Profiltabelle!C31","v":0},{"$f":"Profiltabelle!D31","v":0},{"$f":"Profiltabelle!E31","v":0},{"$f":"Profiltabelle!F31","v":0},{"$f":"Profiltabelle!G31","v":0},{"$f":"Profiltabelle!H31","v":0}]
[{"$error":"#N/A"},{"$f":"Profiltabelle!C32","v":0},{"$f":"Profiltabelle!D32","v":0},{"$f":"Profiltabelle!E32","v":0},{"$f":"Profiltabelle!F32","v":0},{"$f":"Profiltabelle!G32","v":0},{"$f":"Profiltabelle!H32","v":0}]
[{"$error":"#N/A"},{"$f":"Profiltabelle!C33","v":0},{"$f":"Profiltabelle!D33","v":0},{"$f":"Profiltabelle!E33","v":0},{"$f":"Profiltabelle!F33","v":0},{"$f":"Profiltabelle!G33","v":0},{"$f":"Profiltabelle!H33","v":0}]
[{"$error":"#N/A"},{"$f":"Profiltabelle!C34","v":0},{"$f":"Profiltabelle!D34","v":0},{"$f":"Profiltabelle!E34","v":0},{"$f":"Profiltabelle!F34","v":0},{"$f":"Profiltabelle!G34","v":0},{"$f":"Profiltabelle!H34","v":0}]
[{"$error":"#N/A"},{"$f":"Profiltabelle!C35","v":0},{"$f":"Profiltabelle!D35","v":0},{"$f":"Profiltabelle!E35","v":0},{"$f":"Profiltabelle!F35","v":0},{"$f":"Profiltabelle!G35","v":0},{"$f":"Profiltabelle!H35","v":0}]
[{"$error":"#N/A"},{"$f":"Profiltabelle!C36","v":0},{"$f":"Profiltabelle!D36","v":0},{"$f":"Profiltabelle!E36","v":0},{"$f":"Profiltabelle!F36","v":0},{"$f":"Profiltabelle!G36","v":0},{"$f":"Profiltabelle!H36","v":0}]
[{"$error":"#N/A"},{"$f":"Profiltabelle!C37","v":0},{"$f":"Profiltabelle!D37","v":0},{"$f":"Profiltabelle!E37","v":0},{"$f":"Profiltabelle!F37","v":0},{"$f":"Profiltabelle!G37","v":0},{"$f":"Profiltabelle!H37","v":0}]
[{"$error":"#N/A"},{"$f":"Profiltabelle!C38","v":0},{"$f":"Profiltabelle!D38","v":0},{"$f":"Profiltabelle!E38","v":0},{"$f":"Profiltabelle!F38","v":0},{"$f":"Profiltabelle!G38","v":0},{"$f":"Profiltabelle!H38","v":0}]
[{"$error":"#N/A"},{"$f":"Profiltabelle!C39","v":0},{"$f":"Profiltabelle!D39","v":0},{"$f":"Profiltabelle!E39","v":0},{"$f":"Profiltabelle!F39","v":0},{"$f":"Profiltabelle!G39","v":0},{"$f":"Profiltabelle!H39","v":0}]
[{"$error":"#N/A"},{"$f":"Profiltabelle!C40","v":0},{"$f":"Profiltabelle!D40","v":0},{"$f":"Profiltabelle!E40","v":0},{"$f":"Profiltabelle!F40","v":0},{"$f":"Profiltabelle!G40","v":0},{"$f":"Profiltabelle!H40","v":0}]
[{"$error":"#N/A"},{"$f":"Profiltabelle!C41","v":0},{"$f":"Profiltabelle!D41","v":0},{"$f":"Profiltabelle!E41","v":0},{"$f":"Profiltabelle!F41","v":0},{"$f":"Profiltabelle!G41","v":0},{"$f":"Profiltabelle!H41","v":0}]
[{"$error":"#N/A"},{"$f":"Profiltabelle!C42","v":0},{"$f":"Profiltabelle!D42","v":0},{"$f":"Profiltabelle!E42","v":0},{"$f":"Profiltabelle!F42","v":0},{"$f":"Profiltabelle!G42","v":0},{"$f":"Profiltabelle!H42","v":0}]
[{"$error":"#N/A"},{"$f":"Profiltabelle!C43","v":0},{"$f":"Profiltabelle!D43","v":0},{"$f":"Profiltabelle!E43","v":0},{"$f":"Profiltabelle!F43","v":0},{"$f":"Profiltabelle!G43","v":0},{"$f":"Profiltabelle!H43","v":0}]
[{"$error":"#N/A"},{"$f":"Profiltabelle!C44","v":0},{"$f":"Profiltabelle!D44","v":0},{"$f":"Profiltabelle!E44","v":0},{"$f":"Profiltabelle!F44","v":0},{"$f":"Profiltabelle!G44","v":0},{"$f":"Profiltabelle!H44","v":0}]
[{"$error":"#N/A"},{"$f":"Profiltabelle!C45","v":0},{"$f":"Profiltabelle!D45","v":0},{"$f":"Profiltabelle!E45","v":0},{"$f":"Profiltabelle!F45","v":0},{"$f":"Profiltabelle!G45","v":0},{"$f":"Profiltabelle!H45","v":0}]
[{"$error":"#N/A"},{"$f":"Profiltabelle!C46","v":0},{"$f":"Profiltabelle!D46","v":0},{"$f":"Profiltabelle!E46","v":0},{"$f":"Profiltabelle!F46","v":0},{"$f":"Profiltabelle!G46","v":0},{"$f":"Profiltabelle!H46","v":0}]
[{"$error":"#N/A"},{"$f":"Profiltabelle!C47","v":0},{"$f":"Profiltabelle!D47","v":0},{"$f":"Profiltabelle!E47","v":0},{"$f":"Profiltabelle!F47","v":0},{"$f":"Profiltabelle!G47","v":0},{"$f":"Profiltabelle!H47","v":0}]
[{"$error":"#N/A"},{"$f":"Profiltabelle!C48","v":0},{"$f":"Profiltabelle!D48","v":0},{"$f":"Profiltabelle!E48","v":0},{"$f":"Profiltabelle!F48","v":0},{"$f":"Profiltabelle!G48","v":0},{"$f":"Profiltabelle!H48","v":0}]
[{"$error":"#N/A"},{"$f":"Profiltabelle!C49","v":0},{"$f":"Profiltabelle!D49","v":0},{"$f":"Profiltabelle!E49","v":0},{"$f":"Profiltabelle!F49","v":0},{"$f":"Profiltabelle!G49","v":0},{"$f":"Profiltabelle!H49","v":0}]
[{"$error":"#N/A"},{"$f":"Profiltabelle!C50","v":0},{"$f":"Profiltabelle!D50","v":0},{"$f":"Profiltabelle!E50","v":0},{"$f":"Profiltabelle!F50","v":0},{"$f":"Profiltabelle!G50","v":0},{"$f":"Profiltabelle!H50","v":0}]
[{"$error":"#N/A"},{"$f":"Profiltabelle!C51","v":0},{"$f":"Profiltabelle!D51","v":0},{"$f":"Profiltabelle!E51","v":0},{"$f":"Profiltabelle!F51","v":0},{"$f":"Profiltabelle!G51","v":0},{"$f":"Profiltabelle!H51","v":0}]
[{"$error":"#N/A"},{"$f":"Profiltabelle!C52","v":0},{"$f":"Profiltabelle!D52","v":0},{"$f":"Profiltabelle!E52","v":0},{"$f":"Profiltabelle!F52","v":0},{"$f":"Profiltabelle!G52","v":0},{"$f":"Profiltabelle!H52","v":0}]
[{"$error":"#N/A"},{"$f":"Profiltabelle!C53","v":0},{"$f":"Profiltabelle!D53","v":0},{"$f":"Profiltabelle!E53","v":0},{"$f":"Profiltabelle!F53","v":0},{"$f":"Profiltabelle!G53","v":0},{"$f":"Profiltabelle!H53","v":0}]
[{"$error":"#N/A"},{"$f":"Profiltabelle!C54","v":0},{"$f":"Profiltabelle!D54","v":0},{"$f":"Profiltabelle!E54","v":0},{"$f":"Profiltabelle!F54","v":0},{"$f":"Profiltabelle!G54","v":0},{"$f":"Profiltabelle!H54","v":0}]
[{"$error":"#N/A"},{"$f":"Profiltabelle!C55","v":0},{"$f":"Profiltabelle!D55","v":0},{"$f":"Profiltabelle!E55","v":0},{"$f":"Profiltabelle!F55","v":0},{"$f":"Profiltabelle!G55","v":0},{"$f":"Profiltabelle!H55","v":0}]
[{"$error":"#N/A"},{"$f":"Profiltabelle!C56","v":0},{"$f":"Profiltabelle!D56","v":0},{"$f":"Profiltabelle!E56","v":0},{"$f":"Profiltabelle!F56","v":0},{"$f":"Profiltabelle!G56","v":0},{"$f":"Profiltabelle!H56","v":0}]
[{"$error":"#N/A"},{"$f":"Profiltabelle!C57","v":0},{"$f":"Profiltabelle!D57","v":0},{"$f":"Profiltabelle!E57","v":0},{"$f":"Profiltabelle!F57","v":0},{"$f":"Profiltabelle!G57","v":0},{"$f":"Profiltabelle!H57","v":0}]
[{"$error":"#N/A"},{"$f":"Profiltabelle!C58","v":0},{"$f":"Profiltabelle!D58","v":0},{"$f":"Profiltabelle!E58","v":0},{"$f":"Profiltabelle!F58","v":0},{"$f":"Profiltabelle!G58","v":0},{"$f":"Profiltabelle!H58","v":0}]
[{"$error":"#N/A"},{"$f":"Profiltabelle!C59","v":0},{"$f":"Profiltabelle!D59","v":0},{"$f":"Profiltabelle!E59","v":0},{"$f":"Profiltabelle!F59","v":0},{"$f":"Profiltabelle!G59","v":0},{"$f":"Profiltabelle!H59","v":0}]
[{"$error":"#N/A"},{"$f":"Profiltabelle!C60","v":0},{"$f":"Profiltabelle!D60","v":0},{"$f":"Profiltabelle!E60","v":0},{"$f":"Profiltabelle!F60","v":0},{"$f":"Profiltabelle!G60","v":0},{"$f":"Profiltabelle!H60","v":0}]
[{"$error":"#N/A"},{"$f":"Profiltabelle!C61","v":0},{"$f":"Profiltabelle!D61","v":0},{"$f":"Profiltabelle!E61","v":0},{"$f":"Profiltabelle!F61","v":0},{"$f":"Profiltabelle!G61","v":0},{"$f":"Profiltabelle!H61","v":0}]
[{"$error":"#N/A"},{"$f":"Profiltabelle!C62","v":0},{"$f":"Profiltabelle!D62","v":0},{"$f":"Profiltabelle!E62","v":0},{"$f":"Profiltabelle!F62","v":0},{"$f":"Profiltabelle!G62","v":0},{"$f":"Profiltabelle!H62","v":0}]
[{"$error":"#N/A"},{"$f":"Profiltabelle!C63","v":0},{"$f":"Profiltabelle!D63","v":0},{"$f":"Profiltabelle!E63","v":0},{"$f":"Profiltabelle!F63","v":0},{"$f":"Profiltabelle!G63","v":0},{"$f":"Profiltabelle!H63","v":0}]
[{"$error":"#N/A"},{"$f":"Profiltabelle!C64","v":0},{"$f":"Profiltabelle!D64","v":0},{"$f":"Profiltabelle!E64","v":0},{"$f":"Profiltabelle!F64","v":0},{"$f":"Profiltabelle!G64","v":0},{"$f":"Profiltabelle!H64","v":0}]
[{"$error":"#N/A"},{"$f":"Profiltabelle!C65","v":0},{"$f":"Profiltabelle!D65","v":0},{"$f":"Profiltabelle!E65","v":0},{"$f":"Profiltabelle!F65","v":0},{"$f":"Profiltabelle!G65","v":0},{"$f":"Profiltabelle!H65","v":0}]
[{"$error":"#N/A"},{"$f":"Profiltabelle!C66","v":0},{"$f":"Profiltabelle!D66","v":0},{"$f":"Profiltabelle!E66","v":0},{"$f":"Profiltabelle!F66","v":0},{"$f":"Profiltabelle!G66","v":0},{"$f":"Profiltabelle!H66","v":0}]
[{"$error":"#N/A"},{"$f":"Profiltabelle!C67","v":0},{"$f":"Profiltabelle!D67","v":0},{"$f":"Profiltabelle!E67","v":0},{"$f":"Profiltabelle!F67","v":0},{"$f":"Profiltabelle!G67","v":0},{"$f":"Profiltabelle!H67","v":0}]
[{"$error":"#N/A"},{"$f":"Profiltabelle!C68","v":0},{"$f":"Profiltabelle!D68","v":0},{"$f":"Profiltabelle!E68","v":0},{"$f":"Profiltabelle!F68","v":0},{"$f":"Profiltabelle!G68","v":0},{"$f":"Profiltabelle!H68","v":0}]
[{"$error":"#N/A"},{"$f":"Profiltabelle!C69","v":0},{"$f":"Profiltabelle!D69","v":0},{"$f":"Profiltabelle!E69","v":0},{"$f":"Profiltabelle!F69","v":0},{"$f":"Profiltabelle!G69","v":0},{"$f":"Profiltabelle!H69","v":0}]
[{"$error":"#N/A"},{"$f":"Profiltabelle!C70","v":0},{"$f":"Profiltabelle!D70","v":0},{"$f":"Profiltabelle!E70","v":0},{"$f":"Profiltabelle!F70","v":0},{"$f":"Profiltabelle!G70","v":0},{"$f":"Profiltabelle!H70","v":0}]
[{"$error":"#N/A"},{"$f":"Profiltabelle!C71","v":0},{"$f":"Profiltabelle!D71","v":0},{"$f":"Profiltabelle!E71","v":0},{"$f":"Profiltabelle!F71","v":0},{"$f":"Profiltabelle!G71","v":0},{"$f":"Profiltabelle!H71","v":0}]
[{"$error":"#N/A"},{"$f":"Profiltabelle!C72","v":0},{"$f":"Profiltabelle!D72","v":0},{"$f":"Profiltabelle!E72","v":0},{"$f":"Profiltabelle!F72","v":0},{"$f":"Profiltabelle!G72","v":0},{"$f":"Profiltabelle!H72","v":0}]
[{"$error":"#N/A"},{"$f":"Profiltabelle!C73","v":0},{"$f":"Profiltabelle!D73","v":0},{"$f":"Profiltabelle!E73","v":0},{"$f":"Profiltabelle!F73","v":0},{"$f":"Profiltabelle!G73","v":0},{"$f":"Profiltabelle!H73","v":0}]
[{"$error":"#N/A"},{"$f":"Profiltabelle!C74","v":0},{"$f":"Profiltabelle!D74","v":0},{"$f":"Profiltabelle!E74","v":0},{"$f":"Profiltabelle!F74","v":0},{"$f":"Profiltabelle!G74","v":0},{"$f":"Profiltabelle!H74","v":0}]
[{"$error":"#N/A"},{"$f":"Profiltabelle!C75","v":0},{"$f":"Profiltabelle!D75","v":0},{"$f":"Profiltabelle!E75","v":0},{"$f":"Profiltabelle!F75","v":0},{"$f":"Profiltabelle!G75","v":0},{"$f":"Profiltabelle!H75","v":0}]
[{"$error":"#N/A"},{"$f":"Profiltabelle!C76","v":0},{"$f":"Profiltabelle!D76","v":0},{"$f":"Profiltabelle!E76","v":0},{"$f":"Profiltabelle!F76","v":0},{"$f":"Profiltabelle!G76","v":0},{"$f":"Profiltabelle!H76","v":0}]
[{"$error":"#N/A"},{"$f":"Profiltabelle!C77","v":0},{"$f":"Profiltabelle!D77","v":0},{"$f":"Profiltabelle!E77","v":0},{"$f":"Profiltabelle!F77","v":0},{"$f":"Profiltabelle!G77","v":0},{"$f":"Profiltabelle!H77","v":0}]
[{"$error":"#N/A"},{"$f":"Profiltabelle!C78","v":0},{"$f":"Profiltabelle!D78","v":0},{"$f":"Profiltabelle!E78","v":0},{"$f":"Profiltabelle!F78","v":0},{"$f":"Profiltabelle!G78","v":0},{"$f":"Profiltabelle!H78","v":0}]
[{"$error":"#N/A"},{"$f":"Profiltabelle!C79","v":0},{"$f":"Profiltabelle!D79","v":0},{"$f":"Profiltabelle!E79","v":0},{"$f":"Profiltabelle!F79","v":0},{"$f":"Profiltabelle!G79","v":0},{"$f":"Profiltabelle!H79","v":0}]
[{"$error":"#N/A"},{"$f":"Profiltabelle!C80","v":0},{"$f":"Profiltabelle!D80","v":0},{"$f":"Profiltabelle!E80","v":0},{"$f":"Profiltabelle!F80","v":0},{"$f":"Profiltabelle!G80","v":0},{"$f":"Profiltabelle!H80","v":0}]
[{"$error":"#N/A"},{"$f":"Profiltabelle!C81","v":0},{"$f":"Profiltabelle!D81","v":0},{"$f":"Profiltabelle!E81","v":0},{"$f":"Profiltabelle!F81","v":0},{"$f":"Profiltabelle!G81","v":0},{"$f":"Profiltabelle!H81","v":0}]
[{"$error":"#N/A"},{"$f":"Profiltabelle!C82","v":0},{"$f":"Profiltabelle!D82","v":0},{"$f":"Profiltabelle!E82","v":0},{"$f":"Profiltabelle!F82","v":0},{"$f":"Profiltabelle!G82","v":0},{"$f":"Profiltabelle!H82","v":0}]
[{"$error":"#N/A"},{"$f":"Profiltabelle!C83","v":0},{"$f":"Profiltabelle!D83","v":0},{"$f":"Profiltabelle!E83","v":0},{"$f":"Profiltabelle!F83","v":0},{"$f":"Profiltabelle!G83","v":0},{"$f":"Profiltabelle!H83","v":0}]
[{"$error":"#N/A"},{"$f":"Profiltabelle!C84","v":0},{"$f":"Profiltabelle!D84","v":0},{"$f":"Profiltabelle!E84","v":0},{"$f":"Profiltabelle!F84","v":0},{"$f":"Profiltabelle!G84","v":0},{"$f":"Profiltabelle!H84","v":0}]
[{"$error":"#N/A"},{"$f":"Profiltabelle!C85","v":0},{"$f":"Profiltabelle!D85","v":0},{"$f":"Profiltabelle!E85","v":0},{"$f":"Profiltabelle!F85","v":0},{"$f":"Profiltabelle!G85","v":0},{"$f":"Profiltabelle!H85","v":0}]
[{"$error":"#N/A"},{"$f":"Profiltabelle!C86","v":0},{"$f":"Profiltabelle!D86","v":0},{"$f":"Profiltabelle!E86","v":0},{"$f":"Profiltabelle!F86","v":0},{"$f":"Profiltabelle!G86","v":0},{"$f":"Profiltabelle!H86","v":0}]
[{"$error":"#N/A"},{"$f":"Profiltabelle!C87","v":0},{"$f":"Profiltabelle!D87","v":0},{"$f":"Profiltabelle!E87","v":0},{"$f":"Profiltabelle!F87","v":0},{"$f":"Profiltabelle!G87","v":0},{"$f":"Profiltabelle!H87","v":0}]
[{"$error":"#N/A"},{"$f":"Profiltabelle!C88","v":0},{"$f":"Profiltabelle!D88","v":0},{"$f":"Profiltabelle!E88","v":0},{"$f":"Profiltabelle!F88","v":0},{"$f":"Profiltabelle!G88","v":0},{"$f":"Profiltabelle!H88","v":0}]
[{"$error":"#N/A"},{"$f":"Profiltabelle!C89","v":0},{"$f":"Profiltabelle!D89","v":0},{"$f":"Profiltabelle!E89","v":0},{"$f":"Profiltabelle!F89","v":0},{"$f":"Profiltabelle!G89","v":0},{"$f":"Profiltabelle!H89","v":0}]
[{"$error":"#N/A"},{"$f":"Profiltabelle!C90","v":0},{"$f":"Profiltabelle!D90","v":0},{"$f":"Profiltabelle!E90","v":0},{"$f":"Profiltabelle!F90","v":0},{"$f":"Profiltabelle!G90","v":0},{"$f":"Profiltabelle!H90","v":0}]
[{"$error":"#N/A"},{"$f":"Profiltabelle!C91","v":0},{"$f":"Profiltabelle!D91","v":0},{"$f":"Profiltabelle!E91","v":0},{"$f":"Profiltabelle!F91","v":0},{"$f":"Profiltabelle!G91","v":0},{"$f":"Profiltabelle!H91","v":0}]
[{"$error":"#N/A"},{"$f":"Profiltabelle!C92","v":0},{"$f":"Profiltabelle!D92","v":0},{"$f":"Profiltabelle!E92","v":0},{"$f":"Profiltabelle!F92","v":0},{"$f":"Profiltabelle!G92","v":0},{"$f":"Profiltabelle!H92","v":0}]
[{"$error":"#N/A"},{"$f":"Profiltabelle!C93","v":0},{"$f":"Profiltabelle!D93","v":0},{"$f":"Profiltabelle!E93","v":0},{"$f":"Profiltabelle!F93","v":0},{"$f":"Profiltabelle!G93","v":0},{"$f":"Profiltabelle!H93","v":0}]
[{"$error":"#N/A"},{"$f":"Profiltabelle!C94","v":0},{"$f":"Profiltabelle!D94","v":0},{"$f":"Profiltabelle!E94","v":0},{"$f":"Profiltabelle!F94","v":0},{"$f":"Profiltabelle!G94","v":0},{"$f":"Profiltabelle!H94","v":0}]
[{"$error":"#N/A"},{"$f":"Profiltabelle!C95","v":0},{"$f":"Profiltabelle!D95","v":0},{"$f":"Profiltabelle!E95","v":0},{"$f":"Profiltabelle!F95","v":0},{"$f":"Profiltabelle!G95","v":0},{"$f":"Profiltabelle!H95","v":0}]
[{"$error":"#N/A"},{"$f":"Profiltabelle!C96","v":0},{"$f":"Profiltabelle!D96","v":0},{"$f":"Profiltabelle!E96","v":0},{"$f":"Profiltabelle!F96","v":0},{"$f":"Profiltabelle!G96","v":0},{"$f":"Profiltabelle!H96","v":0}]
[{"$error":"#N/A"},{"$f":"Profiltabelle!C97","v":0},{"$f":"Profiltabelle!D97","v":0},{"$f":"Profiltabelle!E97","v":0},{"$f":"Profiltabelle!F97","v":0},{"$f":"Profiltabelle!G97","v":0},{"$f":"Profiltabelle!H97","v":0}]
[{"$error":"#N/A"},{"$f":"Profiltabelle!C98","v":0},{"$f":"Profiltabelle!D98","v":0},{"$f":"Profiltabelle!E98","v":0},{"$f":"Profiltabelle!F98","v":0},{"$f":"Profiltabelle!G98","v":0},{"$f":"Profiltabelle!H98","v":0}]
[{"$error":"#N/A"},{"$f":"Profiltabelle!C99","v":0},{"$f":"Profiltabelle!D99","v":0},{"$f":"Profiltabelle!E99","v":0},{"$f":"Profiltabelle!F99","v":0},{"$f":"Profiltabelle!G99","v":0},{"$f":"Profiltabelle!H99","v":0}]
[{"$error":"#N/A"},{"$f":"Profiltabelle!C100","v":0},{"$f":"Profiltabelle!D100","v":0},{"$f":"Profiltabelle!E100","v":0},{"$f":"Profiltabelle!F100","v":0},{"$f":"Profiltabelle!G100","v":0},{"$f":"Profiltabelle!H100","v":0}]
[{"$error":"#N/A"},{"$f":"Profiltabelle!C101","v":0},{"$f":"Profiltabelle!D101","v":0},{"$f":"Profiltabelle!E101","v":0},{"$f":"Profiltabelle!F101","v":0},{"$f":"Profiltabelle!G101","v":0},{"$f":"Profiltabelle!H101","v":0}]
[{"$error":"#N/A"},{"$f":"Profiltabelle!C102","v":0},{"$f":"Profiltabelle!D102","v":0},{"$f":"Profiltabelle!E102","v":0},{"$f":"Profiltabelle!F102","v":0},{"$f":"Profiltabelle!G102","v":0},{"$f":"Profiltabelle!H102","v":0}]
[{"$error":"#N/A"},{"$f":"Profiltabelle!C103","v":0},{"$f":"Profiltabelle!D103","v":0},{"$f":"Profiltabelle!E103","v":0},{"$f":"Profiltabelle!F103","v":0},{"$f":"Profiltabelle!G103","v":0},{"$f":"Profiltabelle!H103","v":0}]
[{"$error":"#N/A"},{"$f":"Profiltabelle!C104","v":0},{"$f":"Profiltabelle!D104","v":0},{"$f":"Profiltabelle!E104","v":0},{"$f":"Profiltabelle!F104","v":0},{"$f":"Profiltabelle!G104","v":0},{"$f":"Profiltabelle!H104","v":0}]
[{"$error":"#N/A"},{"$f":"Profiltabelle!C105","v":0},{"$f":"Profiltabelle!D105","v":0},{"$f":"Profiltabelle!E105","v":0},{"$f":"Profiltabelle!F105","v":0},{"$f":"Profiltabelle!G105","v":0},{"$f":"Profiltabelle!H105","v":0}]
[{"$error":"#N/A"},{"$f":"Profiltabelle!C106","v":0},{"$f":"Profiltabelle!D106","v":0},{"$f":"Profiltabelle!E106","v":0},{"$f":"Profiltabelle!F106","v":0},{"$f":"Profiltabelle!G106","v":0},{"$f":"Profiltabelle!H106","v":0}]
[{"$error":"#N/A"},{"$f":"Profiltabelle!C107","v":0},{"$f":"Profiltabelle!D107","v":0},{"$f":"Profiltabelle!E107","v":0},{"$f":"Profiltabelle!F107","v":0},{"$f":"Profiltabelle!G107","v":0},{"$f":"Profiltabelle!H107","v":0}]
[{"$error":"#N/A"},{"$f":"Profiltabelle!C108","v":0},{"$f":"Profiltabelle!D108","v":0},{"$f":"Profiltabelle!E108","v":0},{"$f":"Profiltabelle!F108","v":0},{"$f":"Profiltabelle!G108","v":0},{"$f":"Profiltabelle!H108","v":0}]
[{"$error":"#N/A"},{"$f":"Profiltabelle!C109","v":0},{"$f":"Profiltabelle!D109","v":0},{"$f":"Profiltabelle!E109","v":0},{"$f":"Profiltabelle!F109","v":0},{"$f":"Profiltabelle!G109","v":0},{"$f":"Profiltabelle!H109","v":0}]
[{"$error":"#N/A"},{"$f":"Profiltabelle!C110","v":0},{"$f":"Profiltabelle!D110","v":0},{"$f":"Profiltabelle!E110","v":0},{"$f":"Profiltabelle!F110","v":0},{"$f":"Profiltabelle!G110","v":0},{"$f":"Profiltabelle!H110","v":0}]
[{"$error":"#N/A"},{"$f":"Profiltabelle!C111","v":0},{"$f":"Profiltabelle!D111","v":0},{"$f":"Profiltabelle!E111","v":0},{"$f":"Profiltabelle!F111","v":0},{"$f":"Profiltabelle!G111","v":0},{"$f":"Profiltabelle!H111","v":0}]
[{"$error":"#N/A"},{"$f":"Profiltabelle!C112","v":0},{"$f":"Profiltabelle!D112","v":0},{"$f":"Profiltabelle!E112","v":0},{"$f":"Profiltabelle!F112","v":0},{"$f":"Profiltabelle!G112","v":0},{"$f":"Profiltabelle!H112","v":0}]
[{"$error":"#N/A"},{"$f":"Profiltabelle!C113","v":0},{"$f":"Profiltabelle!D113","v":0},{"$f":"Profiltabelle!E113","v":0},{"$f":"Profiltabelle!F113","v":0},{"$f":"Profiltabelle!G113","v":0},{"$f":"Profiltabelle!H113","v":0}]
[{"$error":"#N/A"},{"$f":"Profiltabelle!C114","v":0},{"$f":"Profiltabelle!D114","v":0},{"$f":"Profiltabelle!E114","v":0},{"$f":"Profiltabelle!F114","v":0},{"$f":"Profiltabelle!G114","v":0},{"$f":"Profiltabelle!H114","v":0}]
[{"$error":"#N/A"},{"$f":"Profiltabelle!C115","v":0},{"$f":"Profiltabelle!D115","v":0},{"$f":"Profiltabelle!E115","v":0},{"$f":"Profiltabelle!F115","v":0},{"$f":"Profiltabelle!G115","v":0},{"$f":"Profiltabelle!H115","v":0}]
[{"$error":"#N/A"},{"$f":"Profiltabelle!C116","v":0},{"$f":"Profiltabelle!D116","v":0},{"$f":"Profiltabelle!E116","v":0},{"$f":"Profiltabelle!F116","v":0},{"$f":"Profiltabelle!G116","v":0},{"$f":"Profiltabelle!H116","v":0}]
[{"$error":"#N/A"},{"$f":"Profiltabelle!C117","v":0},{"$f":"Profiltabelle!D117","v":0},{"$f":"Profiltabelle!E117","v":0},{"$f":"Profiltabelle!F117","v":0},{"$f":"Profiltabelle!G117","v":0},{"$f":"Profiltabelle!H117","v":0}]
[{"$error":"#N/A"},{"$f":"Profiltabelle!C118","v":0},{"$f":"Profiltabelle!D118","v":0},{"$f":"Profiltabelle!E118","v":0},{"$f":"Profiltabelle!F118","v":0},{"$f":"Profiltabelle!G118","v":0},{"$f":"Profiltabelle!H118","v":0}]
[{"$error":"#N/A"},{"$f":"Profiltabelle!C119","v":0},{"$f":"Profiltabelle!D119","v":0},{"$f":"Profiltabelle!E119","v":0},{"$f":"Profiltabelle!F119","v":0},{"$f":"Profiltabelle!G119","v":0},{"$f":"Profiltabelle!H119","v":0}]
[{"$error":"#N/A"},{"$f":"Profiltabelle!C120","v":0},{"$f":"Profiltabelle!D120","v":0},{"$f":"Profiltabelle!E120","v":0},{"$f":"Profiltabelle!F120","v":0},{"$f":"Profiltabelle!G120","v":0},{"$f":"Profiltabelle!H120","v":0}]
[{"$error":"#N/A"},{"$f":"Profiltabelle!C121","v":0},{"$f":"Profiltabelle!D121","v":0},{"$f":"Profiltabelle!E121","v":0},{"$f":"Profiltabelle!F121","v":0},{"$f":"Profiltabelle!G121","v":0},{"$f":"Profiltabelle!H121","v":0}]
[{"$error":"#N/A"},{"$f":"Profiltabelle!C122","v":0},{"$f":"Profiltabelle!D122","v":0},{"$f":"Profiltabelle!E122","v":0},{"$f":"Profiltabelle!F122","v":0},{"$f":"Profiltabelle!G122","v":0},{"$f":"Profiltabelle!H122","v":0}]
[{"$error":"#N/A"},{"$f":"Profiltabelle!C123","v":0},{"$f":"Profiltabelle!D123","v":0},{"$f":"Profiltabelle!E123","v":0},{"$f":"Profiltabelle!F123","v":0},{"$f":"Profiltabelle!G123","v":0},{"$f":"Profiltabelle!H123","v":0}]
[{"$error":"#N/A"},{"$f":"Profiltabelle!C124","v":0},{"$f":"Profiltabelle!D124","v":0},{"$f":"Profiltabelle!E124","v":0},{"$f":"Profiltabelle!F124","v":0},{"$f":"Profiltabelle!G124","v":0},{"$f":"Profiltabelle!H124","v":0}]
[{"$error":"#N/A"},{"$f":"Profiltabelle!C125","v":0},{"$f":"Profiltabelle!D125","v":0},{"$f":"Profiltabelle!E125","v":0},{"$f":"Profiltabelle!F125","v":0},{"$f":"Profiltabelle!G125","v":0},{"$f":"Profiltabelle!H125","v":0}]
[{"$error":"#N/A"},{"$f":"Profiltabelle!C126","v":0},{"$f":"Profiltabelle!D126","v":0},{"$f":"Profiltabelle!E126","v":0},{"$f":"Profiltabelle!F126","v":0},{"$f":"Profiltabelle!G126","v":0},{"$f":"Profiltabelle!H126","v":0}]
[{"$error":"#N/A"},{"$f":"Profiltabelle!C127","v":0},{"$f":"Profiltabelle!D127","v":0},{"$f":"Profiltabelle!E127","v":0},{"$f":"Profiltabelle!F127","v":0},{"$f":"Profiltabelle!G127","v":0},{"$f":"Profiltabelle!H127","v":0}]
[{"$error":"#N/A"},{"$f":"Profiltabelle!C128","v":0},{"$f":"Profiltabelle!D128","v":0},{"$f":"Profiltabelle!E128","v":0},{"$f":"Profiltabelle!F128","v":0},{"$f":"Profiltabelle!G128","v":0},{"$f":"Profiltabelle!H128","v":0}]
[{"$error":"#N/A"},{"$f":"Profiltabelle!C129","v":0},{"$f":"Profiltabelle!D129","v":0},{"$f":"Profiltabelle!E129","v":0},{"$f":"Profiltabelle!F129","v":0},{"$f":"Profiltabelle!G129","v":0},{"$f":"Profiltabelle!H129","v":0}]
[{"$error":"#N/A"},{"$f":"Profiltabelle!C130","v":0},{"$f":"Profiltabelle!D130","v":0},{"$f":"Profiltabelle!E130","v":0},{"$f":"Profiltabelle!F130","v":0},{"$f":"Profiltabelle!G130","v":0},{"$f":"Profiltabelle!H130","v":0}]
[{"$error":"#N/A"},{"$f":"Profiltabelle!C131","v":0},{"$f":"Profiltabelle!D131","v":0},{"$f":"Profiltabelle!E131","v":0},{"$f":"Profiltabelle!F131","v":0},{"$f":"Profiltabelle!G131","v":0},{"$f":"Profiltabelle!H131","v":0}]
[{"$error":"#N/A"},{"$f":"Profiltabelle!C132","v":0},{"$f":"Profiltabelle!D132","v":0},{"$f":"Profiltabelle!E132","v":0},{"$f":"Profiltabelle!F132","v":0},{"$f":"Profiltabelle!G132","v":0},{"$f":"Profiltabelle!H132","v":0}]
[{"$error":"#N/A"},{"$f":"Profiltabelle!C133","v":0},{"$f":"Profiltabelle!D133","v":0},{"$f":"Profiltabelle!E133","v":0},{"$f":"Profiltabelle!F133","v":0},{"$f":"Profiltabelle!G133","v":0},{"$f":"Profiltabelle!H133","v":0}]
[{"$error":"#N/A"},{"$f":"Profiltabelle!C134","v":0},{"$f":"Profiltabelle!D134","v":0},{"$f":"Profiltabelle!E134","v":0},{"$f":"Profiltabelle!F134","v":0},{"$f":"Profiltabelle!G134","v":0},{"$f":"Profiltabelle!H134","v":0}]
[{"$error":"#N/A"},{"$f":"Profiltabelle!C135","v":0},{"$f":"Profiltabelle!D135","v":0},{"$f":"Profiltabelle!E135","v":0},{"$f":"Profiltabelle!F135","v":0},{"$f":"Profiltabelle!G135","v":0},{"$f":"Profiltabelle!H135","v":0}]
[{"$error":"#N/A"},{"$f":"Profiltabelle!C136","v":0},{"$f":"Profiltabelle!D136","v":0},{"$f":"Profiltabelle!E136","v":0},{"$f":"Profiltabelle!F136","v":0},{"$f":"Profiltabelle!G136","v":0},{"$f":"Profiltabelle!H136","v":0}]
[{"$error":"#N/A"},{"$f":"Profiltabelle!C137","v":0},{"$f":"Profiltabelle!D137","v":0},{"$f":"Profiltabelle!E137","v":0},{"$f":"Profiltabelle!F137","v":0},{"$f":"Profiltabelle!G137","v":0},{"$f":"Profiltabelle!H137","v":0}]
[{"$error":"#N/A"},{"$f":"Profiltabelle!C138","v":0},{"$f":"Profiltabelle!D138","v":0},{"$f":"Profiltabelle!E138","v":0},{"$f":"Profiltabelle!F138","v":0},{"$f":"Profiltabelle!G138","v":0},{"$f":"Profiltabelle!H138","v":0}]
[{"$error":"#N/A"},{"$f":"Profiltabelle!C139","v":0},{"$f":"Profiltabelle!D139","v":0},{"$f":"Profiltabelle!E139","v":0},{"$f":"Profiltabelle!F139","v":0},{"$f":"Profiltabelle!G139","v":0},{"$f":"Profiltabelle!H139","v":0}]
[{"$error":"#N/A"},{"$f":"Profiltabelle!C140","v":0},{"$f":"Profiltabelle!D140","v":0},{"$f":"Profiltabelle!E140","v":0},{"$f":"Profiltabelle!F140","v":0},{"$f":"Profiltabelle!G140","v":0},{"$f":"Profiltabelle!H140","v":0}]
[{"$error":"#N/A"},{"$f":"Profiltabelle!C141","v":0},{"$f":"Profiltabelle!D141","v":0},{"$f":"Profiltabelle!E141","v":0},{"$f":"Profiltabelle!F141","v":0},{"$f":"Profiltabelle!G141","v":0},{"$f":"Profiltabelle!H141","v":0}]
[{"$error":"#N/A"},{"$f":"Profiltabelle!C142","v":0},{"$f":"Profiltabelle!D142","v":0},{"$f":"Profiltabelle!E142","v":0},{"$f":"Profiltabelle!F142","v":0},{"$f":"Profiltabelle!G142","v":0},{"$f":"Profiltabelle!H142","v":0}]
[{"$error":"#N/A"},{"$f":"Profiltabelle!C143","v":0},{"$f":"Profiltabelle!D143","v":0},{"$f":"Profiltabelle!E143","v":0},{"$f":"Profiltabelle!F143","v":0},{"$f":"Profiltabelle!G143","v":0},{"$f":"Profiltabelle!H143","v":0}]
[{"$error":"#N/A"},{"$f":"Profiltabelle!C144","v":0},{"$f":"Profiltabelle!D144","v":0},{"$f":"Profiltabelle!E144","v":0},{"$f":"Profiltabelle!F144","v":0},{"$f":"Profiltabelle!G144","v":0},{"$f":"Profiltabelle!H144","v":0}]
[{"$error":"#N/A"},{"$f":"Profiltabelle!C145","v":0},{"$f":"Profiltabelle!D145","v":0},{"$f":"Profiltabelle!E145","v":0},{"$f":"Profiltabelle!F145","v":0},{"$f":"Profiltabelle!G145","v":0},{"$f":"Profiltabelle!H145","v":0}]
[{"$error":"#N/A"},{"$f":"Profiltabelle!C146","v":0},{"$f":"Profiltabelle!D146","v":0},{"$f":"Profiltabelle!E146","v":0},{"$f":"Profiltabelle!F146","v":0},{"$f":"Profiltabelle!G146","v":0},{"$f":"Profiltabelle!H146","v":0}]
[{"$error":"#N/A"},{"$f":"Profiltabelle!C147","v":0},{"$f":"Profiltabelle!D147","v":0},{"$f":"Profiltabelle!E147","v":0},{"$f":"Profiltabelle!F147","v":0},{"$f":"Profiltabelle!G147","v":0},{"$f":"Profiltabelle!H147","v":0}]
[{"$error":"#N/A"},{"$f":"Profiltabelle!C148","v":0},{"$f":"Profiltabelle!D148","v":0},{"$f":"Profiltabelle!E148","v":0},{"$f":"Profiltabelle!F148","v":0},{"$f":"Profiltabelle!G148","v":0},{"$f":"Profiltabelle!H148","v":0}]
[{"$error":"#N/A"},{"$f":"Profiltabelle!C149","v":0},{"$f":"Profiltabelle!D149","v":0},{"$f":"Profiltabelle!E149","v":0},{"$f":"Profiltabelle!F149","v":0},{"$f":"Profiltabelle!G149","v":0},{"$f":"Profiltabelle!H149","v":0}]
[{"$error":"#N/A"},{"$f":"Profiltabelle!C150","v":0},{"$f":"Profiltabelle!D150","v":0},{"$f":"Profiltabelle!E150","v":0},{"$f":"Profiltabelle!F150","v":0},{"$f":"Profiltabelle!G150","v":0},{"$f":"Profiltabelle!H150","v":0}]
[{"$error":"#N/A"},{"$f":"Profiltabelle!C151","v":0},{"$f":"Profiltabelle!D151","v":0},{"$f":"Profiltabelle!E151","v":0},{"$f":"Profiltabelle!F151","v":0},{"$f":"Profiltabelle!G151","v":0},{"$f":"Profiltabelle!H151","v":0}]
[{"$error":"#N/A"},{"$f":"Profiltabelle!C152","v":0},{"$f":"Profiltabelle!D152","v":0},{"$f":"Profiltabelle!E152","v":0},{"$f":"Profiltabelle!F152","v":0},{"$f":"Profiltabelle!G152","v":0},{"$f":"Profiltabelle!H152","v":0}]
[{"$error":"#N/A"},{"$f":"Profiltabelle!C153","v":0},{"$f":"Profiltabelle!D153","v":0},{"$f":"Profiltabelle!E153","v":0},{"$f":"Profiltabelle!F153","v":0},{"$f":"Profiltabelle!G153","v":0},{"$f":"Profiltabelle!H153","v":0}]
[{"$error":"#N/A"},{"$f":"Profiltabelle!C154","v":0},{"$f":"Profiltabelle!D154","v":0},{"$f":"Profiltabelle!E154","v":0},{"$f":"Profiltabelle!F154","v":0},{"$f":"Profiltabelle!G154","v":0},{"$f":"Profiltabelle!H154","v":0}]
[{"$error":"#N/A"},{"$f":"Profiltabelle!C155","v":0},{"$f":"Profiltabelle!D155","v":0},{"$f":"Profiltabelle!E155","v":0},{"$f":"Profiltabelle!F155","v":0},{"$f":"Profiltabelle!G155","v":0},{"$f":"Profiltabelle!H155","v":0}]
[{"$error":"#N/A"},{"$f":"Profiltabelle!C156","v":0},{"$f":"Profiltabelle!D156","v":0},{"$f":"Profiltabelle!E156","v":0},{"$f":"Profiltabelle!F156","v":0},{"$f":"Profiltabelle!G156","v":0},{"$f":"Profiltabelle!H156","v":0}]
[{"$error":"#N/A"},{"$f":"Profiltabelle!C157","v":0},{"$f":"Profiltabelle!D157","v":0},{"$f":"Profiltabelle!E157","v":0},{"$f":"Profiltabelle!F157","v":0},{"$f":"Profiltabelle!G157","v":0},{"$f":"Profiltabelle!H157","v":0}]
[{"$error":"#N/A"},{"$f":"Profiltabelle!C158","v":0},{"$f":"Profiltabelle!D158","v":0},{"$f":"Profiltabelle!E158","v":0},{"$f":"Profiltabelle!F158","v":0},{"$f":"Profiltabelle!G158","v":0},{"$f":"Profiltabelle!H158","v":0}]
[{"$error":"#N/A"},{"$f":"Profiltabelle!C159","v":0},{"$f":"Profiltabelle!D159","v":0},{"$f":"Profiltabelle!E159","v":0},{"$f":"Profiltabelle!F159","v":0},{"$f":"Profiltabelle!G159","v":0},{"$f":"Profiltabelle!H159","v":0}]
[{"$error":"#N/A"},{"$f":"Profiltabelle!C160","v":0},{"$f":"Profiltabelle!D160","v":0},{"$f":"Profiltabelle!E160","v":0},{"$f":"Profiltabelle!F160","v":0},{"$f":"Profiltabelle!G160","v":0},{"$f":"Profiltabelle!H160","v":0}]
[null,null,null,null,null,null,{"$f":"SUBTOTAL(103,Tabelle132469[WPU 7 WiPo])","v":149}]

{"sheet":"Kurstabelle","index":9,"n_rows":155,"n_cols":15,"rows_kept":155,"cut":false,"hidden":false,"merged":[]}
[]
[]
[null,null,null,{"$f":"SUMIF(E:E,43)/43","v":0},null,{"$f":"SUMIF(G:G,43)/43","v":0},null,{"$f":"SUMIF(I:I,43)/43","v":0},null,{"$f":"SUMIF(K:K,43)/43","v":0},null,{"$f":"SUMIF(M:M,43)/43","v":0},null,{"$f":"SUMIF(O:O,43)/43","v":0}]
[null,null,null,{"$f":"SUMIF(E:E,6)/6","v":0},null,{"$f":"SUMIF(G:G,6)/6","v":0},null,{"$f":"SUMIF(I:I,6)/6","v":0},null,{"$f":"SUMIF(K:K,6)/6","v":0},null,{"$f":"SUMIF(M:M,6)/6","v":0},null,{"$f":"SUMIF(O:O,6)/6","v":0}]
[null,null,null,{"$f":"SUMIF(E:E,44)/44","v":0},null,{"$f":"SUMIF(G:G,44)/44","v":0},null,{"$f":"SUMIF(I:I,44)/44","v":0},null,{"$f":"SUMIF(K:K,44)/44","v":0},null,{"$f":"SUMIF(M:M,44)/44","v":0},null,{"$f":"SUMIF(O:O,44)/44","v":0}]
[null,null,"Namen",{"$f":"Profiltabelle!$C$10","v":0},1,{"$f":"Profiltabelle!$D$10","v":0},2,{"$f":"Profiltabelle!$E$10","v":0},3,{"$f":"Profiltabelle!$F$10","v":0},4,{"$f":"Profiltabelle!$G$10","v":0},5,{"$f":"Profiltabelle!$H$10","v":0},7]
[null,null,{"$f":"Profiltabelle!B12","v":{"$error":"#REF!"}},{"$f":"Profiltabelle!C12","v":0},{"$f":"Farbe","v":0},{"$f":"Profiltabelle!D12","v":0},{"$f":"Farbe","v":0},{"$f":"Profiltabelle!E12","v":0},{"$f":"Farbe","v":0},{"$f":"Profiltabelle!F12","v":0},{"$f":"Farbe","v":0},{"$f":"Profiltabelle!G12","v":0},{"$f":"Farbe","v":0},{"$f":"Profiltabelle!H12","v":0},{"$f":"Farbe","v":0}]
[null,null,{"$f":"Profiltabelle!B13","v":{"$error":"#REF!"}},{"$f":"Profiltabelle!C13","v":0},{"$f":"Farbe","v":0},{"$f":"Profiltabelle!D13","v":0},{"$f":"Farbe","v":0},{"$f":"Profiltabelle!E13","v":0},{"$f":"Farbe","v":0},{"$f":"Profiltabelle!F13","v":0},{"$f":"Farbe","v":0},{"$f":"Profiltabelle!G13","v":0},{"$f":"Farbe","v":0},{"$f":"Profiltabelle!H13","v":0},{"$f":"Farbe","v":0}]
[null,null,{"$f":"Profiltabelle!B14","v":{"$error":"#REF!"}},{"$f":"Profiltabelle!C14","v":0},{"$f":"Farbe","v":0},{"$f":"Profiltabelle!D14","v":0},{"$f":"Farbe","v":0},{"$f":"Profiltabelle!E14","v":0},{"$f":"Farbe","v":0},{"$f":"Profiltabelle!F14","v":0},{"$f":"Farbe","v":0},{"$f":"Profiltabelle!G14","v":0},{"$f":"Farbe","v":0},{"$f":"Profiltabelle!H14","v":0},{"$f":"Farbe","v":0}]
[null,null,{"$f":"Profiltabelle!B15","v":{"$error":"#REF!"}},{"$f":"Profiltabelle!C15","v":0},{"$f":"Farbe","v":0},{"$f":"Profiltabelle!D15","v":0},{"$f":"Farbe","v":0},{"$f":"Profiltabelle!E15","v":0},{"$f":"Farbe","v":0},{"$f":"Profiltabelle!F15","v":0},{"$f":"Farbe","v":0},{"$f":"Profiltabelle!G15","v":0},{"$f":"Farbe","v":0},{"$f":"Profiltabelle!H15","v":0},{"$f":"Farbe","v":0}]
[null,null,{"$f":"Profiltabelle!B16","v":{"$error":"#REF!"}},{"$f":"Profiltabelle!C16","v":0},{"$f":"Farbe","v":0},{"$f":"Profiltabelle!D16","v":0},{"$f":"Farbe","v":0},{"$f":"Profiltabelle!E16","v":0},{"$f":"Farbe","v":0},{"$f":"Profiltabelle!F16","v":0},{"$f":"Farbe","v":0},{"$f":"Profiltabelle!G16","v":0},{"$f":"Farbe","v":0},{"$f":"Profiltabelle!H16","v":0},{"$f":"Farbe","v":0}]
[null,null,{"$f":"Profiltabelle!B17","v":{"$error":"#REF!"}},{"$f":"Profiltabelle!C17","v":0},{"$f":"Farbe","v":0},{"$f":"Profiltabelle!D17","v":0},{"$f":"Farbe","v":0},{"$f":"Profiltabelle!E17","v":0},{"$f":"Farbe","v":0},{"$f":"Profiltabelle!F17","v":0},{"$f":"Farbe","v":0},{"$f":"Profiltabelle!G17","v":0},{"$f":"Farbe","v":0},{"$f":"Profiltabelle!H17","v":0},{"$f":"Farbe","v":0}]
[null,null,{"$f":"Profiltabelle!B18","v":{"$error":"#REF!"}},{"$f":"Profiltabelle!C18","v":0},{"$f":"Farbe","v":0},{"$f":"Profiltabelle!D18","v":0},{"$f":"Farbe","v":0},{"$f":"Profiltabelle!E18","v":0},{"$f":"Farbe","v":0},{"$f":"Profiltabelle!F18","v":0},{"$f":"Farbe","v":0},{"$f":"Profiltabelle!G18","v":0},{"$f":"Farbe","v":0},{"$f":"Profiltabelle!H18","v":0},{"$f":"Farbe","v":0}]
[null,null,{"$f":"Profiltabelle!B19","v":{"$error":"#REF!"}},{"$f":"Profiltabelle!C19","v":0},{"$f":"Farbe","v":0},{"$f":"Profiltabelle!D19","v":0},{"$f":"Farbe","v":0},{"$f":"Profiltabelle!E19","v":0},{"$f":"Farbe","v":0},{"$f":"Profiltabelle!F19","v":0},{"$f":"Farbe","v":0},{"$f":"Profiltabelle!G19","v":0},{"$f":"Farbe","v":0},{"$f":"Profiltabelle!H19","v":0},{"$f":"Farbe","v":0}]
[null,null,{"$f":"Profiltabelle!B20","v":{"$error":"#REF!"}},{"$f":"Profiltabelle!C20","v":0},{"$f":"Farbe","v":0},{"$f":"Profiltabelle!D20","v":0},{"$f":"Farbe","v":0},{"$f":"Profiltabelle!E20","v":0},{"$f":"Farbe","v":0},{"$f":"Profiltabelle!F20","v":0},{"$f":"Farbe","v":0},{"$f":"Profiltabelle!G20","v":0},{"$f":"Farbe","v":0},{"$f":"Profiltabelle!H20","v":0},{"$f":"Farbe","v":0}]
[null,null,{"$f":"Profiltabelle!B21","v":{"$error":"#REF!"}},{"$f":"Profiltabelle!C21","v":0},{"$f":"Farbe","v":0},{"$f":"Profiltabelle!D21","v":0},{"$f":"Farbe","v":0},{"$f":"Profiltabelle!E21","v":0},{"$f":"Farbe","v":0},{"$f":"Profiltabelle!F21","v":0},{"$f":"Farbe","v":0},{"$f":"Profiltabelle!G21","v":0},{"$f":"Farbe","v":0},{"$f":"Profiltabelle!H21","v":0},{"$f":"Farbe","v":0}]
[null,null,{"$f":"Profiltabelle!B22","v":{"$error":"#REF!"}},{"$f":"Profiltabelle!C22","v":0},{"$f":"Farbe","v":0},{"$f":"Profiltabelle!D22","v":0},{"$f":"Farbe","v":0},{"$f":"Profiltabelle!E22","v":0},{"$f":"Farbe","v":0},{"$f":"Profiltabelle!F22","v":0},{"$f":"Farbe","v":0},{"$f":"Profiltabelle!G22","v":0},{"$f":"Farbe","v":0},{"$f":"Profiltabelle!H22","v":0},{"$f":"Farbe","v":0}]
[null,null,{"$f":"Profiltabelle!B23","v":{"$error":"#REF!"}},{"$f":"Profiltabelle!C23","v":0},{"$f":"Farbe","v":0},{"$f":"Profiltabelle!D23","v":0},{"$f":"Farbe","v":0},{"$f":"Profiltabelle!E23","v":0},{"$f":"Farbe","v":0},{"$f":"Profiltabelle!F23","v":0},{"$f":"Farbe","v":0},{"$f":"Profiltabelle!G23","v":0},{"$f":"Farbe","v":0},{"$f":"Profiltabelle!H23","v":0},{"$f":"Farbe","v":0}]
[null,null,{"$f":"Profiltabelle!B24","v":{"$error":"#REF!"}},{"$f":"Profiltabelle!C24","v":0},{"$f":"Farbe","v":0},{"$f":"Profiltabelle!D24","v":0},{"$f":"Farbe","v":0},{"$f":"Profiltabelle!E24","v":0},{"$f":"Farbe","v":0},{"$f":"Profiltabelle!F24","v":0},{"$f":"Farbe","v":0},{"$f":"Profiltabelle!G24","v":0},{"$f":"Farbe","v":0},{"$f":"Profiltabelle!H24","v":0},{"$f":"Farbe","v":0}]
[null,null,{"$f":"Profiltabelle!B25","v":{"$error":"#REF!"}},{"$f":"Profiltabelle!C25","v":0},{"$f":"Farbe","v":0},{"$f":"Profiltabelle!D25","v":0},{"$f":"Farbe","v":0},{"$f":"Profiltabelle!E25","v":0},{"$f":"Farbe","v":0},{"$f":"Profiltabelle!F25","v":0},{"$f":"Farbe","v":0},{"$f":"Profiltabelle!G25","v":0},{"$f":"Farbe","v":0},{"$f":"Profiltabelle!H25","v":0},{"$f":"Farbe","v":0}]
[null,null,{"$f":"Profiltabelle!B26","v":{"$error":"#REF!"}},{"$f":"Profiltabelle!C26","v":0},{"$f":"Farbe","v":0},{"$f":"Profiltabelle!D26","v":0},{"$f":"Farbe","v":0},{"$f":"Profiltabelle!E26","v":0},{"$f":"Farbe","v":0},{"$f":"Profiltabelle!F26","v":0},{"$f":"Farbe","v":0},{"$f":"Profiltabelle!G26","v":0},{"$f":"Farbe","v":0},{"$f":"Profiltabelle!H26","v":0},{"$f":"Farbe","v":0}]
[null,null,{"$f":"Profiltabelle!B27","v":{"$error":"#REF!"}},{"$f":"Profiltabelle!C27","v":0},{"$f":"Farbe","v":0},{"$f":"Profiltabelle!D27","v":0},{"$f":"Farbe","v":0},{"$f":"Profiltabelle!E27","v":0},{"$f":"Farbe","v":0},{"$f":"Profiltabelle!F27","v":0},{"$f":"Farbe","v":0},{"$f":"Profiltabelle!G27","v":0},{"$f":"Farbe","v":0},{"$f":"Profiltabelle!H27","v":0},{"$f":"Farbe","v":0}]
[null,null,{"$f":"Profiltabelle!B28","v":{"$error":"#REF!"}},{"$f":"Profiltabelle!C28","v":0},{"$f":"Farbe","v":0},{"$f":"Profiltabelle!D28","v":0},{"$f":"Farbe","v":0},{"$f":"Profiltabelle!E28","v":0},{"$f":"Farbe","v":0},{"$f":"Profiltabelle!F28","v":0},{"$f":"Farbe","v":0},{"$f":"Profiltabelle!G28","v":0},{"$f":"Farbe","v":0},{"$f":"Profiltabelle!H28","v":0},{"$f":"Farbe","v":0}]
[null,null,{"$f":"Profiltabelle!B29","v":{"$error":"#REF!"}},{"$f":"Profiltabelle!C29","v":0},{"$f":"Farbe","v":0},{"$f":"Profiltabelle!D29","v":0},{"$f":"Farbe","v":0},{"$f":"Profiltabelle!E29","v":0},{"$f":"Farbe","v":0},{"$f":"Profiltabelle!F29","v":0},{"$f":"Farbe","v":0},{"$f":"Profiltabelle!G29","v":0},{"$f":"Farbe","v":0},{"$f":"Profiltabelle!H29","v":0},{"$f":"Farbe","v":0}]
[null,null,{"$f":"Profiltabelle!B30","v":{"$error":"#REF!"}},{"$f":"Profiltabelle!C30","v":0},{"$f":"Farbe","v":0},{"$f":"Profiltabelle!D30","v":0},{"$f":"Farbe","v":0},{"$f":"Profiltabelle!E30","v":0},{"$f":"Farbe","v":0},{"$f":"Profiltabelle!F30","v":0},{"$f":"Farbe","v":0},{"$f":"Profiltabelle!G30","v":0},{"$f":"Farbe","v":0},{"$f":"Profiltabelle!H30","v":0},{"$f":"Farbe","v":0}]
[null,null,{"$f":"Profiltabelle!B31","v":{"$error":"#REF!"}},{"$f":"Profiltabelle!C31","v":0},{"$f":"Farbe","v":0},{"$f":"Profiltabelle!D31","v":0},{"$f":"Farbe","v":0},{"$f":"Profiltabelle!E31","v":0},{"$f":"Farbe","v":0},{"$f":"Profiltabelle!F31","v":0},{"$f":"Farbe","v":0},{"$f":"Profiltabelle!G31","v":0},{"$f":"Farbe","v":0},{"$f":"Profiltabelle!H31","v":0},{"$f":"Farbe","v":0}]
[null,null,{"$f":"Profiltabelle!B32","v":{"$error":"#REF!"}},{"$f":"Profiltabelle!C32","v":0},{"$f":"Farbe","v":0},{"$f":"Profiltabelle!D32","v":0},{"$f":"Farbe","v":0},{"$f":"Profiltabelle!E32","v":0},{"$f":"Farbe","v":0},{"$f":"Profiltabelle!F32","v":0},{"$f":"Farbe","v":0},{"$f":"Profiltabelle!G32","v":0},{"$f":"Farbe","v":0},{"$f":"Profiltabelle!H32","v":0},{"$f":"Farbe","v":0}]
[null,null,{"$f":"Profiltabelle!B33","v":{"$error":"#REF!"}},{"$f":"Profiltabelle!C33","v":0},{"$f":"Farbe","v":0},{"$f":"Profiltabelle!D33","v":0},{"$f":"Farbe","v":0},{"$f":"Profiltabelle!E33","v":0},{"$f":"Farbe","v":0},{"$f":"Profiltabelle!F33","v":0},{"$f":"Farbe","v":0},{"$f":"Profiltabelle!G33","v":0},{"$f":"Farbe","v":0},{"$f":"Profiltabelle!H33","v":0},{"$f":"Farbe","v":0}]
[null,null,{"$f":"Profiltabelle!B34","v":{"$error":"#REF!"}},{"$f":"Profiltabelle!C34","v":0},{"$f":"Farbe","v":0},{"$f":"Profiltabelle!D34","v":0},{"$f":"Farbe","v":0},{"$f":"Profiltabelle!E34","v":0},{"$f":"Farbe","v":0},{"$f":"Profiltabelle!F34","v":0},{"$f":"Farbe","v":0},{"$f":"Profiltabelle!G34","v":0},{"$f":"Farbe","v":0},{"$f":"Profiltabelle!H34","v":0},{"$f":"Farbe","v":0}]
[null,null,{"$f":"Profiltabelle!B35","v":{"$error":"#REF!"}},{"$f":"Profiltabelle!C35","v":0},{"$f":"Farbe","v":0},{"$f":"Profiltabelle!D35","v":0},{"$f":"Farbe","v":0},{"$f":"Profiltabelle!E35","v":0},{"$f":"Farbe","v":0},{"$f":"Profiltabelle!F35","v":0},{"$f":"Farbe","v":0},{"$f":"Profiltabelle!G35","v":0},{"$f":"Farbe","v":0},{"$f":"Profiltabelle!H35","v":0},{"$f":"Farbe","v":0}]
[null,null,{"$f":"Profiltabelle!B36","v":{"$error":"#REF!"}},{"$f":"Profiltabelle!C36","v":0},{"$f":"Farbe","v":0},{"$f":"Profiltabelle!D36","v":0},{"$f":"Farbe","v":0},{"$f":"Profiltabelle!E36","v":0},{"$f":"Farbe","v":0},{"$f":"Profiltabelle!F36","v":0},{"$f":"Farbe","v":0},{"$f":"Profiltabelle!G36","v":0},{"$f":"Farbe","v":0},{"$f":"Profiltabelle!H36","v":0},{"$f":"Farbe","v":0}]
[null,null,{"$f":"Profiltabelle!B37","v":{"$error":"#REF!"}},{"$f":"Profiltabelle!C37","v":0},{"$f":"Farbe","v":0},{"$f":"Profiltabelle!D37","v":0},{"$f":"Farbe","v":0},{"$f":"Profiltabelle!E37","v":0},{"$f":"Farbe","v":0},{"$f":"Profiltabelle!F37","v":0},{"$f":"Farbe","v":0},{"$f":"Profiltabelle!G37","v":0},{"$f":"Farbe","v":0},{"$f":"Profiltabelle!H37","v":0},{"$f":"Farbe","v":0}]
[null,null,{"$f":"Profiltabelle!B38","v":{"$error":"#REF!"}},{"$f":"Profiltabelle!C38","v":0},{"$f":"Farbe","v":0},{"$f":"Profiltabelle!D38","v":0},{"$f":"Farbe","v":0},{"$f":"Profiltabelle!E38","v":0},{"$f":"Farbe","v":0},{"$f":"Profiltabelle!F38","v":0},{"$f":"Farbe","v":0},{"$f":"Profiltabelle!G38","v":0},{"$f":"Farbe","v":0},{"$f":"Profiltabelle!H38","v":0},{"$f":"Farbe","v":0}]
[null,null,{"$f":"Profiltabelle!B39","v":{"$error":"#REF!"}},{"$f":"Profiltabelle!C39","v":0},{"$f":"Farbe","v":0},{"$f":"Profiltabelle!D39","v":0},{"$f":"Farbe","v":0},{"$f":"Profiltabelle!E39","v":0},{"$f":"Farbe","v":0},{"$f":"Profiltabelle!F39","v":0},{"$f":"Farbe","v":0},{"$f":"Profiltabelle!G39","v":0},{"$f":"Farbe","v":0},{"$f":"Profiltabelle!H39","v":0},{"$f":"Farbe","v":0}]
[null,null,{"$f":"Profiltabelle!B40","v":{"$error":"#REF!"}},{"$f":"Profiltabelle!C40","v":0},{"$f":"Farbe","v":0},{"$f":"Profiltabelle!D40","v":0},{"$f":"Farbe","v":0},{"$f":"Profiltabelle!E40","v":0},{"$f":"Farbe","v":0},{"$f":"Profiltabelle!F40","v":0},{"$f":"Farbe","v":0},{"$f":"Profiltabelle!G40","v":0},{"$f":"Farbe","v":0},{"$f":"Profiltabelle!H40","v":0},{"$f":"Farbe","v":0}]
[null,null,{"$f":"Profiltabelle!B41","v":{"$error":"#REF!"}},{"$f":"Profiltabelle!C41","v":0},{"$f":"Farbe","v":0},{"$f":"Profiltabelle!D41","v":0},{"$f":"Farbe","v":0},{"$f":"Profiltabelle!E41","v":0},{"$f":"Farbe","v":0},{"$f":"Profiltabelle!F41","v":0},{"$f":"Farbe","v":0},{"$f":"Profiltabelle!G41","v":0},{"$f":"Farbe","v":0},{"$f":"Profiltabelle!H41","v":0},{"$f":"Farbe","v":0}]
[null,null,{"$f":"Profiltabelle!B42","v":{"$error":"#REF!"}},{"$f":"Profiltabelle!C42","v":0},{"$f":"Farbe","v":0},{"$f":"Profiltabelle!D42","v":0},{"$f":"Farbe","v":0},{"$f":"Profiltabelle!E42","v":0},{"$f":"Farbe","v":0},{"$f":"Profiltabelle!F42","v":0},{"$f":"Farbe","v":0},{"$f":"Profiltabelle!G42","v":0},{"$f":"Farbe","v":0},{"$f":"Profiltabelle!H42","v":0},{"$f":"Farbe","v":0}]
[null,null,{"$f":"Profiltabelle!B43","v":{"$error":"#REF!"}},{"$f":"Profiltabelle!C43","v":0},{"$f":"Farbe","v":0},{"$f":"Profiltabelle!D43","v":0},{"$f":"Farbe","v":0},{"$f":"Profiltabelle!E43","v":0},{"$f":"Farbe","v":0},{"$f":"Profiltabelle!F43","v":0},{"$f":"Farbe","v":0},{"$f":"Profiltabelle!G43","v":0},{"$f":"Farbe","v":0},{"$f":"Profiltabelle!H43","v":0},{"$f":"Farbe","v":0}]
[null,null,{"$f":"Profiltabelle!B44","v":{"$error":"#REF!"}},{"$f":"Profiltabelle!C44","v":0},{"$f":"Farbe","v":0},{"$f":"Profiltabelle!D44","v":0},{"$f":"Farbe","v":0},{"$f":"Profiltabelle!E44","v":0},{"$f":"Farbe","v":0},{"$f":"Profiltabelle!F44","v":0},{"$f":"Farbe","v":0},{"$f":"Profiltabelle!G44","v":0},{"$f":"Farbe","v":0},{"$f":"Profiltabelle!H44","v":0},{"$f":"Farbe","v":0}]
[null,null,{"$f":"Profiltabelle!B45","v":{"$error":"#REF!"}},{"$f":"Profiltabelle!C45","v":0},{"$f":"Farbe","v":0},{"$f":"Profiltabelle!D45","v":0},{"$f":"Farbe","v":0},{"$f":"Profiltabelle!E45","v":0},{"$f":"Farbe","v":0},{"$f":"Profiltabelle!F45","v":0},{"$f":"Farbe","v":0},{"$f":"Profiltabelle!G45","v":0},{"$f":"Farbe","v":0},{"$f":"Profiltabelle!H45","v":0},{"$f":"Farbe","v":0}]
[null,null,{"$f":"Profiltabelle!B46","v":{"$error":"#REF!"}},{"$f":"Profiltabelle!C46","v":0},{"$f":"Farbe","v":0},{"$f":"Profiltabelle!D46","v":0},{"$f":"Farbe","v":0},{"$f":"Profiltabelle!E46","v":0},{"$f":"Farbe","v":0},{"$f":"Profiltabelle!F46","v":0},{"$f":"Farbe","v":0},{"$f":"Profiltabelle!G46","v":0},{"$f":"Farbe","v":0},{"$f":"Profiltabelle!H46","v":0},{"$f":"Farbe","v":0}]
[null,null,{"$f":"Profiltabelle!B47","v":{"$error":"#REF!"}},{"$f":"Profiltabelle!C47","v":0},{"$f":"Farbe","v":0},{"$f":"Profiltabelle!D47","v":0},{"$f":"Farbe","v":0},{"$f":"Profiltabelle!E47","v":0},{"$f":"Farbe","v":0},{"$f":"Profiltabelle!F47","v":0},{"$f":"Farbe","v":0},{"$f":"Profiltabelle!G47","v":0},{"$f":"Farbe","v":0},{"$f":"Profiltabelle!H47","v":0},{"$f":"Farbe","v":0}]
[null,null,{"$f":"Profiltabelle!B48","v":{"$error":"#REF!"}},{"$f":"Profiltabelle!C48","v":0},{"$f":"Farbe","v":0},{"$f":"Profiltabelle!D48","v":0},{"$f":"Farbe","v":0},{"$f":"Profiltabelle!E48","v":0},{"$f":"Farbe","v":0},{"$f":"Profiltabelle!F48","v":0},{"$f":"Farbe","v":0},{"$f":"Profiltabelle!G48","v":0},{"$f":"Farbe","v":0},{"$f":"Profiltabelle!H48","v":0},{"$f":"Farbe","v":0}]
[null,null,{"$f":"Profiltabelle!B49","v":{"$error":"#REF!"}},{"$f":"Profiltabelle!C49","v":0},{"$f":"Farbe","v":0},{"$f":"Profiltabelle!D49","v":0},{"$f":"Farbe","v":0},{"$f":"Profiltabelle!E49","v":0},{"$f":"Farbe","v":0},{"$f":"Profiltabelle!F49","v":0},{"$f":"Farbe","v":0},{"$f":"Profiltabelle!G49","v":0},{"$f":"Farbe","v":0},{"$f":"Profiltabelle!H49","v":0},{"$f":"Farbe","v":0}]
[null,null,{"$f":"Profiltabelle!B50","v":{"$error":"#REF!"}},{"$f":"Profiltabelle!C50","v":0},{"$f":"Farbe","v":0},{"$f":"Profiltabelle!D50","v":0},{"$f":"Farbe","v":0},{"$f":"Profiltabelle!E50","v":0},{"$f":"Farbe","v":0},{"$f":"Profiltabelle!F50","v":0},{"$f":"Farbe","v":0},{"$f":"Profiltabelle!G50","v":0},{"$f":"Farbe","v":0},{"$f":"Profiltabelle!H50","v":0},{"$f":"Farbe","v":0}]
[null,null,{"$f":"Profiltabelle!B51","v":{"$error":"#REF!"}},{"$f":"Profiltabelle!C51","v":0},{"$f":"Farbe","v":0},{"$f":"Profiltabelle!D51","v":0},{"$f":"Farbe","v":0},{"$f":"Profiltabelle!E51","v":0},{"$f":"Farbe","v":0},{"$f":"Profiltabelle!F51","v":0},{"$f":"Farbe","v":0},{"$f":"Profiltabelle!G51","v":0},{"$f":"Farbe","v":0},{"$f":"Profiltabelle!H51","v":0},{"$f":"Farbe","v":0}]
[null,null,{"$f":"Profiltabelle!B52","v":{"$error":"#REF!"}},{"$f":"Profiltabelle!C52","v":0},{"$f":"Farbe","v":0},{"$f":"Profiltabelle!D52","v":0},{"$f":"Farbe","v":0},{"$f":"Profiltabelle!E52","v":0},{"$f":"Farbe","v":0},{"$f":"Profiltabelle!F52","v":0},{"$f":"Farbe","v":0},{"$f":"Profiltabelle!G52","v":0},{"$f":"Farbe","v":0},{"$f":"Profiltabelle!H52","v":0},{"$f":"Farbe","v":0}]
[null,null,{"$f":"Profiltabelle!B53","v":{"$error":"#REF!"}},{"$f":"Profiltabelle!C53","v":0},{"$f":"Farbe","v":0},{"$f":"Profiltabelle!D53","v":0},{"$f":"Farbe","v":0},{"$f":"Profiltabelle!E53","v":0},{"$f":"Farbe","v":0},{"$f":"Profiltabelle!F53","v":0},{"$f":"Farbe","v":0},{"$f":"Profiltabelle!G53","v":0},{"$f":"Farbe","v":0},{"$f":"Profiltabelle!H53","v":0},{"$f":"Farbe","v":0}]
[null,null,{"$f":"Profiltabelle!B54","v":{"$error":"#REF!"}},{"$f":"Profiltabelle!C54","v":0},{"$f":"Farbe","v":0},{"$f":"Profiltabelle!D54","v":0},{"$f":"Farbe","v":0},{"$f":"Profiltabelle!E54","v":0},{"$f":"Farbe","v":0},{"$f":"Profiltabelle!F54","v":0},{"$f":"Farbe","v":0},{"$f":"Profiltabelle!G54","v":0},{"$f":"Farbe","v":0},{"$f":"Profiltabelle!H54","v":0},{"$f":"Farbe","v":0}]
[null,null,{"$f":"Profiltabelle!B55","v":{"$error":"#REF!"}},{"$f":"Profiltabelle!C55","v":0},{"$f":"Farbe","v":0},{"$f":"Profiltabelle!D55","v":0},{"$f":"Farbe","v":0},{"$f":"Profiltabelle!E55","v":0},{"$f":"Farbe","v":0},{"$f":"Profiltabelle!F55","v":0},{"$f":"Farbe","v":0},{"$f":"Profiltabelle!G55","v":0},{"$f":"Farbe","v":0},{"$f":"Profiltabelle!H55","v":0},{"$f":"Farbe","v":0}]
[null,null,{"$f":"Profiltabelle!B56","v":{"$error":"#REF!"}},{"$f":"Profiltabelle!C56","v":0},{"$f":"Farbe","v":0},{"$f":"Profiltabelle!D56","v":0},{"$f":"Farbe","v":0},{"$f":"Profiltabelle!E56","v":0},{"$f":"Farbe","v":0},{"$f":"Profiltabelle!F56","v":0},{"$f":"Farbe","v":0},{"$f":"Profiltabelle!G56","v":0},{"$f":"Farbe","v":0},{"$f":"Profiltabelle!H56","v":0},{"$f":"Farbe","v":0}]
[null,null,{"$f":"Profiltabelle!B57","v":{"$error":"#REF!"}},{"$f":"Profiltabelle!C57","v":0},{"$f":"Farbe","v":0},{"$f":"Profiltabelle!D57","v":0},{"$f":"Farbe","v":0},{"$f":"Profiltabelle!E57","v":0},{"$f":"Farbe","v":0},{"$f":"Profiltabelle!F57","v":0},{"$f":"Farbe","v":0},{"$f":"Profiltabelle!G57","v":0},{"$f":"Farbe","v":0},{"$f":"Profiltabelle!H57","v":0},{"$f":"Farbe","v":0}]
[null,null,{"$f":"Profiltabelle!B58","v":{"$error":"#REF!"}},{"$f":"Profiltabelle!C58","v":0},{"$f":"Farbe","v":0},{"$f":"Profiltabelle!D58","v":0},{"$f":"Farbe","v":0},{"$f":"Profiltabelle!E58","v":0},{"$f":"Farbe","v":0},{"$f":"Profiltabelle!F58","v":0},{"$f":"Farbe","v":0},{"$f":"Profiltabelle!G58","v":0},{"$f":"Farbe","v":0},{"$f":"Profiltabelle!H58","v":0},{"$f":"Farbe","v":0}]
[null,null,{"$f":"Profiltabelle!B59","v":{"$error":"#REF!"}},{"$f":"Profiltabelle!C59","v":0},{"$f":"Farbe","v":0},{"$f":"Profiltabelle!D59","v":0},{"$f":"Farbe","v":0},{"$f":"Profiltabelle!E59","v":0},{"$f":"Farbe","v":0},{"$f":"Profiltabelle!F59","v":0},{"$f":"Farbe","v":0},{"$f":"Profiltabelle!G59","v":0},{"$f":"Farbe","v":0},{"$f":"Profiltabelle!H59","v":0},{"$f":"Farbe","v":0}]
[null,null,{"$f":"Profiltabelle!B60","v":{"$error":"#REF!"}},{"$f":"Profiltabelle!C60","v":0},{"$f":"Farbe","v":0},{"$f":"Profiltabelle!D60","v":0},{"$f":"Farbe","v":0},{"$f":"Profiltabelle!E60","v":0},{"$f":"Farbe","v":0},{"$f":"Profiltabelle!F60","v":0},{"$f":"Farbe","v":0},{"$f":"Profiltabelle!G60","v":0},{"$f":"Farbe","v":0},{"$f":"Profiltabelle!H60","v":0},{"$f":"Farbe","v":0}]
[null,null,{"$f":"Profiltabelle!B61","v":{"$error":"#REF!"}},{"$f":"Profiltabelle!C61","v":0},{"$f":"Farbe","v":0},{"$f":"Profiltabelle!D61","v":0},{"$f":"Farbe","v":0},{"$f":"Profiltabelle!E61","v":0},{"$f":"Farbe","v":0},{"$f":"Profiltabelle!F61","v":0},{"$f":"Farbe","v":0},{"$f":"Profiltabelle!G61","v":0},{"$f":"Farbe","v":0},{"$f":"Profiltabelle!H61","v":0},{"$f":"Farbe","v":0}]
[null,null,{"$f":"Profiltabelle!B62","v":{"$error":"#REF!"}},{"$f":"Profiltabelle!C62","v":0},{"$f":"Farbe","v":0},{"$f":"Profiltabelle!D62","v":0},{"$f":"Farbe","v":0},{"$f":"Profiltabelle!E62","v":0},{"$f":"Farbe","v":0},{"$f":"Profiltabelle!F62","v":0},{"$f":"Farbe","v":0},{"$f":"Profiltabelle!G62","v":0},{"$f":"Farbe","v":0},{"$f":"Profiltabelle!H62","v":0},{"$f":"Farbe","v":0}]
[null,null,{"$f":"Profiltabelle!B63","v":{"$error":"#REF!"}},{"$f":"Profiltabelle!C63","v":0},{"$f":"Farbe","v":0},{"$f":"Profiltabelle!D63","v":0},{"$f":"Farbe","v":0},{"$f":"Profiltabelle!E63","v":0},{"$f":"Farbe","v":0},{"$f":"Profiltabelle!F63","v":0},{"$f":"Farbe","v":0},{"$f":"Profiltabelle!G63","v":0},{"$f":"Farbe","v":0},{"$f":"Profiltabelle!H63","v":0},{"$f":"Farbe","v":0}]
[null,null,{"$f":"Profiltabelle!B64","v":{"$error":"#REF!"}},{"$f":"Profiltabelle!C64","v":0},{"$f":"Farbe","v":0},{"$f":"Profiltabelle!D64","v":0},{"$f":"Farbe","v":0},{"$f":"Profiltabelle!E64","v":0},{"$f":"Farbe","v":0},{"$f":"Profiltabelle!F64","v":0},{"$f":"Farbe","v":0},{"$f":"Profiltabelle!G64","v":0},{"$f":"Farbe","v":0},{"$f":"Profiltabelle!H64","v":0},{"$f":"Farbe","v":0}]
[null,null,{"$f":"Profiltabelle!B65","v":{"$error":"#REF!"}},{"$f":"Profiltabelle!C65","v":0},{"$f":"Farbe","v":0},{"$f":"Profiltabelle!D65","v":0},{"$f":"Farbe","v":0},{"$f":"Profiltabelle!E65","v":0},{"$f":"Farbe","v":0},{"$f":"Profiltabelle!F65","v":0},{"$f":"Farbe","v":0},{"$f":"Profiltabelle!G65","v":0},{"$f":"Farbe","v":0},{"$f":"Profiltabelle!H65","v":0},{"$f":"Farbe","v":0}]
[null,null,{"$f":"Profiltabelle!B66","v":{"$error":"#REF!"}},{"$f":"Profiltabelle!C66","v":0},{"$f":"Farbe","v":0},{"$f":"Profiltabelle!D66","v":0},{"$f":"Farbe","v":0},{"$f":"Profiltabelle!E66","v":0},{"$f":"Farbe","v":0},{"$f":"Profiltabelle!F66","v":0},{"$f":"Farbe","v":0},{"$f":"Profiltabelle!G66","v":0},{"$f":"Farbe","v":0},{"$f":"Profiltabelle!H66","v":0},{"$f":"Farbe","v":0}]
[null,null,{"$f":"Profiltabelle!B67","v":{"$error":"#REF!"}},{"$f":"Profiltabelle!C67","v":0},{"$f":"Farbe","v":0},{"$f":"Profiltabelle!D67","v":0},{"$f":"Farbe","v":0},{"$f":"Profiltabelle!E67","v":0},{"$f":"Farbe","v":0},{"$f":"Profiltabelle!F67","v":0},{"$f":"Farbe","v":0},{"$f":"Profiltabelle!G67","v":0},{"$f":"Farbe","v":0},{"$f":"Profiltabelle!H67","v":0},{"$f":"Farbe","v":0}]
[null,null,{"$f":"Profiltabelle!B68","v":{"$error":"#REF!"}},{"$f":"Profiltabelle!C68","v":0},{"$f":"Farbe","v":0},{"$f":"Profiltabelle!D68","v":0},{"$f":"Farbe","v":0},{"$f":"Profiltabelle!E68","v":0},{"$f":"Farbe","v":0},{"$f":"Profiltabelle!F68","v":0},{"$f":"Farbe","v":0},{"$f":"Profiltabelle!G68","v":0},{"$f":"Farbe","v":0},{"$f":"Profiltabelle!H68","v":0},{"$f":"Farbe","v":0}]
[null,null,{"$f":"Profiltabelle!B69","v":{"$error":"#REF!"}},{"$f":"Profiltabelle!C69","v":0},{"$f":"Farbe","v":0},{"$f":"Profiltabelle!D69","v":0},{"$f":"Farbe","v":0},{"$f":"Profiltabelle!E69","v":0},{"$f":"Farbe","v":0},{"$f":"Profiltabelle!F69","v":0},{"$f":"Farbe","v":0},{"$f":"Profiltabelle!G69","v":0},{"$f":"Farbe","v":0},{"$f":"Profiltabelle!H69","v":0},{"$f":"Farbe","v":0}]
[null,null,{"$f":"Profiltabelle!B70","v":{"$error":"#REF!"}},{"$f":"Profiltabelle!C70","v":0},{"$f":"Farbe","v":0},{"$f":"Profiltabelle!D70","v":0},{"$f":"Farbe","v":0},{"$f":"Profiltabelle!E70","v":0},{"$f":"Farbe","v":0},{"$f":"Profiltabelle!F70","v":0},{"$f":"Farbe","v":0},{"$f":"Profiltabelle!G70","v":0},{"$f":"Farbe","v":0},{"$f":"Profiltabelle!H70","v":0},{"$f":"Farbe","v":0}]
[null,null,{"$f":"Profiltabelle!B71","v":{"$error":"#REF!"}},{"$f":"Profiltabelle!C71","v":0},{"$f":"Farbe","v":0},{"$f":"Profiltabelle!D71","v":0},{"$f":"Farbe","v":0},{"$f":"Profiltabelle!E71","v":0},{"$f":"Farbe","v":0},{"$f":"Profiltabelle!F71","v":0},{"$f":"Farbe","v":0},{"$f":"Profiltabelle!G71","v":0},{"$f":"Farbe","v":0},{"$f":"Profiltabelle!H71","v":0},{"$f":"Farbe","v":0}]
[null,null,{"$f":"Profiltabelle!B72","v":{"$error":"#REF!"}},{"$f":"Profiltabelle!C72","v":0},{"$f":"Farbe","v":0},{"$f":"Profiltabelle!D72","v":0},{"$f":"Farbe","v":0},{"$f":"Profiltabelle!E72","v":0},{"$f":"Farbe","v":0},{"$f":"Profiltabelle!F72","v":0},{"$f":"Farbe","v":0},{"$f":"Profiltabelle!G72","v":0},{"$f":"Farbe","v":0},{"$f":"Profiltabelle!H72","v":0},{"$f":"Farbe","v":0}]
[null,null,{"$f":"Profiltabelle!B73","v":{"$error":"#REF!"}},{"$f":"Profiltabelle!C73","v":0},{"$f":"Farbe","v":0},{"$f":"Profiltabelle!D73","v":0},{"$f":"Farbe","v":0},{"$f":"Profiltabelle!E73","v":0},{"$f":"Farbe","v":0},{"$f":"Profiltabelle!F73","v":0},{"$f":"Farbe","v":0},{"$f":"Profiltabelle!G73","v":0},{"$f":"Farbe","v":0},{"$f":"Profiltabelle!H73","v":0},{"$f":"Farbe","v":0}]
[null,null,{"$f":"Profiltabelle!B74","v":{"$error":"#REF!"}},{"$f":"Profiltabelle!C74","v":0},{"$f":"Farbe","v":0},{"$f":"Profiltabelle!D74","v":0},{"$f":"Farbe","v":0},{"$f":"Profiltabelle!E74","v":0},{"$f":"Farbe","v":0},{"$f":"Profiltabelle!F74","v":0},{"$f":"Farbe","v":0},{"$f":"Profiltabelle!G74","v":0},{"$f":"Farbe","v":0},{"$f":"Profiltabelle!H74","v":0},{"$f":"Farbe","v":0}]
[null,null,{"$f":"Profiltabelle!B75","v":{"$error":"#REF!"}},{"$f":"Profiltabelle!C75","v":0},{"$f":"Farbe","v":0},{"$f":"Profiltabelle!D75","v":0},{"$f":"Farbe","v":0},{"$f":"Profiltabelle!E75","v":0},{"$f":"Farbe","v":0},{"$f":"Profiltabelle!F75","v":0},{"$f":"Farbe","v":0},{"$f":"Profiltabelle!G75","v":0},{"$f":"Farbe","v":0},{"$f":"Profiltabelle!H75","v":0},{"$f":"Farbe","v":0}]
[null,null,{"$f":"Profiltabelle!B76","v":{"$error":"#REF!"}},{"$f":"Profiltabelle!C76","v":0},{"$f":"Farbe","v":0},{"$f":"Profiltabelle!D76","v":0},{"$f":"Farbe","v":0},{"$f":"Profiltabelle!E76","v":0},{"$f":"Farbe","v":0},{"$f":"Profiltabelle!F76","v":0},{"$f":"Farbe","v":0},{"$f":"Profiltabelle!G76","v":0},{"$f":"Farbe","v":0},{"$f":"Profiltabelle!H76","v":0},{"$f":"Farbe","v":0}]
[null,null,{"$f":"Profiltabelle!B77","v":{"$error":"#REF!"}},{"$f":"Profiltabelle!C77","v":0},{"$f":"Farbe","v":0},{"$f":"Profiltabelle!D77","v":0},{"$f":"Farbe","v":0},{"$f":"Profiltabelle!E77","v":0},{"$f":"Farbe","v":0},{"$f":"Profiltabelle!F77","v":0},{"$f":"Farbe","v":0},{"$f":"Profiltabelle!G77","v":0},{"$f":"Farbe","v":0},{"$f":"Profiltabelle!H77","v":0},{"$f":"Farbe","v":0}]
[null,null,{"$f":"Profiltabelle!B78","v":{"$error":"#REF!"}},{"$f":"Profiltabelle!C78","v":0},{"$f":"Farbe","v":0},{"$f":"Profiltabelle!D78","v":0},{"$f":"Farbe","v":0},{"$f":"Profiltabelle!E78","v":0},{"$f":"Farbe","v":0},{"$f":"Profiltabelle!F78","v":0},{"$f":"Farbe","v":0},{"$f":"Profiltabelle!G78","v":0},{"$f":"Farbe","v":0},{"$f":"Profiltabelle!H78","v":0},{"$f":"Farbe","v":0}]
[null,null,{"$f":"Profiltabelle!B79","v":{"$error":"#REF!"}},{"$f":"Profiltabelle!C79","v":0},{"$f":"Farbe","v":0},{"$f":"Profiltabelle!D79","v":0},{"$f":"Farbe","v":0},{"$f":"Profiltabelle!E79","v":0},{"$f":"Farbe","v":0},{"$f":"Profiltabelle!F79","v":0},{"$f":"Farbe","v":0},{"$f":"Profiltabelle!G79","v":0},{"$f":"Farbe","v":0},{"$f":"Profiltabelle!H79","v":0},{"$f":"Farbe","v":0}]
[null,null,{"$f":"Profiltabelle!B80","v":{"$error":"#REF!"}},{"$f":"Profiltabelle!C80","v":0},{"$f":"Farbe","v":0},{"$f":"Profiltabelle!D80","v":0},{"$f":"Farbe","v":0},{"$f":"Profiltabelle!E80","v":0},{"$f":"Farbe","v":0},{"$f":"Profiltabelle!F80","v":0},{"$f":"Farbe","v":0},{"$f":"Profiltabelle!G80","v":0},{"$f":"Farbe","v":0},{"$f":"Profiltabelle!H80","v":0},{"$f":"Farbe","v":0}]
[null,null,{"$f":"Profiltabelle!B81","v":{"$error":"#REF!"}},{"$f":"Profiltabelle!C81","v":0},{"$f":"Farbe","v":0},{"$f":"Profiltabelle!D81","v":0},{"$f":"Farbe","v":0},{"$f":"Profiltabelle!E81","v":0},{"$f":"Farbe","v":0},{"$f":"Profiltabelle!F81","v":0},{"$f":"Farbe","v":0},{"$f":"Profiltabelle!G81","v":0},{"$f":"Farbe","v":0},{"$f":"Profiltabelle!H81","v":0},{"$f":"Farbe","v":0}]
[null,null,{"$f":"Profiltabelle!B82","v":{"$error":"#REF!"}},{"$f":"Profiltabelle!C82","v":0},{"$f":"Farbe","v":0},{"$f":"Profiltabelle!D82","v":0},{"$f":"Farbe","v":0},{"$f":"Profiltabelle!E82","v":0},{"$f":"Farbe","v":0},{"$f":"Profiltabelle!F82","v":0},{"$f":"Farbe","v":0},{"$f":"Profiltabelle!G82","v":0},{"$f":"Farbe","v":0},{"$f":"Profiltabelle!H82","v":0},{"$f":"Farbe","v":0}]
[null,null,{"$f":"Profiltabelle!B83","v":{"$error":"#REF!"}},{"$f":"Profiltabelle!C83","v":0},{"$f":"Farbe","v":0},{"$f":"Profiltabelle!D83","v":0},{"$f":"Farbe","v":0},{"$f":"Profiltabelle!E83","v":0},{"$f":"Farbe","v":0},{"$f":"Profiltabelle!F83","v":0},{"$f":"Farbe","v":0},{"$f":"Profiltabelle!G83","v":0},{"$f":"Farbe","v":0},{"$f":"Profiltabelle!H83","v":0},{"$f":"Farbe","v":0}]
[null,null,{"$f":"Profiltabelle!B84","v":{"$error":"#REF!"}},{"$f":"Profiltabelle!C84","v":0},{"$f":"Farbe","v":0},{"$f":"Profiltabelle!D84","v":0},{"$f":"Farbe","v":0},{"$f":"Profiltabelle!E84","v":0},{"$f":"Farbe","v":0},{"$f":"Profiltabelle!F84","v":0},{"$f":"Farbe","v":0},{"$f":"Profiltabelle!G84","v":0},{"$f":"Farbe","v":0},{"$f":"Profiltabelle!H84","v":0},{"$f":"Farbe","v":0}]
[null,null,{"$f":"Profiltabelle!B85","v":{"$error":"#REF!"}},{"$f":"Profiltabelle!C85","v":0},{"$f":"Farbe","v":0},{"$f":"Profiltabelle!D85","v":0},{"$f":"Farbe","v":0},{"$f":"Profiltabelle!E85","v":0},{"$f":"Farbe","v":0},{"$f":"Profiltabelle!F85","v":0},{"$f":"Farbe","v":0},{"$f":"Profiltabelle!G85","v":0},{"$f":"Farbe","v":0},{"$f":"Profiltabelle!H85","v":0},{"$f":"Farbe","v":0}]
[null,null,{"$f":"Profiltabelle!B86","v":{"$error":"#REF!"}},{"$f":"Profiltabelle!C86","v":0},{"$f":"Farbe","v":0},{"$f":"Profiltabelle!D86","v":0},{"$f":"Farbe","v":0},{"$f":"Profiltabelle!E86","v":0},{"$f":"Farbe","v":0},{"$f":"Profiltabelle!F86","v":0},{"$f":"Farbe","v":0},{"$f":"Profiltabelle!G86","v":0},{"$f":"Farbe","v":0},{"$f":"Profiltabelle!H86","v":0},{"$f":"Farbe","v":0}]
[null,null,{"$f":"Profiltabelle!B87","v":{"$error":"#REF!"}},{"$f":"Profiltabelle!C87","v":0},{"$f":"Farbe","v":0},{"$f":"Profiltabelle!D87","v":0},{"$f":"Farbe","v":0},{"$f":"Profiltabelle!E87","v":0},{"$f":"Farbe","v":0},{"$f":"Profiltabelle!F87","v":0},{"$f":"Farbe","v":0},{"$f":"Profiltabelle!G87","v":0},{"$f":"Farbe","v":0},{"$f":"Profiltabelle!H87","v":0},{"$f":"Farbe","v":0}]
[null,null,{"$f":"Profiltabelle!B88","v":{"$error":"#REF!"}},{"$f":"Profiltabelle!C88","v":0},{"$f":"Farbe","v":0},{"$f":"Profiltabelle!D88","v":0},{"$f":"Farbe","v":0},{"$f":"Profiltabelle!E88","v":0},{"$f":"Farbe","v":0},{"$f":"Profiltabelle!F88","v":0},{"$f":"Farbe","v":0},{"$f":"Profiltabelle!G88","v":0},{"$f":"Farbe","v":0},{"$f":"Profiltabelle!H88","v":0},{"$f":"Farbe","v":0}]
[null,null,{"$f":"Profiltabelle!B89","v":{"$error":"#REF!"}},{"$f":"Profiltabelle!C89","v":0},{"$f":"Farbe","v":0},{"$f":"Profiltabelle!D89","v":0},{"$f":"Farbe","v":0},{"$f":"Profiltabelle!E89","v":0},{"$f":"Farbe","v":0},{"$f":"Profiltabelle!F89","v":0},{"$f":"Farbe","v":0},{"$f":"Profiltabelle!G89","v":0},{"$f":"Farbe","v":0},{"$f":"Profiltabelle!H89","v":0},{"$f":"Farbe","v":0}]
[null,null,{"$f":"Profiltabelle!B90","v":{"$error":"#REF!"}},{"$f":"Profiltabelle!C90","v":0},{"$f":"Farbe","v":0},{"$f":"Profiltabelle!D90","v":0},{"$f":"Farbe","v":0},{"$f":"Profiltabelle!E90","v":0},{"$f":"Farbe","v":0},{"$f":"Profiltabelle!F90","v":0},{"$f":"Farbe","v":0},{"$f":"Profiltabelle!G90","v":0},{"$f":"Farbe","v":0},{"$f":"Profiltabelle!H90","v":0},{"$f":"Farbe","v":0}]
[null,null,{"$f":"Profiltabelle!B91","v":{"$error":"#REF!"}},{"$f":"Profiltabelle!C91","v":0},{"$f":"Farbe","v":0},{"$f":"Profiltabelle!D91","v":0},{"$f":"Farbe","v":0},{"$f":"Profiltabelle!E91","v":0},{"$f":"Farbe","v":0},{"$f":"Profiltabelle!F91","v":0},{"$f":"Farbe","v":0},{"$f":"Profiltabelle!G91","v":0},{"$f":"Farbe","v":0},{"$f":"Profiltabelle!H91","v":0},{"$f":"Farbe","v":0}]
[null,null,{"$f":"Profiltabelle!B92","v":{"$error":"#REF!"}},{"$f":"Profiltabelle!C92","v":0},{"$f":"Farbe","v":0},{"$f":"Profiltabelle!D92","v":0},{"$f":"Farbe","v":0},{"$f":"Profiltabelle!E92","v":0},{"$f":"Farbe","v":0},{"$f":"Profiltabelle!F92","v":0},{"$f":"Farbe","v":0},{"$f":"Profiltabelle!G92","v":0},{"$f":"Farbe","v":0},{"$f":"Profiltabelle!H92","v":0},{"$f":"Farbe","v":0}]
[null,null,{"$f":"Profiltabelle!B93","v":{"$error":"#REF!"}},{"$f":"Profiltabelle!C93","v":0},{"$f":"Farbe","v":0},{"$f":"Profiltabelle!D93","v":0},{"$f":"Farbe","v":0},{"$f":"Profiltabelle!E93","v":0},{"$f":"Farbe","v":0},{"$f":"Profiltabelle!F93","v":0},{"$f":"Farbe","v":0},{"$f":"Profiltabelle!G93","v":0},{"$f":"Farbe","v":0},{"$f":"Profiltabelle!H93","v":0},{"$f":"Farbe","v":0}]
[null,null,{"$f":"Profiltabelle!B94","v":{"$error":"#REF!"}},{"$f":"Profiltabelle!C94","v":0},{"$f":"Farbe","v":0},{"$f":"Profiltabelle!D94","v":0},{"$f":"Farbe","v":0},{"$f":"Profiltabelle!E94","v":0},{"$f":"Farbe","v":0},{"$f":"Profiltabelle!F94","v":0},{"$f":"Farbe","v":0},{"$f":"Profiltabelle!G94","v":0},{"$f":"Farbe","v":0},{"$f":"Profiltabelle!H94","v":0},{"$f":"Farbe","v":0}]
[null,null,{"$f":"Profiltabelle!B95","v":{"$error":"#REF!"}},{"$f":"Profiltabelle!C95","v":0},{"$f":"Farbe","v":0},{"$f":"Profiltabelle!D95","v":0},{"$f":"Farbe","v":0},{"$f":"Profiltabelle!E95","v":0},{"$f":"Farbe","v":0},{"$f":"Profiltabelle!F95","v":0},{"$f":"Farbe","v":0},{"$f":"Profiltabelle!G95","v":0},{"$f":"Farbe","v":0},{"$f":"Profiltabelle!H95","v":0},{"$f":"Farbe","v":0}]
[null,null,{"$f":"Profiltabelle!B96","v":{"$error":"#REF!"}},{"$f":"Profiltabelle!C96","v":0},{"$f":"Farbe","v":0},{"$f":"Profiltabelle!D96","v":0},{"$f":"Farbe","v":0},{"$f":"Profiltabelle!E96","v":0},{"$f":"Farbe","v":0},{"$f":"Profiltabelle!F96","v":0},{"$f":"Farbe","v":0},{"$f":"Profiltabelle!G96","v":0},{"$f":"Farbe","v":0},{"$f":"Profiltabelle!H96","v":0},{"$f":"Farbe","v":0}]
[null,null,{"$f":"Profiltabelle!B97","v":{"$error":"#REF!"}},{"$f":"Profiltabelle!C97","v":0},{"$f":"Farbe","v":0},{"$f":"Profiltabelle!D97","v":0},{"$f":"Farbe","v":0},{"$f":"Profiltabelle!E97","v":0},{"$f":"Farbe","v":0},{"$f":"Profiltabelle!F97","v":0},{"$f":"Farbe","v":0},{"$f":"Profiltabelle!G97","v":0},{"$f":"Farbe","v":0},{"$f":"Profiltabelle!H97","v":0},{"$f":"Farbe","v":0}]
[null,null,{"$f":"Profiltabelle!B98","v":{"$error":"#REF!"}},{"$f":"Profiltabelle!C98","v":0},{"$f":"Farbe","v":0},{"$f":"Profiltabelle!D98","v":0},{"$f":"Farbe","v":0},{"$f":"Profiltabelle!E98","v":0},{"$f":"Farbe","v":0},{"$f":"Profiltabelle!F98","v":0},{"$f":"Farbe","v":0},{"$f":"Profiltabelle!G98","v":0},{"$f":"Farbe","v":0},{"$f":"Profiltabelle!H98","v":0},{"$f":"Farbe","v":0}]
[null,null,{"$f":"Profiltabelle!B99","v":{"$error":"#REF!"}},{"$f":"Profiltabelle!C99","v":0},{"$f":"Farbe","v":0},{"$f":"Profiltabelle!D99","v":0},{"$f":"Farbe","v":0},{"$f":"Profiltabelle!E99","v":0},{"$f":"Farbe","v":0},{"$f":"Profiltabelle!F99","v":0},{"$f":"Farbe","v":0},{"$f":"Profiltabelle!G99","v":0},{"$f":"Farbe","v":0},{"$f":"Profiltabelle!H99","v":0},{"$f":"Farbe","v":0}]
[null,null,{"$f":"Profiltabelle!B100","v":{"$error":"#REF!"}},{"$f":"Profiltabelle!C100","v":0},{"$f":"Farbe","v":0},{"$f":"Profiltabelle!D100","v":0},{"$f":"Farbe","v":0},{"$f":"Profiltabelle!E100","v":0},{"$f":"Farbe","v":0},{"$f":"Profiltabelle!F100","v":0},{"$f":"Farbe","v":0},{"$f":"Profiltabelle!G100","v":0},{"$f":"Farbe","v":0},{"$f":"Profiltabelle!H100","v":0},{"$f":"Farbe","v":0}]
[null,null,{"$f":"Profiltabelle!B101","v":{"$error":"#REF!"}},{"$f":"Profiltabelle!C101","v":0},{"$f":"Farbe","v":0},{"$f":"Profiltabelle!D101","v":0},{"$f":"Farbe","v":0},{"$f":"Profiltabelle!E101","v":0},{"$f":"Farbe","v":0},{"$f":"Profiltabelle!F101","v":0},{"$f":"Farbe","v":0},{"$f":"Profiltabelle!G101","v":0},{"$f":"Farbe","v":0},{"$f":"Profiltabelle!H101","v":0},{"$f":"Farbe","v":0}]
[null,null,{"$f":"Profiltabelle!B102","v":{"$error":"#REF!"}},{"$f":"Profiltabelle!C102","v":0},{"$f":"Farbe","v":0},{"$f":"Profiltabelle!D102","v":0},{"$f":"Farbe","v":0},{"$f":"Profiltabelle!E102","v":0},{"$f":"Farbe","v":0},{"$f":"Profiltabelle!F102","v":0},{"$f":"Farbe","v":0},{"$f":"Profiltabelle!G102","v":0},{"$f":"Farbe","v":0},{"$f":"Profiltabelle!H102","v":0},{"$f":"Farbe","v":0}]
[null,null,{"$f":"Profiltabelle!B103","v":{"$error":"#REF!"}},{"$f":"Profiltabelle!C103","v":0},{"$f":"Farbe","v":0},{"$f":"Profiltabelle!D103","v":0},{"$f":"Farbe","v":0},{"$f":"Profiltabelle!E103","v":0},{"$f":"Farbe","v":0},{"$f":"Profiltabelle!F103","v":0},{"$f":"Farbe","v":0},{"$f":"Profiltabelle!G103","v":0},{"$f":"Farbe","v":0},{"$f":"Profiltabelle!H103","v":0},{"$f":"Farbe","v":0}]
[null,null,{"$f":"Profiltabelle!B104","v":{"$error":"#REF!"}},{"$f":"Profiltabelle!C104","v":0},{"$f":"Farbe","v":0},{"$f":"Profiltabelle!D104","v":0},{"$f":"Farbe","v":0},{"$f":"Profiltabelle!E104","v":0},{"$f":"Farbe","v":0},{"$f":"Profiltabelle!F104","v":0},{"$f":"Farbe","v":0},{"$f":"Profiltabelle!G104","v":0},{"$f":"Farbe","v":0},{"$f":"Profiltabelle!H104","v":0},{"$f":"Farbe","v":0}]
[null,null,{"$f":"Profiltabelle!B105","v":{"$error":"#REF!"}},{"$f":"Profiltabelle!C105","v":0},{"$f":"Farbe","v":0},{"$f":"Profiltabelle!D105","v":0},{"$f":"Farbe","v":0},{"$f":"Profiltabelle!E105","v":0},{"$f":"Farbe","v":0},{"$f":"Profiltabelle!F105","v":0},{"$f":"Farbe","v":0},{"$f":"Profiltabelle!G105","v":0},{"$f":"Farbe","v":0},{"$f":"Profiltabelle!H105","v":0},{"$f":"Farbe","v":0}]
[null,null,{"$f":"Profiltabelle!B106","v":{"$error":"#REF!"}},{"$f":"Profiltabelle!C106","v":0},{"$f":"Farbe","v":0},{"$f":"Profiltabelle!D106","v":0},{"$f":"Farbe","v":0},{"$f":"Profiltabelle!E106","v":0},{"$f":"Farbe","v":0},{"$f":"Profiltabelle!F106","v":0},{"$f":"Farbe","v":0},{"$f":"Profiltabelle!G106","v":0},{"$f":"Farbe","v":0},{"$f":"Profiltabelle!H106","v":0},{"$f":"Farbe","v":0}]
[null,null,{"$f":"Profiltabelle!B107","v":{"$error":"#REF!"}},{"$f":"Profiltabelle!C107","v":0},{"$f":"Farbe","v":0},{"$f":"Profiltabelle!D107","v":0},{"$f":"Farbe","v":0},{"$f":"Profiltabelle!E107","v":0},{"$f":"Farbe","v":0},{"$f":"Profiltabelle!F107","v":0},{"$f":"Farbe","v":0},{"$f":"Profiltabelle!G107","v":0},{"$f":"Farbe","v":0},{"$f":"Profiltabelle!H107","v":0},{"$f":"Farbe","v":0}]
[null,null,{"$f":"Profiltabelle!B108","v":{"$error":"#REF!"}},{"$f":"Profiltabelle!C108","v":0},{"$f":"Farbe","v":0},{"$f":"Profiltabelle!D108","v":0},{"$f":"Farbe","v":0},{"$f":"Profiltabelle!E108","v":0},{"$f":"Farbe","v":0},{"$f":"Profiltabelle!F108","v":0},{"$f":"Farbe","v":0},{"$f":"Profiltabelle!G108","v":0},{"$f":"Farbe","v":0},{"$f":"Profiltabelle!H108","v":0},{"$f":"Farbe","v":0}]
[null,null,{"$f":"Profiltabelle!B109","v":{"$error":"#REF!"}},{"$f":"Profiltabelle!C109","v":0},{"$f":"Farbe","v":0},{"$f":"Profiltabelle!D109","v":0},{"$f":"Farbe","v":0},{"$f":"Profiltabelle!E109","v":0},{"$f":"Farbe","v":0},{"$f":"Profiltabelle!F109","v":0},{"$f":"Farbe","v":0},{"$f":"Profiltabelle!G109","v":0},{"$f":"Farbe","v":0},{"$f":"Profiltabelle!H109","v":0},{"$f":"Farbe","v":0}]
[null,null,{"$f":"Profiltabelle!B110","v":{"$error":"#REF!"}},{"$f":"Profiltabelle!C110","v":0},{"$f":"Farbe","v":0},{"$f":"Profiltabelle!D110","v":0},{"$f":"Farbe","v":0},{"$f":"Profiltabelle!E110","v":0},{"$f":"Farbe","v":0},{"$f":"Profiltabelle!F110","v":0},{"$f":"Farbe","v":0},{"$f":"Profiltabelle!G110","v":0},{"$f":"Farbe","v":0},{"$f":"Profiltabelle!H110","v":0},{"$f":"Farbe","v":0}]
[null,null,{"$f":"Profiltabelle!B111","v":{"$error":"#REF!"}},{"$f":"Profiltabelle!C111","v":0},{"$f":"Farbe","v":0},{"$f":"Profiltabelle!D111","v":0},{"$f":"Farbe","v":0},{"$f":"Profiltabelle!E111","v":0},{"$f":"Farbe","v":0},{"$f":"Profiltabelle!F111","v":0},{"$f":"Farbe","v":0},{"$f":"Profiltabelle!G111","v":0},{"$f":"Farbe","v":0},{"$f":"Profiltabelle!H111","v":0},{"$f":"Farbe","v":0}]
[null,null,{"$f":"Profiltabelle!B112","v":{"$error":"#REF!"}},{"$f":"Profiltabelle!C112","v":0},{"$f":"Farbe","v":0},{"$f":"Profiltabelle!D112","v":0},{"$f":"Farbe","v":0},{"$f":"Profiltabelle!E112","v":0},{"$f":"Farbe","v":0},{"$f":"Profiltabelle!F112","v":0},{"$f":"Farbe","v":0},{"$f":"Profiltabelle!G112","v":0},{"$f":"Farbe","v":0},{"$f":"Profiltabelle!H112","v":0},{"$f":"Farbe","v":0}]
[null,null,{"$f":"Profiltabelle!B113","v":{"$error":"#REF!"}},{"$f":"Profiltabelle!C113","v":0},{"$f":"Farbe","v":0},{"$f":"Profiltabelle!D113","v":0},{"$f":"Farbe","v":0},{"$f":"Profiltabelle!E113","v":0},{"$f":"Farbe","v":0},{"$f":"Profiltabelle!F113","v":0},{"$f":"Farbe","v":0},{"$f":"Profiltabelle!G113","v":0},{"$f":"Farbe","v":0},{"$f":"Profiltabelle!H113","v":0},{"$f":"Farbe","v":0}]
[null,null,{"$f":"Profiltabelle!B114","v":{"$error":"#REF!"}},{"$f":"Profiltabelle!C114","v":0},{"$f":"Farbe","v":0},{"$f":"Profiltabelle!D114","v":0},{"$f":"Farbe","v":0},{"$f":"Profiltabelle!E114","v":0},{"$f":"Farbe","v":0},{"$f":"Profiltabelle!F114","v":0},{"$f":"Farbe","v":0},{"$f":"Profiltabelle!G114","v":0},{"$f":"Farbe","v":0},{"$f":"Profiltabelle!H114","v":0},{"$f":"Farbe","v":0}]
[null,null,{"$f":"Profiltabelle!B115","v":{"$error":"#REF!"}},{"$f":"Profiltabelle!C115","v":0},{"$f":"Farbe","v":0},{"$f":"Profiltabelle!D115","v":0},{"$f":"Farbe","v":0},{"$f":"Profiltabelle!E115","v":0},{"$f":"Farbe","v":0},{"$f":"Profiltabelle!F115","v":0},{"$f":"Farbe","v":0},{"$f":"Profiltabelle!G115","v":0},{"$f":"Farbe","v":0},{"$f":"Profiltabelle!H115","v":0},{"$f":"Farbe","v":0}]
[null,null,{"$f":"Profiltabelle!B116","v":{"$error":"#REF!"}},{"$f":"Profiltabelle!C116","v":0},{"$f":"Farbe","v":0},{"$f":"Profiltabelle!D116","v":0},{"$f":"Farbe","v":0},{"$f":"Profiltabelle!E116","v":0},{"$f":"Farbe","v":0},{"$f":"Profiltabelle!F116","v":0},{"$f":"Farbe","v":0},{"$f":"Profiltabelle!G116","v":0},{"$f":"Farbe","v":0},{"$f":"Profiltabelle!H116","v":0},{"$f":"Farbe","v":0}]
[null,null,{"$f":"Profiltabelle!B117","v":{"$error":"#REF!"}},{"$f":"Profiltabelle!C117","v":0},{"$f":"Farbe","v":0},{"$f":"Profiltabelle!D117","v":0},{"$f":"Farbe","v":0},{"$f":"Profiltabelle!E117","v":0},{"$f":"Farbe","v":0},{"$f":"Profiltabelle!F117","v":0},{"$f":"Farbe","v":0},{"$f":"Profiltabelle!G117","v":0},{"$f":"Farbe","v":0},{"$f":"Profiltabelle!H117","v":0},{"$f":"Farbe","v":0}]
[null,null,{"$f":"Profiltabelle!B118","v":{"$error":"#REF!"}},{"$f":"Profiltabelle!C118","v":0},{"$f":"Farbe","v":0},{"$f":"Profiltabelle!D118","v":0},{"$f":"Farbe","v":0},{"$f":"Profiltabelle!E118","v":0},{"$f":"Farbe","v":0},{"$f":"Profiltabelle!F118","v":0},{"$f":"Farbe","v":0},{"$f":"Profiltabelle!G118","v":0},{"$f":"Farbe","v":0},{"$f":"Profiltabelle!H118","v":0},{"$f":"Farbe","v":0}]
[null,null,{"$f":"Profiltabelle!B119","v":{"$error":"#REF!"}},{"$f":"Profiltabelle!C119","v":0},{"$f":"Farbe","v":0},{"$f":"Profiltabelle!D119","v":0},{"$f":"Farbe","v":0},{"$f":"Profiltabelle!E119","v":0},{"$f":"Farbe","v":0},{"$f":"Profiltabelle!F119","v":0},{"$f":"Farbe","v":0},{"$f":"Profiltabelle!G119","v":0},{"$f":"Farbe","v":0},{"$f":"Profiltabelle!H119","v":0},{"$f":"Farbe","v":0}]
[null,null,{"$f":"Profiltabelle!B120","v":{"$error":"#REF!"}},{"$f":"Profiltabelle!C120","v":0},{"$f":"Farbe","v":0},{"$f":"Profiltabelle!D120","v":0},{"$f":"Farbe","v":0},{"$f":"Profiltabelle!E120","v":0},{"$f":"Farbe","v":0},{"$f":"Profiltabelle!F120","v":0},{"$f":"Farbe","v":0},{"$f":"Profiltabelle!G120","v":0},{"$f":"Farbe","v":0},{"$f":"Profiltabelle!H120","v":0},{"$f":"Farbe","v":0}]
[null,null,{"$f":"Profiltabelle!B121","v":{"$error":"#REF!"}},{"$f":"Profiltabelle!C121","v":0},{"$f":"Farbe","v":0},{"$f":"Profiltabelle!D121","v":0},{"$f":"Farbe","v":0},{"$f":"Profiltabelle!E121","v":0},{"$f":"Farbe","v":0},{"$f":"Profiltabelle!F121","v":0},{"$f":"Farbe","v":0},{"$f":"Profiltabelle!G121","v":0},{"$f":"Farbe","v":0},{"$f":"Profiltabelle!H121","v":0},{"$f":"Farbe","v":0}]
[null,null,{"$f":"Profiltabelle!B122","v":{"$error":"#REF!"}},{"$f":"Profiltabelle!C122","v":0},{"$f":"Farbe","v":0},{"$f":"Profiltabelle!D122","v":0},{"$f":"Farbe","v":0},{"$f":"Profiltabelle!E122","v":0},{"$f":"Farbe","v":0},{"$f":"Profiltabelle!F122","v":0},{"$f":"Farbe","v":0},{"$f":"Profiltabelle!G122","v":0},{"$f":"Farbe","v":0},{"$f":"Profiltabelle!H122","v":0},{"$f":"Farbe","v":0}]
[null,null,{"$f":"Profiltabelle!B123","v":{"$error":"#REF!"}},{"$f":"Profiltabelle!C123","v":0},{"$f":"Farbe","v":0},{"$f":"Profiltabelle!D123","v":0},{"$f":"Farbe","v":0},{"$f":"Profiltabelle!E123","v":0},{"$f":"Farbe","v":0},{"$f":"Profiltabelle!F123","v":0},{"$f":"Farbe","v":0},{"$f":"Profiltabelle!G123","v":0},{"$f":"Farbe","v":0},{"$f":"Profiltabelle!H123","v":0},{"$f":"Farbe","v":0}]
[null,null,{"$f":"Profiltabelle!B124","v":{"$error":"#REF!"}},{"$f":"Profiltabelle!C124","v":0},{"$f":"Farbe","v":0},{"$f":"Profiltabelle!D124","v":0},{"$f":"Farbe","v":0},{"$f":"Profiltabelle!E124","v":0},{"$f":"Farbe","v":0},{"$f":"Profiltabelle!F124","v":0},{"$f":"Farbe","v":0},{"$f":"Profiltabelle!G124","v":0},{"$f":"Farbe","v":0},{"$f":"Profiltabelle!H124","v":0},{"$f":"Farbe","v":0}]
[null,null,{"$f":"Profiltabelle!B125","v":{"$error":"#REF!"}},{"$f":"Profiltabelle!C125","v":0},{"$f":"Farbe","v":0},{"$f":"Profiltabelle!D125","v":0},{"$f":"Farbe","v":0},{"$f":"Profiltabelle!E125","v":0},{"$f":"Farbe","v":0},{"$f":"Profiltabelle!F125","v":0},{"$f":"Farbe","v":0},{"$f":"Profiltabelle!G125","v":0},{"$f":"Farbe","v":0},{"$f":"Profiltabelle!H125","v":0},{"$f":"Farbe","v":0}]
[null,null,{"$f":"Profiltabelle!B126","v":{"$error":"#REF!"}},{"$f":"Profiltabelle!C126","v":0},{"$f":"Farbe","v":0},{"$f":"Profiltabelle!D126","v":0},{"$f":"Farbe","v":0},{"$f":"Profiltabelle!E126","v":0},{"$f":"Farbe","v":0},{"$f":"Profiltabelle!F126","v":0},{"$f":"Farbe","v":0},{"$f":"Profiltabelle!G126","v":0},{"$f":"Farbe","v":0},{"$f":"Profiltabelle!H126","v":0},{"$f":"Farbe","v":0}]
[null,null,{"$f":"Profiltabelle!B127","v":{"$error":"#REF!"}},{"$f":"Profiltabelle!C127","v":0},{"$f":"Farbe","v":0},{"$f":"Profiltabelle!D127","v":0},{"$f":"Farbe","v":0},{"$f":"Profiltabelle!E127","v":0},{"$f":"Farbe","v":0},{"$f":"Profiltabelle!F127","v":0},{"$f":"Farbe","v":0},{"$f":"Profiltabelle!G127","v":0},{"$f":"Farbe","v":0},{"$f":"Profiltabelle!H127","v":0},{"$f":"Farbe","v":0}]
[null,null,{"$f":"Profiltabelle!B128","v":{"$error":"#REF!"}},{"$f":"Profiltabelle!C128","v":0},{"$f":"Farbe","v":0},{"$f":"Profiltabelle!D128","v":0},{"$f":"Farbe","v":0},{"$f":"Profiltabelle!E128","v":0},{"$f":"Farbe","v":0},{"$f":"Profiltabelle!F128","v":0},{"$f":"Farbe","v":0},{"$f":"Profiltabelle!G128","v":0},{"$f":"Farbe","v":0},{"$f":"Profiltabelle!H128","v":0},{"$f":"Farbe","v":0}]
[null,null,{"$f":"Profiltabelle!B129","v":{"$error":"#REF!"}},{"$f":"Profiltabelle!C129","v":0},{"$f":"Farbe","v":0},{"$f":"Profiltabelle!D129","v":0},{"$f":"Farbe","v":0},{"$f":"Profiltabelle!E129","v":0},{"$f":"Farbe","v":0},{"$f":"Profiltabelle!F129","v":0},{"$f":"Farbe","v":0},{"$f":"Profiltabelle!G129","v":0},{"$f":"Farbe","v":0},{"$f":"Profiltabelle!H129","v":0},{"$f":"Farbe","v":0}]
[null,null,{"$f":"Profiltabelle!B130","v":{"$error":"#REF!"}},{"$f":"Profiltabelle!C130","v":0},{"$f":"Farbe","v":0},{"$f":"Profiltabelle!D130","v":0},{"$f":"Farbe","v":0},{"$f":"Profiltabelle!E130","v":0},{"$f":"Farbe","v":0},{"$f":"Profiltabelle!F130","v":0},{"$f":"Farbe","v":0},{"$f":"Profiltabelle!G130","v":0},{"$f":"Farbe","v":0},{"$f":"Profiltabelle!H130","v":0},{"$f":"Farbe","v":0}]
[null,null,{"$f":"Profiltabelle!B131","v":{"$error":"#REF!"}},{"$f":"Profiltabelle!C131","v":0},{"$f":"Farbe","v":0},{"$f":"Profiltabelle!D131","v":0},{"$f":"Farbe","v":0},{"$f":"Profiltabelle!E131","v":0},{"$f":"Farbe","v":0},{"$f":"Profiltabelle!F131","v":0},{"$f":"Farbe","v":0},{"$f":"Profiltabelle!G131","v":0},{"$f":"Farbe","v":0},{"$f":"Profiltabelle!H131","v":0},{"$f":"Farbe","v":0}]
[null,null,{"$f":"Profiltabelle!B132","v":{"$error":"#REF!"}},{"$f":"Profiltabelle!C132","v":0},{"$f":"Farbe","v":0},{"$f":"Profiltabelle!D132","v":0},{"$f":"Farbe","v":0},{"$f":"Profiltabelle!E132","v":0},{"$f":"Farbe","v":0},{"$f":"Profiltabelle!F132","v":0},{"$f":"Farbe","v":0},{"$f":"Profiltabelle!G132","v":0},{"$f":"Farbe","v":0},{"$f":"Profiltabelle!H132","v":0},{"$f":"Farbe","v":0}]
[null,null,{"$f":"Profiltabelle!B133","v":{"$error":"#REF!"}},{"$f":"Profiltabelle!C133","v":0},{"$f":"Farbe","v":0},{"$f":"Profiltabelle!D133","v":0},{"$f":"Farbe","v":0},{"$f":"Profiltabelle!E133","v":0},{"$f":"Farbe","v":0},{"$f":"Profiltabelle!F133","v":0},{"$f":"Farbe","v":0},{"$f":"Profiltabelle!G133","v":0},{"$f":"Farbe","v":0},{"$f":"Profiltabelle!H133","v":0},{"$f":"Farbe","v":0}]
[null,null,{"$f":"Profiltabelle!B134","v":{"$error":"#REF!"}},{"$f":"Profiltabelle!C134","v":0},{"$f":"Farbe","v":0},{"$f":"Profiltabelle!D134","v":0},{"$f":"Farbe","v":0},{"$f":"Profiltabelle!E134","v":0},{"$f":"Farbe","v":0},{"$f":"Profiltabelle!F134","v":0},{"$f":"Farbe","v":0},{"$f":"Profiltabelle!G134","v":0},{"$f":"Farbe","v":0},{"$f":"Profiltabelle!H134","v":0},{"$f":"Farbe","v":0}]
[null,null,{"$f":"Profiltabelle!B135","v":{"$error":"#REF!"}},{"$f":"Profiltabelle!C135","v":0},{"$f":"Farbe","v":0},{"$f":"Profiltabelle!D135","v":0},{"$f":"Farbe","v":0},{"$f":"Profiltabelle!E135","v":0},{"$f":"Farbe","v":0},{"$f":"Profiltabelle!F135","v":0},{"$f":"Farbe","v":0},{"$f":"Profiltabelle!G135","v":0},{"$f":"Farbe","v":0},{"$f":"Profiltabelle!H135","v":0},{"$f":"Farbe","v":0}]
[null,null,{"$f":"Profiltabelle!B136","v":{"$error":"#REF!"}},{"$f":"Profiltabelle!C136","v":0},{"$f":"Farbe","v":0},{"$f":"Profiltabelle!D136","v":0},{"$f":"Farbe","v":0},{"$f":"Profiltabelle!E136","v":0},{"$f":"Farbe","v":0},{"$f":"Profiltabelle!F136","v":0},{"$f":"Farbe","v":0},{"$f":"Profiltabelle!G136","v":0},{"$f":"Farbe","v":0},{"$f":"Profiltabelle!H136","v":0},{"$f":"Farbe","v":0}]
[null,null,{"$f":"Profiltabelle!B137","v":{"$error":"#REF!"}},{"$f":"Profiltabelle!C137","v":0},{"$f":"Farbe","v":0},{"$f":"Profiltabelle!D137","v":0},{"$f":"Farbe","v":0},{"$f":"Profiltabelle!E137","v":0},{"$f":"Farbe","v":0},{"$f":"Profiltabelle!F137","v":0},{"$f":"Farbe","v":0},{"$f":"Profiltabelle!G137","v":0},{"$f":"Farbe","v":0},{"$f":"Profiltabelle!H137","v":0},{"$f":"Farbe","v":0}]
[null,null,{"$f":"Profiltabelle!B138","v":{"$error":"#REF!"}},{"$f":"Profiltabelle!C138","v":0},{"$f":"Farbe","v":0},{"$f":"Profiltabelle!D138","v":0},{"$f":"Farbe","v":0},{"$f":"Profiltabelle!E138","v":0},{"$f":"Farbe","v":0},{"$f":"Profiltabelle!F138","v":0},{"$f":"Farbe","v":0},{"$f":"Profiltabelle!G138","v":0},{"$f":"Farbe","v":0},{"$f":"Profiltabelle!H138","v":0},{"$f":"Farbe","v":0}]
[null,null,{"$f":"Profiltabelle!B139","v":{"$error":"#REF!"}},{"$f":"Profiltabelle!C139","v":0},{"$f":"Farbe","v":0},{"$f":"Profiltabelle!D139","v":0},{"$f":"Farbe","v":0},{"$f":"Profiltabelle!E139","v":0},{"$f":"Farbe","v":0},{"$f":"Profiltabelle!F139","v":0},{"$f":"Farbe","v":0},{"$f":"Profiltabelle!G139","v":0},{"$f":"Farbe","v":0},{"$f":"Profiltabelle!H139","v":0},{"$f":"Farbe","v":0}]
[null,null,{"$f":"Profiltabelle!B140","v":{"$error":"#REF!"}},{"$f":"Profiltabelle!C140","v":0},{"$f":"Farbe","v":0},{"$f":"Profiltabelle!D140","v":0},{"$f":"Farbe","v":0},{"$f":"Profiltabelle!E140","v":0},{"$f":"Farbe","v":0},{"$f":"Profiltabelle!F140","v":0},{"$f":"Farbe","v":0},{"$f":"Profiltabelle!G140","v":0},{"$f":"Farbe","v":0},{"$f":"Profiltabelle!H140","v":0},{"$f":"Farbe","v":0}]
[null,null,{"$f":"Profiltabelle!B141","v":{"$error":"#REF!"}},{"$f":"Profiltabelle!C141","v":0},{"$f":"Farbe","v":0},{"$f":"Profiltabelle!D141","v":0},{"$f":"Farbe","v":0},{"$f":"Profiltabelle!E141","v":0},{"$f":"Farbe","v":0},{"$f":"Profiltabelle!F141","v":0},{"$f":"Farbe","v":0},{"$f":"Profiltabelle!G141","v":0},{"$f":"Farbe","v":0},{"$f":"Profiltabelle!H141","v":0},{"$f":"Farbe","v":0}]
[null,null,{"$f":"Profiltabelle!B142","v":{"$error":"#REF!"}},{"$f":"Profiltabelle!C142","v":0},{"$f":"Farbe","v":0},{"$f":"Profiltabelle!D142","v":0},{"$f":"Farbe","v":0},{"$f":"Profiltabelle!E142","v":0},{"$f":"Farbe","v":0},{"$f":"Profiltabelle!F142","v":0},{"$f":"Farbe","v":0},{"$f":"Profiltabelle!G142","v":0},{"$f":"Farbe","v":0},{"$f":"Profiltabelle!H142","v":0},{"$f":"Farbe","v":0}]
[null,null,{"$f":"Profiltabelle!B143","v":{"$error":"#REF!"}},{"$f":"Profiltabelle!C143","v":0},{"$f":"Farbe","v":0},{"$f":"Profiltabelle!D143","v":0},{"$f":"Farbe","v":0},{"$f":"Profiltabelle!E143","v":0},{"$f":"Farbe","v":0},{"$f":"Profiltabelle!F143","v":0},{"$f":"Farbe","v":0},{"$f":"Profiltabelle!G143","v":0},{"$f":"Farbe","v":0},{"$f":"Profiltabelle!H143","v":0},{"$f":"Farbe","v":0}]
[null,null,{"$f":"Profiltabelle!B144","v":{"$error":"#REF!"}},{"$f":"Profiltabelle!C144","v":0},{"$f":"Farbe","v":0},{"$f":"Profiltabelle!D144","v":0},{"$f":"Farbe","v":0},{"$f":"Profiltabelle!E144","v":0},{"$f":"Farbe","v":0},{"$f":"Profiltabelle!F144","v":0},{"$f":"Farbe","v":0},{"$f":"Profiltabelle!G144","v":0},{"$f":"Farbe","v":0},{"$f":"Profiltabelle!H144","v":0},{"$f":"Farbe","v":0}]
[null,null,{"$f":"Profiltabelle!B145","v":{"$error":"#REF!"}},{"$f":"Profiltabelle!C145","v":0},{"$f":"Farbe","v":0},{"$f":"Profiltabelle!D145","v":0},{"$f":"Farbe","v":0},{"$f":"Profiltabelle!E145","v":0},{"$f":"Farbe","v":0},{"$f":"Profiltabelle!F145","v":0},{"$f":"Farbe","v":0},{"$f":"Profiltabelle!G145","v":0},{"$f":"Farbe","v":0},{"$f":"Profiltabelle!H145","v":0},{"$f":"Farbe","v":0}]
[null,null,{"$f":"Profiltabelle!B146","v":{"$error":"#REF!"}},{"$f":"Profiltabelle!C146","v":0},{"$f":"Farbe","v":0},{"$f":"Profiltabelle!D146","v":0},{"$f":"Farbe","v":0},{"$f":"Profiltabelle!E146","v":0},{"$f":"Farbe","v":0},{"$f":"Profiltabelle!F146","v":0},{"$f":"Farbe","v":0},{"$f":"Profiltabelle!G146","v":0},{"$f":"Farbe","v":0},{"$f":"Profiltabelle!H146","v":0},{"$f":"Farbe","v":0}]
[null,null,{"$f":"Profiltabelle!B147","v":{"$error":"#REF!"}},{"$f":"Profiltabelle!C147","v":0},{"$f":"Farbe","v":0},{"$f":"Profiltabelle!D147","v":0},{"$f":"Farbe","v":0},{"$f":"Profiltabelle!E147","v":0},{"$f":"Farbe","v":0},{"$f":"Profiltabelle!F147","v":0},{"$f":"Farbe","v":0},{"$f":"Profiltabelle!G147","v":0},{"$f":"Farbe","v":0},{"$f":"Profiltabelle!H147","v":0},{"$f":"Farbe","v":0}]
[null,null,{"$f":"Profiltabelle!B148","v":{"$error":"#REF!"}},{"$f":"Profiltabelle!C148","v":0},{"$f":"Farbe","v":0},{"$f":"Profiltabelle!D148","v":0},{"$f":"Farbe","v":0},{"$f":"Profiltabelle!E148","v":0},{"$f":"Farbe","v":0},{"$f":"Profiltabelle!F148","v":0},{"$f":"Farbe","v":0},{"$f":"Profiltabelle!G148","v":0},{"$f":"Farbe","v":0},{"$f":"Profiltabelle!H148","v":0},{"$f":"Farbe","v":0}]
[null,null,{"$f":"Profiltabelle!B149","v":{"$error":"#REF!"}},{"$f":"Profiltabelle!C149","v":0},{"$f":"Farbe","v":0},{"$f":"Profiltabelle!D149","v":0},{"$f":"Farbe","v":0},{"$f":"Profiltabelle!E149","v":0},{"$f":"Farbe","v":0},{"$f":"Profiltabelle!F149","v":0},{"$f":"Farbe","v":0},{"$f":"Profiltabelle!G149","v":0},{"$f":"Farbe","v":0},{"$f":"Profiltabelle!H149","v":0},{"$f":"Farbe","v":0}]
[null,null,{"$f":"Profiltabelle!B150","v":{"$error":"#REF!"}},{"$f":"Profiltabelle!C150","v":0},{"$f":"Farbe","v":0},{"$f":"Profiltabelle!D150","v":0},{"$f":"Farbe","v":0},{"$f":"Profiltabelle!E150","v":0},{"$f":"Farbe","v":0},{"$f":"Profiltabelle!F150","v":0},{"$f":"Farbe","v":0},{"$f":"Profiltabelle!G150","v":0},{"$f":"Farbe","v":0},{"$f":"Profiltabelle!H150","v":0},{"$f":"Farbe","v":0}]
[null,null,{"$f":"Profiltabelle!B151","v":{"$error":"#REF!"}},{"$f":"Profiltabelle!C151","v":0},{"$f":"Farbe","v":0},{"$f":"Profiltabelle!D151","v":0},{"$f":"Farbe","v":0},{"$f":"Profiltabelle!E151","v":0},{"$f":"Farbe","v":0},{"$f":"Profiltabelle!F151","v":0},{"$f":"Farbe","v":0},{"$f":"Profiltabelle!G151","v":0},{"$f":"Farbe","v":0},{"$f":"Profiltabelle!H151","v":0},{"$f":"Farbe","v":0}]
[null,null,{"$f":"Profiltabelle!B152","v":{"$error":"#REF!"}},{"$f":"Profiltabelle!C152","v":0},{"$f":"Farbe","v":0},{"$f":"Profiltabelle!D152","v":0},{"$f":"Farbe","v":0},{"$f":"Profiltabelle!E152","v":0},{"$f":"Farbe","v":0},{"$f":"Profiltabelle!F152","v":0},{"$f":"Farbe","v":0},{"$f":"Profiltabelle!G152","v":0},{"$f":"Farbe","v":0},{"$f":"Profiltabelle!H152","v":0},{"$f":"Farbe","v":0}]
[null,null,{"$f":"Profiltabelle!B153","v":{"$error":"#REF!"}},{"$f":"Profiltabelle!C153","v":0},{"$f":"Farbe","v":0},{"$f":"Profiltabelle!D153","v":0},{"$f":"Farbe","v":0},{"$f":"Profiltabelle!E153","v":0},{"$f":"Farbe","v":0},{"$f":"Profiltabelle!F153","v":0},{"$f":"Farbe","v":0},{"$f":"Profiltabelle!G153","v":0},{"$f":"Farbe","v":0},{"$f":"Profiltabelle!H153","v":0},{"$f":"Farbe","v":0}]
[null,null,{"$f":"Profiltabelle!B154","v":{"$error":"#REF!"}},{"$f":"Profiltabelle!C154","v":0},{"$f":"Farbe","v":0},{"$f":"Profiltabelle!D154","v":0},{"$f":"Farbe","v":0},{"$f":"Profiltabelle!E154","v":0},{"$f":"Farbe","v":0},{"$f":"Profiltabelle!F154","v":0},{"$f":"Farbe","v":0},{"$f":"Profiltabelle!G154","v":0},{"$f":"Farbe","v":0},{"$f":"Profiltabelle!H154","v":0},{"$f":"Farbe","v":0}]
[null,null,{"$f":"Profiltabelle!B155","v":{"$error":"#REF!"}},{"$f":"Profiltabelle!C155","v":0},{"$f":"Farbe","v":0},{"$f":"Profiltabelle!D155","v":0},{"$f":"Farbe","v":0},{"$f":"Profiltabelle!E155","v":0},{"$f":"Farbe","v":0},{"$f":"Profiltabelle!F155","v":0},{"$f":"Farbe","v":0},{"$f":"Profiltabelle!G155","v":0},{"$f":"Farbe","v":0},{"$f":"Profiltabelle!H155","v":0},{"$f":"Farbe","v":0}]
[null,null,{"$f":"Profiltabelle!B156","v":{"$error":"#REF!"}},{"$f":"Profiltabelle!C156","v":0},{"$f":"Farbe","v":0},{"$f":"Profiltabelle!D156","v":0},{"$f":"Farbe","v":0},{"$f":"Profiltabelle!E156","v":0},{"$f":"Farbe","v":0},{"$f":"Profiltabelle!F156","v":0},{"$f":"Farbe","v":0},{"$f":"Profiltabelle!G156","v":0},{"$f":"Farbe","v":0},{"$f":"Profiltabelle!H156","v":0},{"$f":"Farbe","v":0}]
[null,null,{"$f":"Profiltabelle!B157","v":{"$error":"#REF!"}},{"$f":"Profiltabelle!C157","v":0},{"$f":"Farbe","v":0},{"$f":"Profiltabelle!D157","v":0},{"$f":"Farbe","v":0},{"$f":"Profiltabelle!E157","v":0},{"$f":"Farbe","v":0},{"$f":"Profiltabelle!F157","v":0},{"$f":"Farbe","v":0},{"$f":"Profiltabelle!G157","v":0},{"$f":"Farbe","v":0},{"$f":"Profiltabelle!H157","v":0},{"$f":"Farbe","v":0}]
[null,null,{"$f":"Profiltabelle!B158","v":{"$error":"#REF!"}},{"$f":"Profiltabelle!C158","v":0},{"$f":"Farbe","v":0},{"$f":"Profiltabelle!D158","v":0},{"$f":"Farbe","v":0},{"$f":"Profiltabelle!E158","v":0},{"$f":"Farbe","v":0},{"$f":"Profiltabelle!F158","v":0},{"$f":"Farbe","v":0},{"$f":"Profiltabelle!G158","v":0},{"$f":"Farbe","v":0},{"$f":"Profiltabelle!H158","v":0},{"$f":"Farbe","v":0}]
[null,null,{"$f":"Profiltabelle!B159","v":{"$error":"#REF!"}},{"$f":"Profiltabelle!C159","v":0},{"$f":"Farbe","v":0},{"$f":"Profiltabelle!D159","v":0},{"$f":"Farbe","v":0},{"$f":"Profiltabelle!E159","v":0},{"$f":"Farbe","v":0},{"$f":"Profiltabelle!F159","v":0},{"$f":"Farbe","v":0},{"$f":"Profiltabelle!G159","v":0},{"$f":"Farbe","v":0},{"$f":"Profiltabelle!H159","v":0},{"$f":"Farbe","v":0}]
[null,null,{"$f":"Profiltabelle!B160","v":{"$error":"#REF!"}},{"$f":"Profiltabelle!C160","v":0},{"$f":"Farbe","v":0},{"$f":"Profiltabelle!D160","v":0},{"$f":"Farbe","v":0},{"$f":"Profiltabelle!E160","v":0},{"$f":"Farbe","v":0},{"$f":"Profiltabelle!F160","v":0},{"$f":"Farbe","v":0},{"$f":"Profiltabelle!G160","v":0},{"$f":"Farbe","v":0},{"$f":"Profiltabelle!H160","v":0},{"$f":"Farbe","v":0}]

{"sheet":"Liste 1","index":10,"n_rows":41,"n_cols":4,"rows_kept":41,"cut":false,"hidden":false,"merged":[]}
[null,{"$f":"Profiltabelle!$C$10","v":0},"Namen"]
[null,1,null,{"$f":"Profiltabelle!$C$10","v":0}]
[null,2,null,{"$f":"Profiltabelle!$C$10","v":0}]
[null,3,null,{"$f":"Profiltabelle!$C$10","v":0}]
[null,4,null,{"$f":"Profiltabelle!$C$10","v":0}]
[null,5,null,{"$f":"Profiltabelle!$C$10","v":0}]
[null,6,null,{"$f":"Profiltabelle!$C$10","v":0}]
[null,7,null,{"$f":"Profiltabelle!$C$10","v":0}]
[null,8,null,{"$f":"Profiltabelle!$C$10","v":0}]
[null,9,null,{"$f":"Profiltabelle!$C$10","v":0}]
[null,10,null,{"$f":"Profiltabelle!$C$10","v":0}]
[null,11,null,{"$f":"Profiltabelle!$C$10","v":0}]
[null,12,null,{"$f":"Profiltabelle!$C$10","v":0}]
[null,13,null,{"$f":"Profiltabelle!$C$10","v":0}]
[null,14,null,{"$f":"Profiltabelle!$C$10","v":0}]
[null,15,null,{"$f":"Profiltabelle!$C$10","v":0}]
[null,16,null,{"$f":"Profiltabelle!$C$10","v":0}]
[null,17,null,{"$f":"Profiltabelle!$C$10","v":0}]
[null,18,null,{"$f":"Profiltabelle!$C$10","v":0}]
[null,19,null,{"$f":"Profiltabelle!$C$10","v":0}]
[null,20,null,{"$f":"Profiltabelle!$C$10","v":0}]
[null,21,null,{"$f":"Profiltabelle!$C$10","v":0}]
[null,22,null,{"$f":"Profiltabelle!$C$10","v":0}]
[null,23,null,{"$f":"Profiltabelle!$C$10","v":0}]
[null,24,null,{"$f":"Profiltabelle!$C$10","v":0}]
[null,25,null,{"$f":"Profiltabelle!$C$10","v":0}]
[null,26,null,{"$f":"Profiltabelle!$C$10","v":0}]
[null,27,null,{"$f":"Profiltabelle!$C$10","v":0}]
[null,28,null,{"$f":"Profiltabelle!$C$10","v":0}]
[null,29,null,{"$f":"Profiltabelle!$C$10","v":0}]
[null,30,null,{"$f":"Profiltabelle!$C$10","v":0}]
[null,null,null,{"$f":"Profiltabelle!$C$10","v":0}]
[null,null,null,{"$f":"Profiltabelle!$C$10","v":0}]
[null,null,null,{"$f":"Profiltabelle!$C$10","v":0}]
[null,null,null,{"$f":"Profiltabelle!$C$10","v":0}]
[null,null,null,{"$f":"Profiltabelle!$C$10","v":0}]
[null,null,null,{"$f":"Profiltabelle!$C$10","v":0}]
[null,null,null,{"$f":"Profiltabelle!$C$10","v":0}]
[null,null,null,{"$f":"Profiltabelle!$C$10","v":0}]
[null,null,null,{"$f":"Profiltabelle!$C$10","v":0}]
[null,null,null,{"$f":"Profiltabelle!$C$10","v":0}]

{"sheet":"Liste 2","index":11,"n_rows":41,"n_cols":4,"rows_kept":41,"cut":false,"hidden":false,"merged":[]}
[null,{"$f":"Profiltabelle!$D$10","v":0},"Namen"]
[null,1,null,{"$f":"Profiltabelle!$D$10","v":0}]
[null,2,null,{"$f":"Profiltabelle!$D$10","v":0}]
[null,3,null,{"$f":"Profiltabelle!$D$10","v":0}]
[null,4,null,{"$f":"Profiltabelle!$D$10","v":0}]
[null,5,null,{"$f":"Profiltabelle!$D$10","v":0}]
[null,6,null,{"$f":"Profiltabelle!$D$10","v":0}]
[null,7,null,{"$f":"Profiltabelle!$D$10","v":0}]
[null,8,null,{"$f":"Profiltabelle!$D$10","v":0}]
[null,9,null,{"$f":"Profiltabelle!$D$10","v":0}]
[null,10,null,{"$f":"Profiltabelle!$D$10","v":0}]
[null,11,null,{"$f":"Profiltabelle!$D$10","v":0}]
[null,12,null,{"$f":"Profiltabelle!$D$10","v":0}]
[null,13,null,{"$f":"Profiltabelle!$D$10","v":0}]
[null,14,null,{"$f":"Profiltabelle!$D$10","v":0}]
[null,15,null,{"$f":"Profiltabelle!$D$10","v":0}]
[null,16,null,{"$f":"Profiltabelle!$D$10","v":0}]
[null,17,null,{"$f":"Profiltabelle!$D$10","v":0}]
[null,18,null,{"$f":"Profiltabelle!$D$10","v":0}]
[null,19,null,{"$f":"Profiltabelle!$D$10","v":0}]
[null,20,null,{"$f":"Profiltabelle!$D$10","v":0}]
[null,21,null,{"$f":"Profiltabelle!$D$10","v":0}]
[null,22,null,{"$f":"Profiltabelle!$D$10","v":0}]
[null,23,null,{"$f":"Profiltabelle!$D$10","v":0}]
[null,24,null,{"$f":"Profiltabelle!$D$10","v":0}]
[null,25,null,{"$f":"Profiltabelle!$D$10","v":0}]
[null,26,null,{"$f":"Profiltabelle!$D$10","v":0}]
[null,27,null,{"$f":"Profiltabelle!$D$10","v":0}]
[null,28,null,{"$f":"Profiltabelle!$D$10","v":0}]
[null,29,null,{"$f":"Profiltabelle!$D$10","v":0}]
[null,30,null,{"$f":"Profiltabelle!$D$10","v":0}]
[null,null,null,{"$f":"Profiltabelle!$D$10","v":0}]
[null,null,null,{"$f":"Profiltabelle!$D$10","v":0}]
[null,null,null,{"$f":"Profiltabelle!$D$10","v":0}]
[null,null,null,{"$f":"Profiltabelle!$D$10","v":0}]
[null,null,null,{"$f":"Profiltabelle!$D$10","v":0}]
[null,null,null,{"$f":"Profiltabelle!$D$10","v":0}]
[null,null,null,{"$f":"Profiltabelle!$D$10","v":0}]
[null,null,null,{"$f":"Profiltabelle!$D$10","v":0}]
[null,null,null,{"$f":"Profiltabelle!$D$10","v":0}]
[null,null,null,{"$f":"Profiltabelle!$D$10","v":0}]

{"sheet":"Liste 3","index":12,"n_rows":41,"n_cols":4,"rows_kept":41,"cut":false,"hidden":false,"merged":[]}
[null,{"$f":"Profiltabelle!$E$10","v":0},"Namen"]
[null,1,null,{"$f":"Profiltabelle!$E$10","v":0}]
[null,2,null,{"$f":"Profiltabelle!$E$10","v":0}]
[null,3,null,{"$f":"Profiltabelle!$E$10","v":0}]
[null,4,null,{"$f":"Profiltabelle!$E$10","v":0}]
[null,5,null,{"$f":"Profiltabelle!$E$10","v":0}]
[null,6,null,{"$f":"Profiltabelle!$E$10","v":0}]
[null,7,null,{"$f":"Profiltabelle!$E$10","v":0}]
[null,8,null,{"$f":"Profiltabelle!$E$10","v":0}]
[null,9,null,{"$f":"Profiltabelle!$E$10","v":0}]
[null,10,null,{"$f":"Profiltabelle!$E$10","v":0}]
[null,11,null,{"$f":"Profiltabelle!$E$10","v":0}]
[null,12,null,{"$f":"Profiltabelle!$E$10","v":0}]
[null,13,null,{"$f":"Profiltabelle!$E$10","v":0}]
[null,14,null,{"$f":"Profiltabelle!$E$10","v":0}]
[null,15,null,{"$f":"Profiltabelle!$E$10","v":0}]
[null,16,null,{"$f":"Profiltabelle!$E$10","v":0}]
[null,17,null,{"$f":"Profiltabelle!$E$10","v":0}]
[null,18,null,{"$f":"Profiltabelle!$E$10","v":0}]
[null,19,null,{"$f":"Profiltabelle!$E$10","v":0}]
[null,20,null,{"$f":"Profiltabelle!$E$10","v":0}]
[null,21,null,{"$f":"Profiltabelle!$E$10","v":0}]
[null,22,null,{"$f":"Profiltabelle!$E$10","v":0}]
[null,23,null,{"$f":"Profiltabelle!$E$10","v":0}]
[null,24,null,{"$f":"Profiltabelle!$E$10","v":0}]
[null,25,null,{"$f":"Profiltabelle!$E$10","v":0}]
[null,26,null,{"$f":"Profiltabelle!$E$10","v":0}]
[null,27,null,{"$f":"Profiltabelle!$E$10","v":0}]
[null,28,null,{"$f":"Profiltabelle!$E$10","v":0}]
[null,29,null,{"$f":"Profiltabelle!$E$10","v":0}]
[null,30,null,{"$f":"Profiltabelle!$E$10","v":0}]
[null,null,null,{"$f":"Profiltabelle!$E$10","v":0}]
[null,null,null,{"$f":"Profiltabelle!$E$10","v":0}]
[null,null,null,{"$f":"Profiltabelle!$E$10","v":0}]
[null,null,null,{"$f":"Profiltabelle!$E$10","v":0}]
[null,null,null,{"$f":"Profiltabelle!$E$10","v":0}]
[null,null,null,{"$f":"Profiltabelle!$E$10","v":0}]
[null,null,null,{"$f":"Profiltabelle!$E$10","v":0}]
[null,null,null,{"$f":"Profiltabelle!$E$10","v":0}]
[null,null,null,{"$f":"Profiltabelle!$E$10","v":0}]
[null,null,null,{"$f":"Profiltabelle!$E$10","v":0}]

{"sheet":"Liste 4","index":13,"n_rows":41,"n_cols":4,"rows_kept":41,"cut":false,"hidden":false,"merged":[]}
[null,{"$f":"Profiltabelle!$F$10","v":0},"Namen"]
[null,1,null,{"$f":"Profiltabelle!$F$10","v":0}]
[null,2,null,{"$f":"Profiltabelle!$F$10","v":0}]
[null,3,null,{"$f":"Profiltabelle!$F$10","v":0}]
[null,4,null,{"$f":"Profiltabelle!$F$10","v":0}]
[null,5,null,{"$f":"Profiltabelle!$F$10","v":0}]
[null,6,null,{"$f":"Profiltabelle!$F$10","v":0}]
[null,7,null,{"$f":"Profiltabelle!$F$10","v":0}]
[null,8,null,{"$f":"Profiltabelle!$F$10","v":0}]
[null,9,null,{"$f":"Profiltabelle!$F$10","v":0}]
[null,10,null,{"$f":"Profiltabelle!$F$10","v":0}]
[null,11,null,{"$f":"Profiltabelle!$F$10","v":0}]
[null,12,null,{"$f":"Profiltabelle!$F$10","v":0}]
[null,13,null,{"$f":"Profiltabelle!$F$10","v":0}]
[null,14,null,{"$f":"Profiltabelle!$F$10","v":0}]
[null,15,null,{"$f":"Profiltabelle!$F$10","v":0}]
[null,16,null,{"$f":"Profiltabelle!$F$10","v":0}]
[null,17,null,{"$f":"Profiltabelle!$F$10","v":0}]
[null,18,null,{"$f":"Profiltabelle!$F$10","v":0}]
[null,19,null,{"$f":"Profiltabelle!$F$10","v":0}]
[null,20,null,{"$f":"Profiltabelle!$F$10","v":0}]
[null,21,null,{"$f":"Profiltabelle!$F$10","v":0}]
[null,22,null,{"$f":"Profiltabelle!$F$10","v":0}]
[null,23,null,{"$f":"Profiltabelle!$F$10","v":0}]
[null,24,null,{"$f":"Profiltabelle!$F$10","v":0}]
[null,25,null,{"$f":"Profiltabelle!$F$10","v":0}]
[null,26,null,{"$f":"Profiltabelle!$F$10","v":0}]
[null,27,null,{"$f":"Profiltabelle!$F$10","v":0}]
[null,28,null,{"$f":"Profiltabelle!$F$10","v":0}]
[null,29,null,{"$f":"Profiltabelle!$F$10","v":0}]
[null,30,null,{"$f":"Profiltabelle!$F$10","v":0}]
[null,null,null,{"$f":"Profiltabelle!$F$10","v":0}]
[null,null,null,{"$f":"Profiltabelle!$F$10","v":0}]
[null,null,null,{"$f":"Profiltabelle!$F$10","v":0}]
[null,null,null,{"$f":"Profiltabelle!$F$10","v":0}]
[null,null,null,{"$f":"Profiltabelle!$F$10","v":0}]
[null,null,null,{"$f":"Profiltabelle!$F$10","v":0}]
[null,null,null,{"$f":"Profiltabelle!$F$10","v":0}]
[null,null,null,{"$f":"Profiltabelle!$F$10","v":0}]
[null,null,null,{"$f":"Profiltabelle!$F$10","v":0}]
[null,null,null,{"$f":"Profiltabelle!$F$10","v":0}]

{"sheet":"Liste 5","index":14,"n_rows":41,"n_cols":4,"rows_kept":41,"cut":false,"hidden":false,"merged":[]}
[null,{"$f":"Profiltabelle!$G$10","v":0},"Namen"]
[null,1,null,{"$f":"Profiltabelle!$G$10","v":0}]
[null,2,null,{"$f":"Profiltabelle!$G$10","v":0}]
[null,3,null,{"$f":"Profiltabelle!$G$10","v":0}]
[null,4,null,{"$f":"Profiltabelle!$G$10","v":0}]
[null,5,null,{"$f":"Profiltabelle!$G$10","v":0}]
[null,6,null,{"$f":"Profiltabelle!$G$10","v":0}]
[null,7,null,{"$f":"Profiltabelle!$G$10","v":0}]
[null,8,null,{"$f":"Profiltabelle!$G$10","v":0}]
[null,9,null,{"$f":"Profiltabelle!$G$10","v":0}]
[null,10,null,{"$f":"Profiltabelle!$G$10","v":0}]
[null,11,null,{"$f":"Profiltabelle!$G$10","v":0}]
[null,12,null,{"$f":"Profiltabelle!$G$10","v":0}]
[null,13,null,{"$f":"Profiltabelle!$G$10","v":0}]
[null,14,null,{"$f":"Profiltabelle!$G$10","v":0}]
[null,15,null,{"$f":"Profiltabelle!$G$10","v":0}]
[null,16,null,{"$f":"Profiltabelle!$G$10","v":0}]
[null,17,null,{"$f":"Profiltabelle!$G$10","v":0}]
[null,18,null,{"$f":"Profiltabelle!$G$10","v":0}]
[null,19,null,{"$f":"Profiltabelle!$G$10","v":0}]
[null,20,null,{"$f":"Profiltabelle!$G$10","v":0}]
[null,21,null,{"$f":"Profiltabelle!$G$10","v":0}]
[null,22,null,{"$f":"Profiltabelle!$G$10","v":0}]
[null,23,null,{"$f":"Profiltabelle!$G$10","v":0}]
[null,24,null,{"$f":"Profiltabelle!$G$10","v":0}]
[null,25,null,{"$f":"Profiltabelle!$G$10","v":0}]
[null,26,null,{"$f":"Profiltabelle!$G$10","v":0}]
[null,27,null,{"$f":"Profiltabelle!$G$10","v":0}]
[null,28,null,{"$f":"Profiltabelle!$G$10","v":0}]
[null,29,null,{"$f":"Profiltabelle!$G$10","v":0}]
[null,30,null,{"$f":"Profiltabelle!$G$10","v":0}]
[null,null,null,{"$f":"Profiltabelle!$G$10","v":0}]
[null,null,null,{"$f":"Profiltabelle!$G$10","v":0}]
[null,null,null,{"$f":"Profiltabelle!$G$10","v":0}]
[null,null,null,{"$f":"Profiltabelle!$G$10","v":0}]
[null,null,null,{"$f":"Profiltabelle!$G$10","v":0}]
[null,null,null,{"$f":"Profiltabelle!$G$10","v":0}]
[null,null,null,{"$f":"Profiltabelle!$G$10","v":0}]
[null,null,null,{"$f":"Profiltabelle!$G$10","v":0}]
[null,null,null,{"$f":"Profiltabelle!$G$10","v":0}]
[null,null,null,{"$f":"Profiltabelle!$G$10","v":0}]

{"sheet":"Liste 6","index":15,"n_rows":41,"n_cols":4,"rows_kept":41,"cut":false,"hidden":false,"merged":[]}
[null,{"$f":"Profiltabelle!$H$10","v":0},"Namen"]
[null,1,null,{"$f":"Profiltabelle!$H$10","v":0}]
[null,2,null,{"$f":"Profiltabelle!$H$10","v":0}]
[null,3,null,{"$f":"Profiltabelle!$H$10","v":0}]
[null,4,null,{"$f":"Profiltabelle!$H$10","v":0}]
[null,5,null,{"$f":"Profiltabelle!$H$10","v":0}]
[null,6,null,{"$f":"Profiltabelle!$H$10","v":0}]
[null,7,null,{"$f":"Profiltabelle!$H$10","v":0}]
[null,8,null,{"$f":"Profiltabelle!$H$10","v":0}]
[null,9,null,{"$f":"Profiltabelle!$H$10","v":0}]
[null,10,null,{"$f":"Profiltabelle!$H$10","v":0}]
[null,11,null,{"$f":"Profiltabelle!$H$10","v":0}]
[null,12,null,{"$f":"Profiltabelle!$H$10","v":0}]
[null,13,null,{"$f":"Profiltabelle!$H$10","v":0}]
[null,14,null,{"$f":"Profiltabelle!$H$10","v":0}]
[null,15,null,{"$f":"Profiltabelle!$H$10","v":0}]
[null,16,null,{"$f":"Profiltabelle!$H$10","v":0}]
[null,17,null,{"$f":"Profiltabelle!$H$10","v":0}]
[null,18,null,{"$f":"Profiltabelle!$H$10","v":0}]
[null,19,null,{"$f":"Profiltabelle!$H$10","v":0}]
[null,20,null,{"$f":"Profiltabelle!$H$10","v":0}]
[null,21,null,{"$f":"Profiltabelle!$H$10","v":0}]
[null,22,null,{"$f":"Profiltabelle!$H$10","v":0}]
[null,23,null,{"$f":"Profiltabelle!$H$10","v":0}]
[null,24,null,{"$f":"Profiltabelle!$H$10","v":0}]
[null,25,null,{"$f":"Profiltabelle!$H$10","v":0}]
[null,26,null,{"$f":"Profiltabelle!$H$10","v":0}]
[null,27,null,{"$f":"Profiltabelle!$H$10","v":0}]
[null,28,null,{"$f":"Profiltabelle!$H$10","v":0}]
[null,29,null,{"$f":"Profiltabelle!$H$10","v":0}]
[null,30,null,{"$f":"Profiltabelle!$H$10","v":0}]
[null,null,null,{"$f":"Profiltabelle!$H$10","v":0}]
[null,null,null,{"$f":"Profiltabelle!$H$10","v":0}]
[null,null,null,{"$f":"Profiltabelle!$H$10","v":0}]
[null,null,null,{"$f":"Profiltabelle!$H$10","v":0}]
[null,null,null,{"$f":"Profiltabelle!$H$10","v":0}]
[null,null,null,{"$f":"Profiltabelle!$H$10","v":0}]
[null,null,null,{"$f":"Profiltabelle!$H$10","v":0}]
[null,null,null,{"$f":"Profiltabelle!$H$10","v":0}]
[null,null,null,{"$f":"Profiltabelle!$H$10","v":0}]
[null,null,null,{"$f":"Profiltabelle!$H$10","v":0}]

{"sheet":"Kurse","index":16,"n_rows":1,"n_cols":3,"rows_kept":1,"cut":false,"hidden":false,"merged":[]}
["Angebotsname","ID / Kürzel","Fach"]

{"sheet":"Export","index":17,"n_rows":0,"n_cols":0,"rows_kept":0,"cut":false,"hidden":false,"merged":[]}

{"sheet":"Ergebnis","index":18,"n_rows":151,"n_cols":4,"rows_kept":151,"cut":false,"hidden":false,"merged":[]}
["Klasse","Name","Vorname","Kurs"]
[{"$error":"#N/A"},{"$error":"#N/A"},{"$error":"#N/A"},{"$error":"#N/A"}]
[{"$error":"#N/A"},{"$error":"#N/A"},{"$error":"#N/A"},{"$error":"#N/A"}]
[{"$error":"#N/A"},{"$error":"#N/A"},{"$error":"#N/A"},{"$error":"#N/A"}]
[{"$error":"#N/A"},{"$error":"#N/A"},{"$error":"#N/A"},{"$error":"#N/A"}]
[{"$error":"#N/A"},{"$error":"#N/A"},{"$error":"#N/A"},{"$error":"#N/A"}]
[{"$error":"#N/A"},{"$error":"#N/A"},{"$error":"#N/A"},{"$error":"#N/A"}]
[{"$error":"#N/A"},{"$error":"#N/A"},{"$error":"#N/A"},{"$error":"#N/A"}]
[{"$error":"#N/A"},{"$error":"#N/A"},{"$error":"#N/A"},{"$error":"#N/A"}]
[{"$error":"#N/A"},{"$error":"#N/A"},{"$error":"#N/A"},{"$error":"#N/A"}]
[{"$error":"#N/A"},{"$error":"#N/A"},{"$error":"#N/A"},{"$error":"#N/A"}]
[{"$error":"#N/A"},{"$error":"#N/A"},{"$error":"#N/A"},{"$error":"#N/A"}]
[{"$error":"#N/A"},{"$error":"#N/A"},{"$error":"#N/A"},{"$error":"#N/A"}]
[{"$error":"#N/A"},{"$error":"#N/A"},{"$error":"#N/A"},{"$error":"#N/A"}]
[{"$error":"#N/A"},{"$error":"#N/A"},{"$error":"#N/A"},{"$error":"#N/A"}]
[{"$error":"#N/A"},{"$error":"#N/A"},{"$error":"#N/A"},{"$error":"#N/A"}]
[{"$error":"#N/A"},{"$error":"#N/A"},{"$error":"#N/A"},{"$error":"#N/A"}]
[{"$error":"#N/A"},{"$error":"#N/A"},{"$error":"#N/A"},{"$error":"#N/A"}]
[{"$error":"#N/A"},{"$error":"#N/A"},{"$error":"#N/A"},{"$error":"#N/A"}]
[{"$error":"#N/A"},{"$error":"#N/A"},{"$error":"#N/A"},{"$error":"#N/A"}]
[{"$error":"#N/A"},{"$error":"#N/A"},{"$error":"#N/A"},{"$error":"#N/A"}]
[{"$error":"#N/A"},{"$error":"#N/A"},{"$error":"#N/A"},{"$error":"#N/A"}]
[{"$error":"#N/A"},{"$error":"#N/A"},{"$error":"#N/A"},{"$error":"#N/A"}]
[{"$error":"#N/A"},{"$error":"#N/A"},{"$error":"#N/A"},{"$error":"#N/A"}]
[{"$error":"#N/A"},{"$error":"#N/A"},{"$error":"#N/A"},{"$error":"#N/A"}]
[{"$error":"#N/A"},{"$error":"#N/A"},{"$error":"#N/A"},{"$error":"#N/A"}]
[{"$error":"#N/A"},{"$error":"#N/A"},{"$error":"#N/A"},{"$error":"#N/A"}]
[{"$error":"#N/A"},{"$error":"#N/A"},{"$error":"#N/A"},{"$error":"#N/A"}]
[{"$error":"#N/A"},{"$error":"#N/A"},{"$error":"#N/A"},{"$error":"#N/A"}]
[{"$error":"#N/A"},{"$error":"#N/A"},{"$error":"#N/A"},{"$error":"#N/A"}]
[{"$error":"#N/A"},{"$error":"#N/A"},{"$error":"#N/A"},{"$error":"#N/A"}]
[{"$error":"#N/A"},{"$error":"#N/A"},{"$error":"#N/A"},{"$error":"#N/A"}]
[{"$error":"#N/A"},{"$error":"#N/A"},{"$error":"#N/A"},{"$error":"#N/A"}]
[{"$error":"#N/A"},{"$error":"#N/A"},{"$error":"#N/A"},{"$error":"#N/A"}]
[{"$error":"#N/A"},{"$error":"#N/A"},{"$error":"#N/A"},{"$error":"#N/A"}]
[{"$error":"#N/A"},{"$error":"#N/A"},{"$error":"#N/A"},{"$error":"#N/A"}]
[{"$error":"#N/A"},{"$error":"#N/A"},{"$error":"#N/A"},{"$error":"#N/A"}]
[{"$error":"#N/A"},{"$error":"#N/A"},{"$error":"#N/A"},{"$error":"#N/A"}]
[{"$error":"#N/A"},{"$error":"#N/A"},{"$error":"#N/A"},{"$error":"#N/A"}]
[{"$error":"#N/A"},{"$error":"#N/A"},{"$error":"#N/A"},{"$error":"#N/A"}]
[{"$error":"#N/A"},{"$error":"#N/A"},{"$error":"#N/A"},{"$error":"#N/A"}]
[{"$error":"#N/A"},{"$error":"#N/A"},{"$error":"#N/A"},{"$error":"#N/A"}]
[{"$error":"#N/A"},{"$error":"#N/A"},{"$error":"#N/A"},{"$error":"#N/A"}]
[{"$error":"#N/A"},{"$error":"#N/A"},{"$error":"#N/A"},{"$error":"#N/A"}]
[{"$error":"#N/A"},{"$error":"#N/A"},{"$error":"#N/A"},{"$error":"#N/A"}]
[{"$error":"#N/A"},{"$error":"#N/A"},{"$error":"#N/A"},{"$error":"#N/A"}]
[{"$error":"#N/A"},{"$error":"#N/A"},{"$error":"#N/A"},{"$error":"#N/A"}]
[{"$error":"#N/A"},{"$error":"#N/A"},{"$error":"#N/A"},{"$error":"#N/A"}]
[{"$error":"#N/A"},{"$error":"#N/A"},{"$error":"#N/A"},{"$error":"#N/A"}]
[{"$error":"#N/A"},{"$error":"#N/A"},{"$error":"#N/A"},{"$error":"#N/A"}]
[{"$error":"#N/A"},{"$error":"#N/A"},{"$error":"#N/A"},{"$error":"#N/A"}]
[{"$error":"#N/A"},{"$error":"#N/A"},{"$error":"#N/A"},{"$error":"#N/A"}]
[{"$error":"#N/A"},{"$error":"#N/A"},{"$error":"#N/A"},{"$error":"#N/A"}]
[{"$error":"#N/A"},{"$error":"#N/A"},{"$error":"#N/A"},{"$error":"#N/A"}]
[{"$error":"#N/A"},{"$error":"#N/A"},{"$error":"#N/A"},{"$error":"#N/A"}]
[{"$error":"#N/A"},{"$error":"#N/A"},{"$error":"#N/A"},{"$error":"#N/A"}]
[{"$error":"#N/A"},{"$error":"#N/A"},{"$error":"#N/A"},{"$error":"#N/A"}]
[{"$error":"#N/A"},{"$error":"#N/A"},{"$error":"#N/A"},{"$error":"#N/A"}]
[{"$error":"#N/A"},{"$error":"#N/A"},{"$error":"#N/A"},{"$error":"#N/A"}]
[{"$error":"#N/A"},{"$error":"#N/A"},{"$error":"#N/A"},{"$error":"#N/A"}]
[{"$error":"#N/A"},{"$error":"#N/A"},{"$error":"#N/A"},{"$error":"#N/A"}]
[{"$error":"#N/A"},{"$error":"#N/A"},{"$error":"#N/A"},{"$error":"#N/A"}]
[{"$error":"#N/A"},{"$error":"#N/A"},{"$error":"#N/A"},{"$error":"#N/A"}]
[{"$error":"#N/A"},{"$error":"#N/A"},{"$error":"#N/A"},{"$error":"#N/A"}]
[{"$error":"#N/A"},{"$error":"#N/A"},{"$error":"#N/A"},{"$error":"#N/A"}]
[{"$error":"#N/A"},{"$error":"#N/A"},{"$error":"#N/A"},{"$error":"#N/A"}]
[{"$error":"#N/A"},{"$error":"#N/A"},{"$error":"#N/A"},{"$error":"#N/A"}]
[{"$error":"#N/A"},{"$error":"#N/A"},{"$error":"#N/A"},{"$error":"#N/A"}]
[{"$error":"#N/A"},{"$error":"#N/A"},{"$error":"#N/A"},{"$error":"#N/A"}]
[{"$error":"#N/A"},{"$error":"#N/A"},{"$error":"#N/A"},{"$error":"#N/A"}]
[{"$error":"#N/A"},{"$error":"#N/A"},{"$error":"#N/A"},{"$error":"#N/A"}]
[{"$error":"#N/A"},{"$error":"#N/A"},{"$error":"#N/A"},{"$error":"#N/A"}]
[{"$error":"#N/A"},{"$error":"#N/A"},{"$error":"#N/A"},{"$error":"#N/A"}]
[{"$error":"#N/A"},{"$error":"#N/A"},{"$error":"#N/A"},{"$error":"#N/A"}]
[{"$error":"#N/A"},{"$error":"#N/A"},{"$error":"#N/A"},{"$error":"#N/A"}]
[{"$error":"#N/A"},{"$error":"#N/A"},{"$error":"#N/A"},{"$error":"#N/A"}]
[{"$error":"#N/A"},{"$error":"#N/A"},{"$error":"#N/A"},{"$error":"#N/A"}]
[{"$error":"#N/A"},{"$error":"#N/A"},{"$error":"#N/A"},{"$error":"#N/A"}]
[{"$error":"#N/A"},{"$error":"#N/A"},{"$error":"#N/A"},{"$error":"#N/A"}]
[{"$error":"#N/A"},{"$error":"#N/A"},{"$error":"#N/A"},{"$error":"#N/A"}]
[{"$error":"#N/A"},{"$error":"#N/A"},{"$error":"#N/A"},{"$error":"#N/A"}]
[{"$error":"#N/A"},{"$error":"#N/A"},{"$error":"#N/A"},{"$error":"#N/A"}]
[{"$error":"#N/A"},{"$error":"#N/A"},{"$error":"#N/A"},{"$error":"#N/A"}]
[{"$error":"#N/A"},{"$error":"#N/A"},{"$error":"#N/A"},{"$error":"#N/A"}]
[{"$error":"#N/A"},{"$error":"#N/A"},{"$error":"#N/A"},{"$error":"#N/A"}]
[{"$error":"#N/A"},{"$error":"#N/A"},{"$error":"#N/A"},{"$error":"#N/A"}]
[{"$error":"#N/A"},{"$error":"#N/A"},{"$error":"#N/A"},{"$error":"#N/A"}]
[{"$error":"#N/A"},{"$error":"#N/A"},{"$error":"#N/A"},{"$error":"#N/A"}]
[{"$error":"#N/A"},{"$error":"#N/A"},{"$error":"#N/A"},{"$error":"#N/A"}]
[{"$error":"#N/A"},{"$error":"#N/A"},{"$error":"#N/A"},{"$error":"#N/A"}]
[{"$error":"#N/A"},{"$error":"#N/A"},{"$error":"#N/A"},{"$error":"#N/A"}]
[{"$error":"#N/A"},{"$error":"#N/A"},{"$error":"#N/A"},{"$error":"#N/A"}]
[{"$error":"#N/A"},{"$error":"#N/A"},{"$error":"#N/A"},{"$error":"#N/A"}]
[{"$error":"#N/A"},{"$error":"#N/A"},{"$error":"#N/A"},{"$error":"#N/A"}]
[{"$error":"#N/A"},{"$error":"#N/A"},{"$error":"#N/A"},{"$error":"#N/A"}]
[{"$error":"#N/A"},{"$error":"#N/A"},{"$error":"#N/A"},{"$error":"#N/A"}]
[{"$error":"#N/A"},{"$error":"#N/A"},{"$error":"#N/A"},{"$error":"#N/A"}]
[{"$error":"#N/A"},{"$error":"#N/A"},{"$error":"#N/A"},{"$error":"#N/A"}]
[{"$error":"#N/A"},{"$error":"#N/A"},{"$error":"#N/A"},{"$error":"#N/A"}]
[{"$error":"#N/A"},{"$error":"#N/A"},{"$error":"#N/A"},{"$error":"#N/A"}]
[{"$error":"#N/A"},{"$error":"#N/A"},{"$error":"#N/A"},{"$error":"#N/A"}]
[{"$error":"#N/A"},{"$error":"#N/A"},{"$error":"#N/A"},{"$error":"#N/A"}]
[{"$error":"#N/A"},{"$error":"#N/A"},{"$error":"#N/A"},{"$error":"#N/A"}]
[{"$error":"#N/A"},{"$error":"#N/A"},{"$error":"#N/A"},{"$error":"#N/A"}]
[{"$error":"#N/A"},{"$error":"#N/A"},{"$error":"#N/A"},{"$error":"#N/A"}]
[{"$error":"#N/A"},{"$error":"#N/A"},{"$error":"#N/A"},{"$error":"#N/A"}]
[{"$error":"#N/A"},{"$error":"#N/A"},{"$error":"#N/A"},{"$error":"#N/A"}]
[{"$error":"#N/A"},{"$error":"#N/A"},{"$error":"#N/A"},{"$error":"#N/A"}]
[{"$error":"#N/A"},{"$error":"#N/A"},{"$error":"#N/A"},{"$error":"#N/A"}]
[{"$error":"#N/A"},{"$error":"#N/A"},{"$error":"#N/A"},{"$error":"#N/A"}]
[{"$error":"#N/A"},{"$error":"#N/A"},{"$error":"#N/A"},{"$error":"#N/A"}]
[{"$error":"#N/A"},{"$error":"#N/A"},{"$error":"#N/A"},{"$error":"#N/A"}]
[{"$error":"#N/A"},{"$error":"#N/A"},{"$error":"#N/A"},{"$error":"#N/A"}]
[{"$error":"#N/A"},{"$error":"#N/A"},{"$error":"#N/A"},{"$error":"#N/A"}]
[{"$error":"#N/A"},{"$error":"#N/A"},{"$error":"#N/A"},{"$error":"#N/A"}]
[{"$error":"#N/A"},{"$error":"#N/A"},{"$error":"#N/A"},{"$error":"#N/A"}]
[{"$error":"#N/A"},{"$error":"#N/A"},{"$error":"#N/A"},{"$error":"#N/A"}]
[{"$error":"#N/A"},{"$error":"#N/A"},{"$error":"#N/A"},{"$error":"#N/A"}]
[{"$error":"#N/A"},{"$error":"#N/A"},{"$error":"#N/A"},{"$error":"#N/A"}]
[{"$error":"#N/A"},{"$error":"#N/A"},{"$error":"#N/A"},{"$error":"#N/A"}]
[{"$error":"#N/A"},{"$error":"#N/A"},{"$error":"#N/A"},{"$error":"#N/A"}]
[{"$error":"#N/A"},{"$error":"#N/A"},{"$error":"#N/A"},{"$error":"#N/A"}]
[{"$error":"#N/A"},{"$error":"#N/A"},{"$error":"#N/A"},{"$error":"#N/A"}]
[{"$error":"#N/A"},{"$error":"#N/A"},{"$error":"#N/A"},{"$error":"#N/A"}]
[{"$error":"#N/A"},{"$error":"#N/A"},{"$error":"#N/A"},{"$error":"#N/A"}]
[{"$error":"#N/A"},{"$error":"#N/A"},{"$error":"#N/A"},{"$error":"#N/A"}]
[{"$error":"#N/A"},{"$error":"#N/A"},{"$error":"#N/A"},{"$error":"#N/A"}]
[{"$error":"#N/A"},{"$error":"#N/A"},{"$error":"#N/A"},{"$error":"#N/A"}]
[{"$error":"#N/A"},{"$error":"#N/A"},{"$error":"#N/A"},{"$error":"#N/A"}]
[{"$error":"#N/A"},{"$error":"#N/A"},{"$error":"#N/A"},{"$error":"#N/A"}]
[{"$error":"#N/A"},{"$error":"#N/A"},{"$error":"#N/A"},{"$error":"#N/A"}]
[{"$error":"#N/A"},{"$error":"#N/A"},{"$error":"#N/A"},{"$error":"#N/A"}]
[{"$error":"#N/A"},{"$error":"#N/A"},{"$error":"#N/A"},{"$error":"#N/A"}]
[{"$error":"#N/A"},{"$error":"#N/A"},{"$error":"#N/A"},{"$error":"#N/A"}]
[{"$error":"#N/A"},{"$error":"#N/A"},{"$error":"#N/A"},{"$error":"#N/A"}]
[{"$error":"#N/A"},{"$error":"#N/A"},{"$error":"#N/A"},{"$error":"#N/A"}]
[{"$error":"#N/A"},{"$error":"#N/A"},{"$error":"#N/A"},{"$error":"#N/A"}]
[{"$error":"#N/A"},{"$error":"#N/A"},{"$error":"#N/A"},{"$error":"#N/A"}]
[{"$error":"#N/A"},{"$error":"#N/A"},{"$error":"#N/A"},{"$error":"#N/A"}]
[{"$error":"#N/A"},{"$error":"#N/A"},{"$error":"#N/A"},{"$error":"#N/A"}]
[{"$error":"#N/A"},{"$error":"#N/A"},{"$error":"#N/A"},{"$error":"#N/A"}]
[{"$error":"#N/A"},{"$error":"#N/A"},{"$error":"#N/A"},{"$error":"#N/A"}]
[{"$error":"#N/A"},{"$error":"#N/A"},{"$error":"#N/A"},{"$error":"#N/A"}]
[{"$error":"#N/A"},{"$error":"#N/A"},{"$error":"#N/A"},{"$error":"#N/A"}]
[{"$error":"#N/A"},{"$error":"#N/A"},{"$error":"#N/A"},{"$error":"#N/A"}]
[{"$error":"#N/A"},{"$error":"#N/A"},{"$error":"#N/A"},{"$error":"#N/A"}]
[{"$error":"#N/A"},{"$error":"#N/A"},{"$error":"#N/A"},{"$error":"#N/A"}]
[{"$error":"#N/A"},{"$error":"#N/A"},{"$error":"#N/A"},{"$error":"#N/A"}]
[{"$error":"#N/A"},{"$error":"#N/A"},{"$error":"#N/A"},{"$error":"#N/A"}]
[{"$error":"#N/A"},{"$error":"#N/A"},{"$error":"#N/A"},{"$error":"#N/A"}]
[{"$error":"#N/A"},{"$error":"#N/A"},{"$error":"#N/A"},{"$error":"#N/A"}]

{"sheet":"Unterrichtsliste","index":19,"n_rows":136,"n_cols":2,"rows_kept":136,"cut":false,"hidden":false,"merged":[]}
["Langname","Kurzname"]
["Physik","Phy"]
["Kunst","Ku"]
["Bildhaftes Gestalten/Design","BGD"]
["Biologie","Bio"]
["Gemeinschaftskunde","Gk"]
["Chemie","Che"]
["Mathematik","M "]
["Datenverarbeitung/Informatik","Inf"]
["Deutsch","D"]
["Geographie","Geo"]
["Verbraucherbildung","Vbb"]
["Astronomie","Astro"]
["Politik","Pol"]
["Geschichte","Ges"]
["Altgriechisch","Agri"]
["Geologie","Geol"]
["Sport","Spo"]
["Sport/Sporttheorie","SpSt"]
["Textillehre","Tex"]
["Neugriechisch","Gri"]
["Italienisch","Ita"]
["Musik","Mu"]
["Kunstgeschichte","KuGes"]
["Philosophie","Phil"]
["Wirtschaft/Politik","WiPo"]
["Orchester/Chor","OrCh"]
["Rechtskunde","Reku"]
["Sachunterricht","Sach"]
["Türkisch","Tr"]
["Technik","Tec"]
["Polnisch","Poln"]
["Technisches Werken","Werk"]
["Deutsch als Zweitsprache","DaZ"]
["Friesisch","Fri"]
["Niederdeutsch","Nied"]
["Heilpädagogik","HPd"]
["Sonderpädagogik","SoPd"]
["Eurythmie","Eur"]
["Naturwissenschaft","Nawi"]
["Lernzeit / freies Lernen / Eigenverantwortliches Lernen in der Schule (EVA)","EVA"]
["Klassenlehrerstunde / Klassenrat / Eingangszeit","KL"]
["Schwimmen","Schw"]
["Verkehrserziehung","Verk"]
["Dänisch - 1. Fremdsprache","Dk"]
["Weltkunde","Weku"]
["Englisch - 1. Fremdsprache","E"]
["Wirtschaftslehre/Wirtschaft","Wi"]
["Französisch - 1. Fremdsprache","F"]
["Latein - 1. Fremdsprache","L"]
["Ethik","Eth"]
["Islamkunde","Isl"]
["Religion, katholisch","RelRk"]
["Religion, evangelisch","RelEv"]
["Spanisch - 1. Fremdsprache","Spa"]
["Dänisch - 2. Fremdsprache","Dk"]
["Englisch - 2. Fremdsprache","E"]
["Französisch - 2. Fremdsprache","F"]
["Latein - 2. Fremdsprache","L"]
["Spanisch - 2. Fremdsprache","Spa"]
["Dänisch - 3. Fremdsprache","Dk"]
["Englisch - 3. Fremdsprache","E"]
["Französisch - 3. Fremdsprache","F"]
["Latein - 3. Fremdsprache","L"]
["Russisch - 3. Fremdsprache","Rus"]
["Spanisch - 3. Fremdsprache","Spa"]
["Dänisch - 4. Fremdsprache","Dk"]
["Französisch - 4. Fremdsprache","F"]
["Latein - 4. Fremdsprache","L"]
["Russisch - 4. Fremdsprache","Rus"]
["Spanisch - 4. Fremdsprache","Spa"]
["Dänisch","Dk"]
["Französisch","F"]
["Latein","L"]
["Russisch","Rus"]
["Spanisch","Spa"]
["sonstige moderne Fremdsprachen","SmF"]
["sonstige alte Fremdsprachen","SaF"]
["Chinesisch","Chin"]
["Agrartechnik mit Biologie","AgrBio"]
["Bautechnik","BauTec"]
["Darstellendes Spiel","DSP"]
["Datenverarbeitungstechnik","DvTec"]
["Elektrotechnik","ETec"]
["Ernährungslehre mit Chemie","ErCh"]
["Gesundheit / Gesundheit und Pflege","GuP"]
["Literatur","Lit"]
["Maschinenbautechnik","MbTec"]
["Pädagogik/Psychologie","PdPsy"]
["Rechnungswesen","Rwes"]
["Rechtslehre / Recht","Recht"]
["Sporttheorie","Spt"]
["Wirtschaftsgeographie","WiGeo"]
["Wirtschaftstheorie und -politik","WitPol"]
["Wirtschaftsenglisch","WiEng"]
["Profilseminar","PS"]
["BO-Seminar","BO "]
["Seminarfach","Sem"]
["Projektunterricht","PU"]
["Unterricht in Praxis-Klasse / Zeit im Betrieb","Prax"]
["Kommunikation und Präsentation (Lernen in der Schule)","KoP"]
["Lernen in der Praxis","LeP"]
["Arbeitsgemeinschaft (AG)","AG"]
["WPU - Angewandte Informatik","WPU Inf"]
["WPU - Arbeit/Wirtschaft und Verbraucherbildung","WPU AWiV"]
["WPU - Ästhetische Bildung","WPU Aesth"]
["WPU - Darstellendes Spiel","WPU DSP"]
["WPU - Deutsche Gebärdensprache (DGS)","WPU DGS"]
["WPU - Gesellschaftswissenschaften","WPU Gewi"]
["WPU - Gestalten","WPU Gst"]
["WPU - Naturwissenschaften","WPU Nawi"]
["WPU - Sport","WPU Spo"]
["WPU - Technik","WPU Tec"]
["WPU - Textillehre","WPU Tex"]
["WPU - Wirtschaftslehre","WPU Wi"]
["WPU - sonstiges Fach","WPU So"]
["sonstiges Fach / sonstiger Kurs","SFSK"]
[]
[]
[]
[]
[]
[]
[]
[]
[]
[]
[]
[]
["ID / Kürzel","Angebotsname"]
["2506","WPU 7 Biogarten"]
["2501","WPU 7 Französisch"]
["2503","WPU 7 Gesund und fit"]
["2504","WPU 7 Informatik"]
["2505","WPU 7 Technik"]
["2502","WPU 7 WiPo"]